{"text_format":"1","workbook":"xlsx","n_sheets":5,"sheets":["Disclaimer","Notes>>","Data input","Results","Working"],"not_rendered":{"charts":0,"images":0,"macros":1,"external_links":0,"defined_names":9,"comments":0,"pivot_tables":0},"unopened":[],"bounds":{"document_bytes":16777216,"sheet_cells":100000,"rows_first":2000,"rows_last":500,"rows_between":2000,"halvings":0,"cell_chars":16384,"cell_head_chars":4096},"cells_cut":0,"cells_raw":0,"read":"whole","date_system":"1900"}

{"sheet":"Disclaimer","index":0,"n_rows":11,"n_cols":1,"rows_kept":11,"cut":false,"hidden":false,"merged":[]}
["About Concept"]
["     Concept is a specialist energy and economics consultancy that provides services to clients in New Zealand, Australia and the wider Asia-Pacific region."]
["     Concept provides advice on energy sector policy, business analysis, restructuring, market design, regulatory issues, energy modelling, market analysis, and technical issues."]
["     Combining economic rigour, leading modelling & analytical skills, and practical backgrounds in the energy sector, Concept consultants are able to provide practical solutions to client problems based on robust analysis."]
["     For more information, visit www.concept.co.nz or email info@concept.co.nz."]
[]
["Disclaimer"]
["    This statistical tool has been prepared by Concept Consulting for the Electricity Authority."]
["    The tool is in draft, pending review by the Authority."]
["    Concept and its staff shall not, and do not, accept any liability for errors or omissions in the model or for any consequences of reliance on its content or results.  "]
["         "]

{"sheet":"Notes>>","index":1,"n_rows":21,"n_cols":1,"rows_kept":21,"cut":false,"hidden":false,"merged":[]}
["Introduction "]
["    The tool enables users to obtain point and interval estimates of the accuracy of the DUML database, based on a randomised survey."]
["    For more information on the tool or the DUML database auditing process, please email jonathon.staite@ea.govt.nz."]
[]
["Instructions"]
["    All inputs should be entered in the 'Data Input' sheet. You need not change any other sheet."]
["    First, enter information about the strata into the table in columns G and H. "]
["    Provide the name of each stratum (column G), and that stratum's total wattage according to the DUML database (column H)."]
["    Second, enter survey results into the table in columns B-E."]
["    For each area unit surveyed, there will be one row of data."]
["    Provide the stratum name in column B (which must match a stratum in column H). If the area unit sampled has a name or ID number, enter that in column C."]
["    Enter the observed wattage based on the survey in column D, and the theoretical wattage based on the DUML database in column E. (If the database was perfectly accurate, these two numbers would be the same.)"]
["    Enter the estimated annual \"on time\" in cell J2. This is the total time in hours that the DUML database load is switched on in a year period. If this time is unknown assume 4271 hours (based on analysis of SCADA data that indicates an average on time of 11.7 hours per day)."]
["    You may find the 'Clear Inputs' button useful for getting rid of the dummy data that is currently present."]
[]
["     Once all inputs have been entered, click the button located in the 'Results' sheet. This will calculate the point and interval estimates, which will appear in red and green."]
["     Note that the calculation takes several minutes to complete."]
["     If you change any inputs, please click the button again to rerun the calculation."]
[]
["This model requires that users have Excel 2007 or later."]
["You must enable macros."]

{"sheet":"Data input","index":2,"n_rows":201,"n_cols":17,"rows_kept":201,"cut":false,"hidden":false,"merged":[]}
["Sample #","Stratum","Area unit","Survey wattage","DUML database wattage","check","Stratum","Total wattage from DUML database",null,"Estimated annual \"on time\" (hr)",null,"check","check"]
[1,"CBD",null,10290,10220,{"$f":"IFERROR(D2/E2,\"\")","v":1.0068493150684932},"CBD",1000000,null,4271,null,{"$f":"IF(G2<>\"\",IF(COUNTIF(B2:B201,G2)<2,1,0),0)","v":0},{"$f":"IF(SUMIF(B2:$B$201,G2,E2:$E$201)>H2,1,0)","v":0}]
[{"$f":"IF(ISBLANK(B3),\"\",A2+1)","v":2},"CBD",null,15450,13200,{"$f":"IFERROR(D3/E3,\"\")","v":1.1704545454545454},"Small town",200000,null,null,null,{"$f":"IF(G3<>\"\",IF(COUNTIF(B3:B202,G3)<2,1,0),0)","v":0},{"$f":"IF(SUMIF(B3:$B$201,G3,E3:$E$201)>H3,1,0)","v":0},null,"Checks"]
[{"$f":"IF(ISBLANK(B4),\"\",A3+1)","v":3},"CBD",null,24500,22040,1.1116152450090744,null,null,null,null,null,0,{"$f":"IF(SUMIF(B4:$B$201,G4,E4:$E$201)>H4,1,0)","v":0},null,null,"missing data",{"$f":"IF(COUNT(A2:A21)*2>COUNT(D2:E21),1,0)","v":0}]
[4,"CBD",null,19410,18080,1.0735619469026549,null,null,null,null,null,0,{"$f":"IF(SUMIF(B5:$B$201,G5,E5:$E$201)>H5,1,0)","v":0},null,null,"less than two samples for strata",{"$f":"MAX(L2:L11)","v":0}]
[5,"CBD",null,24080,20710,1.1627233220666344,null,null,null,null,null,0,{"$f":"IF(SUMIF(B6:$B$201,G6,E6:$E$201)>H6,1,0)","v":0},null,null,"sampled wattage exceeds total wattage",{"$f":"MAX(M2:M11)","v":0}]
[6,"CBD",null,28750,28970,0.99240593717638936,null,null,null,null,null,0,{"$f":"IF(SUMIF(B7:$B$201,G7,E7:$E$201)>H7,1,0)","v":0},null,null,"Stratum has null total wattage",{"$f":"IF(MIN(H2:H11)<=0,1,0)","v":0}]
[7,"CBD",null,19970,20960,0.95276717557251911,null,null,null,null,null,0,{"$f":"IF(SUMIF(B8:$B$201,G8,E8:$E$201)>H8,1,0)","v":0},null,null,"constant difference between recorded and observed wattage for each area unit",{"$f":"IF(MAX(F2:F201)=MIN(F2:F201),1,0)","v":0}]
[8,"CBD",null,37000,36720,1.0076252723311547,null,null,null,null,null,0,{"$f":"IF(SUMIF(B9:$B$201,G9,E9:$E$201)>H9,1,0)","v":0},null,null,"large difference between recorded and observed wattage for a area unit",{"$f":"IF(MAX(F2:F201)>1.5,1,IF(MIN(F2:F201)<0.5,1,0))","v":0}]
[9,"CBD",null,24130,24000,1.0054166666666666,null,null,null,null,null,0,{"$f":"IF(SUMIF(B10:$B$201,G10,E10:$E$201)>H10,1,0)","v":0}]
[10,"CBD",null,28930,28890,1.0013845621322257,null,null,null,null,null,0,{"$f":"IF(SUMIF(B11:$B$201,G11,E11:$E$201)>H11,1,0)","v":0}]
[11,"CBD",null,26060,22300,1.1686098654708521]
[12,"CBD",null,19900,20430,0.97405775819872731]
[13,"CBD",null,48800,46500,1.0494623655913979]
[14,"CBD",null,11100,10240,1.083984375]
[15,"CBD",null,6960,6720,1.0357142857142858]
[16,"CBD",null,8480,8140,1.0417690417690417]
[17,"Small town",null,28750,28970,0.99240593717638936]
[18,"Small town",null,19970,20960,0.95276717557251911]
[19,"Small town",null,37000,36720,1.0076252723311547]
[20,"Small town",null,24130,24000,1.0054166666666666]
["",null,null,null,null,""]
["",null,null,null,null,""]
["",null,null,null,null,""]
["",null,null,null,null,""]
["",null,null,null,null,""]
["",null,null,null,null,""]
["",null,null,null,null,""]
["",null,null,null,null,""]
["",null,null,null,null,""]
["",null,null,null,null,""]
["",null,null,null,null,""]
["",null,null,null,null,""]
["",null,null,null,null,""]
["",null,null,null,null,""]
["",null,null,null,null,""]
["",null,null,null,null,""]
["",null,null,null,null,""]
["",null,null,null,null,""]
["",null,null,null,null,""]
["",null,null,null,null,""]
["",null,null,null,null,""]
["",null,null,null,null,""]
["",null,null,null,null,""]
["",null,null,null,null,""]
["",null,null,null,null,""]
["",null,null,null,null,""]
["",null,null,null,null,""]
["",null,null,null,null,""]
["",null,null,null,null,""]
["",null,null,null,null,""]
["",null,null,null,null,""]
["",null,null,null,null,""]
["",null,null,null,null,""]
["",null,null,null,null,""]
["",null,null,null,null,""]
["",null,null,null,null,""]
["",null,null,null,null,""]
["",null,null,null,null,""]
["",null,null,null,null,""]
["",null,null,null,null,""]
["",null,null,null,null,""]
["",null,null,null,null,""]
["",null,null,null,null,""]
["",null,null,null,null,""]
["",null,null,null,null,""]
["",null,null,null,null,{"$f":"IFERROR(D67/E67,\"\")","v":""}]
[{"$f":"IF(ISBLANK(B68),\"\",A67+1)","v":""},null,null,null,null,""]
["",null,null,null,null,""]
["",null,null,null,null,""]
["",null,null,null,null,""]
["",null,null,null,null,""]
["",null,null,null,null,""]
["",null,null,null,null,""]
["",null,null,null,null,""]
["",null,null,null,null,""]
["",null,null,null,null,""]
["",null,null,null,null,""]
["",null,null,null,null,""]
["",null,null,null,null,""]
["",null,null,null,null,""]
["",null,null,null,null,""]
["",null,null,null,null,""]
["",null,null,null,null,""]
["",null,null,null,null,""]
["",null,null,null,null,""]
["",null,null,null,null,""]
["",null,null,null,null,""]
["",null,null,null,null,""]
["",null,null,null,null,""]
["",null,null,null,null,""]
["",null,null,null,null,""]
["",null,null,null,null,""]
["",null,null,null,null,""]
["",null,null,null,null,""]
["",null,null,null,null,""]
["",null,null,null,null,""]
["",null,null,null,null,""]
["",null,null,null,null,""]
["",null,null,null,null,""]
["",null,null,null,null,""]
["",null,null,null,null,""]
["",null,null,null,null,""]
["",null,null,null,null,""]
["",null,null,null,null,""]
["",null,null,null,null,""]
["",null,null,null,null,""]
["",null,null,null,null,""]
["",null,null,null,null,""]
["",null,null,null,null,""]
["",null,null,null,null,""]
["",null,null,null,null,""]
["",null,null,null,null,""]
["",null,null,null,null,""]
["",null,null,null,null,""]
["",null,null,null,null,""]
["",null,null,null,null,""]
["",null,null,null,null,""]
["",null,null,null,null,""]
["",null,null,null,null,""]
["",null,null,null,null,""]
["",null,null,null,null,""]
["",null,null,null,null,""]
["",null,null,null,null,""]
["",null,null,null,null,""]
["",null,null,null,null,""]
["",null,null,null,null,""]
["",null,null,null,null,""]
["",null,null,null,null,""]
["",null,null,null,null,""]
["",null,null,null,null,{"$f":"IFERROR(D131/E131,\"\")","v":""}]
[{"$f":"IF(ISBLANK(B132),\"\",A131+1)","v":""},null,null,null,null,""]
["",null,null,null,null,""]
["",null,null,null,null,""]
["",null,null,null,null,""]
["",null,null,null,null,""]
["",null,null,null,null,""]
["",null,null,null,null,""]
["",null,null,null,null,""]
["",null,null,null,null,""]
["",null,null,null,null,""]
["",null,null,null,null,""]
["",null,null,null,null,""]
["",null,null,null,null,""]
["",null,null,null,null,""]
["",null,null,null,null,""]
["",null,null,null,null,""]
["",null,null,null,null,""]
["",null,null,null,null,""]
["",null,null,null,null,""]
["",null,null,null,null,""]
["",null,null,null,null,""]
["",null,null,null,null,""]
["",null,null,null,null,""]
["",null,null,null,null,""]
["",null,null,null,null,""]
["",null,null,null,null,""]
["",null,null,null,null,""]
["",null,null,null,null,""]
["",null,null,null,null,""]
["",null,null,null,null,""]
["",null,null,null,null,""]
["",null,null,null,null,""]
["",null,null,null,null,""]
["",null,null,null,null,""]
["",null,null,null,null,""]
["",null,null,null,null,""]
["",null,null,null,null,""]
["",null,null,null,null,""]
["",null,null,null,null,""]
["",null,null,null,null,""]
["",null,null,null,null,""]
["",null,null,null,null,""]
["",null,null,null,null,""]
["",null,null,null,null,""]
["",null,null,null,null,""]
["",null,null,null,null,""]
["",null,null,null,null,""]
["",null,null,null,null,""]
["",null,null,null,null,""]
["",null,null,null,null,""]
["",null,null,null,null,""]
["",null,null,null,null,""]
["",null,null,null,null,""]
["",null,null,null,null,""]
["",null,null,null,null,""]
["",null,null,null,null,""]
["",null,null,null,null,""]
["",null,null,null,null,""]
["",null,null,null,null,""]
["",null,null,null,null,""]
["",null,null,null,null,""]
["",null,null,null,null,""]
["",null,null,null,null,""]
["",null,null,null,null,{"$f":"IFERROR(D195/E195,\"\")","v":""}]
[{"$f":"IF(ISBLANK(B196),\"\",A195+1)","v":""},null,null,null,null,""]
["",null,null,null,null,""]
["",null,null,null,null,""]
["",null,null,null,null,""]
["",null,null,null,null,""]
[{"$f":"IF(ISBLANK(B201),\"\",A200+1)","v":""},null,null,null,null,""]

{"sheet":"Results","index":3,"n_rows":14,"n_cols":6,"rows_kept":14,"cut":false,"hidden":false,"merged":[]}
["Stratum","Estimated wattage from survey (MW)","Total wattage from DUML database (MW)","Ratio"]
[{"$f":"IF(ISBLANK('Data input'!G2),\"\",'Data input'!G2)","v":"CBD"},{"$f":"IF(A2=\"\",\"\",(1/1000000)*VLOOKUP(A2,'Data input'!G$2:H$11,2,FALSE)*SUMIF('Data input'!B$2:B$201,A2,'Data input'!D$2:D$201)/SUMIF('Data input'!B$2:B$201,A2,'Data input'!E$2:E$201))","v":1.0464036436768012},{"$f":"IF(A2=\"\",\"\",'Data input'!H2/1000000)","v":1},{"$f":"IF(B2=\"\",\"\",B2/C2)","v":1.0464036436768012},null,{"$f":"\"The point estimate of R is \"&TEXT(D12,\"00.0%\")&\" (as calculated in the table to the left).\"","v":"The point estimate of R is 103.7% (as calculated in the table to the left)."}]
[{"$f":"IF(ISBLANK('Data input'!G3),\"\",'Data input'!G3)","v":"Small town"},{"$f":"IF(A3=\"\",\"\",(1/1000000)*VLOOKUP(A3,'Data input'!G$2:H$11,2,FALSE)*SUMIF('Data input'!B$2:B$201,A3,'Data input'!D$2:D$201)/SUMIF('Data input'!B$2:B$201,A3,'Data input'!E$2:E$201))","v":0.19855399909624941},{"$f":"IF(A3=\"\",\"\",'Data input'!H3/1000000)","v":0.2},{"$f":"IF(B3=\"\",\"\",B3/C3)","v":0.992769995481247}]
[{"$f":"IF(ISBLANK('Data input'!G4),\"\",'Data input'!G4)","v":""},{"$f":"IF(A4=\"\",\"\",(1/1000000)*VLOOKUP(A4,'Data input'!G$2:H$11,2,FALSE)*SUMIF('Data input'!B$2:B$201,A4,'Data input'!D$2:D$201)/SUMIF('Data input'!B$2:B$201,A4,'Data input'!E$2:E$201))","v":""},{"$f":"IF(A4=\"\",\"\",'Data input'!H4/1000000)","v":""},"",null,{"$f":"\"A \"&TEXT(Working!AF2,\"00.0%\")&\" confidence interval for R is from \"&TEXT(Working!AA2,\"00.0%\")&\" to \"&TEXT(Working!AB2,\"00.0%\")&\".\"","v":"A 95.0% confidence interval for R is from 101.3% to 107.0%."}]
[{"$f":"IF(ISBLANK('Data input'!G5),\"\",'Data input'!G5)","v":""},{"$f":"IF(A5=\"\",\"\",(1/1000000)*VLOOKUP(A5,'Data input'!G$2:H$11,2,FALSE)*SUMIF('Data input'!B$2:B$201,A5,'Data input'!D$2:D$201)/SUMIF('Data input'!B$2:B$201,A5,'Data input'!E$2:E$201))","v":""},{"$f":"IF(A5=\"\",\"\",'Data input'!H5/1000000)","v":""},""]
[{"$f":"IF(ISBLANK('Data input'!G6),\"\",'Data input'!G6)","v":""},{"$f":"IF(A6=\"\",\"\",(1/1000000)*VLOOKUP(A6,'Data input'!G$2:H$11,2,FALSE)*SUMIF('Data input'!B$2:B$201,A6,'Data input'!D$2:D$201)/SUMIF('Data input'!B$2:B$201,A6,'Data input'!E$2:E$201))","v":""},{"$f":"IF(A6=\"\",\"\",'Data input'!H6/1000000)","v":""},""]
[{"$f":"IF(ISBLANK('Data input'!G7),\"\",'Data input'!G7)","v":""},{"$f":"IF(A7=\"\",\"\",(1/1000000)*VLOOKUP(A7,'Data input'!G$2:H$11,2,FALSE)*SUMIF('Data input'!B$2:B$201,A7,'Data input'!D$2:D$201)/SUMIF('Data input'!B$2:B$201,A7,'Data input'!E$2:E$201))","v":""},{"$f":"IF(A7=\"\",\"\",'Data input'!H7/1000000)","v":""},""]
[{"$f":"IF(ISBLANK('Data input'!G8),\"\",'Data input'!G8)","v":""},{"$f":"IF(A8=\"\",\"\",(1/1000000)*VLOOKUP(A8,'Data input'!G$2:H$11,2,FALSE)*SUMIF('Data input'!B$2:B$201,A8,'Data input'!D$2:D$201)/SUMIF('Data input'!B$2:B$201,A8,'Data input'!E$2:E$201))","v":""},{"$f":"IF(A8=\"\",\"\",'Data input'!H8/1000000)","v":""},"",null,{"$f":"\"In absolute terms, true wattage is estimated to be \"&ROUND(ABS(B12-C12),3)&\" MW \"&IF(B12>C12,\"higher\",\"lower\")&\" than the DUML database indicates.\"","v":"In absolute terms, true wattage is estimated to be 0.045 MW higher than the DUML database indicates."}]
[{"$f":"IF(ISBLANK('Data input'!G9),\"\",'Data input'!G9)","v":""},{"$f":"IF(A9=\"\",\"\",(1/1000000)*VLOOKUP(A9,'Data input'!G$2:H$11,2,FALSE)*SUMIF('Data input'!B$2:B$201,A9,'Data input'!D$2:D$201)/SUMIF('Data input'!B$2:B$201,A9,'Data input'!E$2:E$201))","v":""},{"$f":"IF(A9=\"\",\"\",'Data input'!H9/1000000)","v":""},""]
[{"$f":"IF(ISBLANK('Data input'!G10),\"\",'Data input'!G10)","v":""},{"$f":"IF(A10=\"\",\"\",(1/1000000)*VLOOKUP(A10,'Data input'!G$2:H$11,2,FALSE)*SUMIF('Data input'!B$2:B$201,A10,'Data input'!D$2:D$201)/SUMIF('Data input'!B$2:B$201,A10,'Data input'!E$2:E$201))","v":""},{"$f":"IF(A10=\"\",\"\",'Data input'!H10/1000000)","v":""},"",null,{"$f":"\"A \"&TEXT(Working!AF2,\"00.0%\")&\" confidence interval for (true wattage - DUML database wattage) is from \"&TEXT((Working!AA2-1)*C12,\"0.000\")&\" to \"&TEXT((Working!AB2-1)*C12,\"0.000\")&\" MW.\"","v":"A 95.0% confidence interval for (true wattage - DUML database wattage) is from 0.016 to 0.084 MW."}]
[{"$f":"IF(ISBLANK('Data input'!G11),\"\",'Data input'!G11)","v":""},{"$f":"IF(A11=\"\",\"\",(1/1000000)*VLOOKUP(A11,'Data input'!G$2:H$11,2,FALSE)*SUMIF('Data input'!B$2:B$201,A11,'Data input'!D$2:D$201)/SUMIF('Data input'!B$2:B$201,A11,'Data input'!E$2:E$201))","v":""},{"$f":"IF(A11=\"\",\"\",'Data input'!H11/1000000)","v":""},""]
["Total",{"$f":"SUM(B2:B11)","v":1.2449576427730507},{"$f":"SUM(C2:C11)","v":1.2},{"$f":"B12/C12","v":1.0374647023108756},null,{"$f":"\"In absolute terms, total annual consumption is estimated to be \"&ROUND(ABS((B12-C12)*'Data input'!J2),1)&\" MWh \"&IF(B12>C12,\"higher\",\"lower\")&\" than the DUML database indicates.\"","v":"In absolute terms, total annual consumption is estimated to be 192 MWh higher than the DUML database indicates."}]
[]
[null,null,null,null,null,{"$f":"\"A \"&TEXT(Working!AF2,\"00.0%\")&\" confidence interval for (true annual consumption - DUML database annual consumption) is from \"&TEXT((Working!AA2-1)*C12*'Data input'!J2,\"0.0\")&\" to \"&TEXT((Working!AB2-1)*C12*'Data input'!J2,\"0.0\")&\" MWh.\"","v":"A 95.0% confidence interval for (true annual consumption - DUML database annual consumption) is from 67.5 to 357.2 MWh."}]

{"sheet":"Working","index":4,"n_rows":50001,"n_cols":32,"rows_kept":4500,"cut":true,"hidden":false,"merged":[],"bounds":{"rows_first":2000,"rows_last":500,"rows_between":2000,"halvings":0}}
["Sample #","Stratum","Area unit","Survey wattage","DUML database wattage",null,"Stratum","Estimated wattage from survey (MW)","Total wattage from DUML database (MW)","Ratio",null,"N","Bootstrap replication","Less than point estimate?",null,"N","Jackknife replication","Cubed deviation","Squared deviation",null,"Bias","Acceleration",null,"Lower alpha","Upper alpha",null,{"$f":"TEXT(Working!AF2,\"00.0%\")&\" CI: Lower bound\"","v":"95.0% CI: Lower bound"},"Upper bound",null,"n","reps","desired confidence level"]
[1,{"$f":"IF(A2=\"\",\"\",'Data input'!B2)","v":"CBD"},{"$f":"IF($A2=\"\",\"\",VLOOKUP($A2,'Data input'!$A$2:$E$201,COLUMN(C1),FALSE))","v":0},{"$f":"IF($A2=\"\",\"\",VLOOKUP($A2,'Data input'!$A$2:$E$201,COLUMN(D1),FALSE))","v":10290},{"$f":"IF($A2=\"\",\"\",VLOOKUP($A2,'Data input'!$A$2:$E$201,COLUMN(E1),FALSE))","v":10220},null,{"$f":"IF(ISBLANK('Data input'!G2),\"\",'Data input'!G2)","v":"CBD"},{"$f":"IF(G2=\"\",\"\",(1/1000000)*VLOOKUP(G2,'Data input'!G$2:H$11,2,FALSE)*SUMIF(B$2:B$201,G2,D$2:D$201)/SUMIF(B$2:B$201,G2,E$2:E$201))","v":1.0464036436768012},{"$f":"IF(G2=\"\",\"\",'Data input'!H2/1000000)","v":1},{"$f":"IF(H2=\"\",\"\",H2/I2)","v":1.0464036436768012},null,{"$f":"IF(M2=\"\",\"\",ROW(L2)-1)","v":1},1.0647187991646874,{"$f":"IF(L2=\"\",\"\",IF(M2<Results!D$12,1,0))","v":0},null,{"$f":"IF(A2=\"\",\"\",ROW(A2)-1)","v":1},1.0384920613593072,{"$f":"IF(P2=\"\",\"\",(AVERAGE(Q$2:Q$201)-Q2)^3)","v":-1.052366739140278E-9},{"$f":"IF(P2=\"\",\"\",(AVERAGE(Q$2:Q$201)-Q2)^2)","v":1.0346133443802106E-6},null,{"$f":"NORMINV(AVERAGE(N2:N50001),0,1)","v":4.4005524777219383E-2},{"$f":"SUM(R2:R201)/(6*(SUM(S2:S201))^1.5)","v":1.8083766302203125E-2},null,{"$f":"NORMDIST($U2+($U2+NORMINV(X4,0,1))/(1-$V2*($U2+NORMINV(X4,0,1))),0,1,1)","v":3.5319415106122867E-2},{"$f":"NORMDIST($U2+($U2+NORMINV(Y4,0,1))/(1-$V2*($U2+NORMINV(Y4,0,1))),0,1,1)","v":0.98313682327457019},null,{"$f":"PERCENTILE(M$2:M$50001,X2)","v":1.0131649245430814},{"$f":"PERCENTILE(M$2:M$50001,Y2)","v":1.069699984366975},null,{"$f":"MAX('Data input'!A2:A201)","v":20},20000,0.95]
[2,{"$f":"IF(A3=\"\",\"\",'Data input'!B3)","v":"CBD"},{"$f":"IF($A3=\"\",\"\",VLOOKUP($A3,'Data input'!$A$2:$E$201,COLUMN(C2),FALSE))","v":0},{"$f":"IF($A3=\"\",\"\",VLOOKUP($A3,'Data input'!$A$2:$E$201,COLUMN(D2),FALSE))","v":15450},{"$f":"IF($A3=\"\",\"\",VLOOKUP($A3,'Data input'!$A$2:$E$201,COLUMN(E2),FALSE))","v":13200},null,{"$f":"IF(ISBLANK('Data input'!G3),\"\",'Data input'!G3)","v":"Small town"},{"$f":"IF(G3=\"\",\"\",(1/1000000)*VLOOKUP(G3,'Data input'!G$2:H$11,2,FALSE)*SUMIF(B$2:B$201,G3,D$2:D$201)/SUMIF(B$2:B$201,G3,E$2:E$201))","v":0.19855399909624941},{"$f":"IF(G3=\"\",\"\",'Data input'!H3/1000000)","v":0.2},{"$f":"IF(H3=\"\",\"\",H3/I3)","v":0.992769995481247},null,{"$f":"IF(M3=\"\",\"\",ROW(L3)-1)","v":2},1.0364951247505843,{"$f":"IF(L3=\"\",\"\",IF(M3<Results!D$12,1,0))","v":1},null,{"$f":"IF(A3=\"\",\"\",ROW(A3)-1)","v":2},1.0332650226372475,{"$f":"IF(P3=\"\",\"\",(AVERAGE(Q$2:Q$201)-Q3)^3)","v":7.4612041863086389E-8},{"$f":"IF(P3=\"\",\"\",(AVERAGE(Q$2:Q$201)-Q3)^2)","v":1.7723083495019366E-5}]
[3,{"$f":"IF(A4=\"\",\"\",'Data input'!B4)","v":"CBD"},{"$f":"IF($A4=\"\",\"\",VLOOKUP($A4,'Data input'!$A$2:$E$201,COLUMN(C3),FALSE))","v":0},{"$f":"IF($A4=\"\",\"\",VLOOKUP($A4,'Data input'!$A$2:$E$201,COLUMN(D3),FALSE))","v":24500},{"$f":"IF($A4=\"\",\"\",VLOOKUP($A4,'Data input'!$A$2:$E$201,COLUMN(E3),FALSE))","v":22040},null,{"$f":"IF(ISBLANK('Data input'!G4),\"\",'Data input'!G4)","v":""},{"$f":"IF(G4=\"\",\"\",(1/1000000)*VLOOKUP(G4,'Data input'!G$2:H$11,2,FALSE)*SUMIF(B$2:B$201,G4,D$2:D$201)/SUMIF(B$2:B$201,G4,E$2:E$201))","v":""},{"$f":"IF(G4=\"\",\"\",'Data input'!H4/1000000)","v":""},"",null,{"$f":"IF(M4=\"\",\"\",ROW(L4)-1)","v":3},1.0201471021889923,{"$f":"IF(L4=\"\",\"\",IF(M4<Results!D$12,1,0))","v":1},null,3,1.0336754092696536,{"$f":"IF(P4=\"\",\"\",(AVERAGE(Q$2:Q$201)-Q4)^3)","v":5.4850024134089418E-8},{"$f":"IF(P4=\"\",\"\",(AVERAGE(Q$2:Q$201)-Q4)^2)","v":1.4436144327537528E-5},null,null,null,"Naïve:",{"$f":"(1-Working!AF2)/2","v":2.5000000000000022E-2},{"$f":"(1+Working!AF2)/2","v":0.97499999999999998},null,{"$f":"PERCENTILE(M$2:M$50001,X4)","v":1.0113711767395248},{"$f":"PERCENTILE(M$2:M$50001,Y4)","v":1.067291728097497}]
[4,{"$f":"IF(A5=\"\",\"\",'Data input'!B5)","v":"CBD"},{"$f":"IF($A5=\"\",\"\",VLOOKUP($A5,'Data input'!$A$2:$E$201,COLUMN(C4),FALSE))","v":0},{"$f":"IF($A5=\"\",\"\",VLOOKUP($A5,'Data input'!$A$2:$E$201,COLUMN(D4),FALSE))","v":19410},{"$f":"IF($A5=\"\",\"\",VLOOKUP($A5,'Data input'!$A$2:$E$201,COLUMN(E4),FALSE))","v":18080},null,{"$f":"IF(ISBLANK('Data input'!G5),\"\",'Data input'!G5)","v":""},{"$f":"IF(G5=\"\",\"\",(1/1000000)*VLOOKUP(G5,'Data input'!G$2:H$11,2,FALSE)*SUMIF(B$2:B$201,G5,D$2:D$201)/SUMIF(B$2:B$201,G5,E$2:E$201))","v":""},{"$f":"IF(G5=\"\",\"\",'Data input'!H5/1000000)","v":""},"",null,4,1.0292045203789146,{"$f":"IF(L5=\"\",\"\",IF(M5<Results!D$12,1,0))","v":1},null,4,1.0361861586852781,{"$f":"IF(P5=\"\",\"\",(AVERAGE(Q$2:Q$201)-Q5)^3)","v":2.1404209136868189E-9},1.6608591004508398E-6]
[5,{"$f":"IF(A6=\"\",\"\",'Data input'!B6)","v":"CBD"},{"$f":"IF($A6=\"\",\"\",VLOOKUP($A6,'Data input'!$A$2:$E$201,COLUMN(C5),FALSE))","v":0},{"$f":"IF($A6=\"\",\"\",VLOOKUP($A6,'Data input'!$A$2:$E$201,COLUMN(D5),FALSE))","v":24080},{"$f":"IF($A6=\"\",\"\",VLOOKUP($A6,'Data input'!$A$2:$E$201,COLUMN(E5),FALSE))","v":20710},null,{"$f":"IF(ISBLANK('Data input'!G6),\"\",'Data input'!G6)","v":""},{"$f":"IF(G6=\"\",\"\",(1/1000000)*VLOOKUP(G6,'Data input'!G$2:H$11,2,FALSE)*SUMIF(B$2:B$201,G6,D$2:D$201)/SUMIF(B$2:B$201,G6,E$2:E$201))","v":""},{"$f":"IF(G6=\"\",\"\",'Data input'!H6/1000000)","v":""},"",null,5,1.0187299534329186,{"$f":"IF(L6=\"\",\"\",IF(M6<Results!D$12,1,0))","v":1},null,5,1.031140125949457,2.5421067277853477E-7,4.0129386476093927E-5]
[6,{"$f":"IF(A7=\"\",\"\",'Data input'!B7)","v":"CBD"},{"$f":"IF($A7=\"\",\"\",VLOOKUP($A7,'Data input'!$A$2:$E$201,COLUMN(C6),FALSE))","v":0},{"$f":"IF($A7=\"\",\"\",VLOOKUP($A7,'Data input'!$A$2:$E$201,COLUMN(D6),FALSE))","v":28750},{"$f":"IF($A7=\"\",\"\",VLOOKUP($A7,'Data input'!$A$2:$E$201,COLUMN(E6),FALSE))","v":28970},null,{"$f":"IF(ISBLANK('Data input'!G7),\"\",'Data input'!G7)","v":""},{"$f":"IF(G7=\"\",\"\",(1/1000000)*VLOOKUP(G7,'Data input'!G$2:H$11,2,FALSE)*SUMIF(B$2:B$201,G7,D$2:D$201)/SUMIF(B$2:B$201,G7,E$2:E$201))","v":""},{"$f":"IF(G7=\"\",\"\",'Data input'!H7/1000000)","v":""},"",null,6,1.036591952266029,{"$f":"IF(L7=\"\",\"\",IF(M7<Results!D$12,1,0))","v":1},null,6,1.0416814082177086,-7.4432847438679928E-8,{"$f":"IF(P7=\"\",\"\",(AVERAGE(Q$2:Q$201)-Q7)^2)","v":1.7694695312927044E-5}]
[7,{"$f":"IF(A8=\"\",\"\",'Data input'!B8)","v":"CBD"},{"$f":"IF($A8=\"\",\"\",VLOOKUP($A8,'Data input'!$A$2:$E$201,COLUMN(C7),FALSE))","v":0},{"$f":"IF($A8=\"\",\"\",VLOOKUP($A8,'Data input'!$A$2:$E$201,COLUMN(D7),FALSE))","v":19970},{"$f":"IF($A8=\"\",\"\",VLOOKUP($A8,'Data input'!$A$2:$E$201,COLUMN(E7),FALSE))","v":20960},null,{"$f":"IF(ISBLANK('Data input'!G8),\"\",'Data input'!G8)","v":""},{"$f":"IF(G8=\"\",\"\",(1/1000000)*VLOOKUP(G8,'Data input'!G$2:H$11,2,FALSE)*SUMIF(B$2:B$201,G8,D$2:D$201)/SUMIF(B$2:B$201,G8,E$2:E$201))","v":""},{"$f":"IF(G8=\"\",\"\",'Data input'!H8/1000000)","v":""},"",null,7,1.0420429088965686,{"$f":"IF(L8=\"\",\"\",IF(M8<Results!D$12,1,0))","v":0},null,7,1.0426214590778746,-1.363171205078362E-7,2.6487050677472651E-5]
[8,{"$f":"IF(A9=\"\",\"\",'Data input'!B9)","v":"CBD"},{"$f":"IF($A9=\"\",\"\",VLOOKUP($A9,'Data input'!$A$2:$E$201,COLUMN(C8),FALSE))","v":0},{"$f":"IF($A9=\"\",\"\",VLOOKUP($A9,'Data input'!$A$2:$E$201,COLUMN(D8),FALSE))","v":37000},{"$f":"IF($A9=\"\",\"\",VLOOKUP($A9,'Data input'!$A$2:$E$201,COLUMN(E8),FALSE))","v":36720},null,{"$f":"IF(ISBLANK('Data input'!G9),\"\",'Data input'!G9)","v":""},{"$f":"IF(G9=\"\",\"\",(1/1000000)*VLOOKUP(G9,'Data input'!G$2:H$11,2,FALSE)*SUMIF(B$2:B$201,G9,D$2:D$201)/SUMIF(B$2:B$201,G9,E$2:E$201))","v":""},{"$f":"IF(G9=\"\",\"\",'Data input'!H9/1000000)","v":""},"",null,8,1.041859023639377,{"$f":"IF(L9=\"\",\"\",IF(M9<Results!D$12,1,0))","v":0},null,8,1.041401723422942,-6.0551301814125457E-8,1.5419927190895986E-5]
[9,{"$f":"IF(A10=\"\",\"\",'Data input'!B10)","v":"CBD"},{"$f":"IF($A10=\"\",\"\",VLOOKUP($A10,'Data input'!$A$2:$E$201,COLUMN(C9),FALSE))","v":0},{"$f":"IF($A10=\"\",\"\",VLOOKUP($A10,'Data input'!$A$2:$E$201,COLUMN(D9),FALSE))","v":24130},{"$f":"IF($A10=\"\",\"\",VLOOKUP($A10,'Data input'!$A$2:$E$201,COLUMN(E9),FALSE))","v":24000},null,{"$f":"IF(ISBLANK('Data input'!G10),\"\",'Data input'!G10)","v":""},{"$f":"IF(G10=\"\",\"\",(1/1000000)*VLOOKUP(G10,'Data input'!G$2:H$11,2,FALSE)*SUMIF(B$2:B$201,G10,D$2:D$201)/SUMIF(B$2:B$201,G10,E$2:E$201))","v":""},{"$f":"IF(G10=\"\",\"\",'Data input'!H10/1000000)","v":""},"",null,9,1.0301595506556915,{"$f":"IF(L10=\"\",\"\",IF(M10<Results!D$12,1,0))","v":1},null,9,1.0400743404752799,-1.756461655301611E-8,6.7570808522759443E-6]
[10,{"$f":"IF(A11=\"\",\"\",'Data input'!B11)","v":"CBD"},{"$f":"IF($A11=\"\",\"\",VLOOKUP($A11,'Data input'!$A$2:$E$201,COLUMN(C10),FALSE))","v":0},{"$f":"IF($A11=\"\",\"\",VLOOKUP($A11,'Data input'!$A$2:$E$201,COLUMN(D10),FALSE))","v":28930},{"$f":"IF($A11=\"\",\"\",VLOOKUP($A11,'Data input'!$A$2:$E$201,COLUMN(E10),FALSE))","v":28890},null,{"$f":"IF(ISBLANK('Data input'!G11),\"\",'Data input'!G11)","v":""},{"$f":"IF(G11=\"\",\"\",(1/1000000)*VLOOKUP(G11,'Data input'!G$2:H$11,2,FALSE)*SUMIF(B$2:B$201,G11,D$2:D$201)/SUMIF(B$2:B$201,G11,E$2:E$201))","v":""},{"$f":"IF(G11=\"\",\"\",'Data input'!H11/1000000)","v":""},"",null,10,1.0474501632726814,{"$f":"IF(L11=\"\",\"\",IF(M11<Results!D$12,1,0))","v":0},null,10,1.0409696481058683,-4.2682212362117444E-8,1.2213250970325012E-5]
[11,{"$f":"IF(A12=\"\",\"\",'Data input'!B12)","v":"CBD"},{"$f":"IF($A12=\"\",\"\",VLOOKUP($A12,'Data input'!$A$2:$E$201,COLUMN(C11),FALSE))","v":0},{"$f":"IF($A12=\"\",\"\",VLOOKUP($A12,'Data input'!$A$2:$E$201,COLUMN(D11),FALSE))","v":26060},{"$f":"IF($A12=\"\",\"\",VLOOKUP($A12,'Data input'!$A$2:$E$201,COLUMN(E11),FALSE))","v":22300},null,"Total",{"$f":"SUM(H2:H11)","v":1.2449576427730507},{"$f":"SUM(I2:I11)","v":1.2},{"$f":"H12/I12","v":1.0374647023108756},null,11,1.0255443546316478,{"$f":"IF(L12=\"\",\"\",IF(M12<Results!D$12,1,0))","v":1},null,11,1.0302739007308424,3.7340372510604192E-7,5.1854417988846628E-5]
[12,{"$f":"IF(A13=\"\",\"\",'Data input'!B13)","v":"CBD"},{"$f":"IF($A13=\"\",\"\",VLOOKUP($A13,'Data input'!$A$2:$E$201,COLUMN(C12),FALSE))","v":0},{"$f":"IF($A13=\"\",\"\",VLOOKUP($A13,'Data input'!$A$2:$E$201,COLUMN(D12),FALSE))","v":19900},{"$f":"IF($A13=\"\",\"\",VLOOKUP($A13,'Data input'!$A$2:$E$201,COLUMN(E12),FALSE))","v":20430},null,null,null,null,null,null,12,1.0578684995086372,{"$f":"IF(L13=\"\",\"\",IF(M13<Results!D$12,1,0))","v":0},null,12,1.0413417166967995,-5.7817606878549437E-8,1.4952256591858436E-5]
[13,{"$f":"IF(A14=\"\",\"\",'Data input'!B14)","v":"CBD"},{"$f":"IF($A14=\"\",\"\",VLOOKUP($A14,'Data input'!$A$2:$E$201,COLUMN(C13),FALSE))","v":0},{"$f":"IF($A14=\"\",\"\",VLOOKUP($A14,'Data input'!$A$2:$E$201,COLUMN(D13),FALSE))","v":48800},{"$f":"IF($A14=\"\",\"\",VLOOKUP($A14,'Data input'!$A$2:$E$201,COLUMN(E13),FALSE))","v":46500},null,null,null,null,null,null,13,1.0360687131135031,{"$f":"IF(L14=\"\",\"\",IF(M14<Results!D$12,1,0))","v":1},null,13,1.0370582642264143,7.2322868897527584E-11,1.735869597664611E-7]
[14,{"$f":"IF(A15=\"\",\"\",'Data input'!B15)","v":"CBD"},{"$f":"IF($A15=\"\",\"\",VLOOKUP($A15,'Data input'!$A$2:$E$201,COLUMN(C14),FALSE))","v":0},{"$f":"IF($A15=\"\",\"\",VLOOKUP($A15,'Data input'!$A$2:$E$201,COLUMN(D14),FALSE))","v":11100},{"$f":"IF($A15=\"\",\"\",VLOOKUP($A15,'Data input'!$A$2:$E$201,COLUMN(E14),FALSE))","v":10240},null,null,null,null,null,null,14,1.0490035587647144,{"$f":"IF(L15=\"\",\"\",IF(M15<Results!D$12,1,0))","v":0},null,14,1.0364866343979462,9.6521387633588823E-10,9.7667267628910938E-7]
[15,{"$f":"IF(A16=\"\",\"\",'Data input'!B16)","v":"CBD"},{"$f":"IF($A16=\"\",\"\",VLOOKUP($A16,'Data input'!$A$2:$E$201,COLUMN(C15),FALSE))","v":0},{"$f":"IF($A16=\"\",\"\",VLOOKUP($A16,'Data input'!$A$2:$E$201,COLUMN(D15),FALSE))","v":6960},{"$f":"IF($A16=\"\",\"\",VLOOKUP($A16,'Data input'!$A$2:$E$201,COLUMN(E15),FALSE))","v":6720},null,null,null,null,null,null,15,1.053452507766157,{"$f":"IF(L16=\"\",\"\",IF(M16<Results!D$12,1,0))","v":0},null,15,1.0376453311720406,-4.9503110335933967E-12,2.9046133203103929E-8]
[16,{"$f":"IF(A17=\"\",\"\",'Data input'!B17)","v":"CBD"},{"$f":"IF($A17=\"\",\"\",VLOOKUP($A17,'Data input'!$A$2:$E$201,COLUMN(C16),FALSE))","v":0},{"$f":"IF($A17=\"\",\"\",VLOOKUP($A17,'Data input'!$A$2:$E$201,COLUMN(D16),FALSE))","v":8480},{"$f":"IF($A17=\"\",\"\",VLOOKUP($A17,'Data input'!$A$2:$E$201,COLUMN(E16),FALSE))","v":8140},null,null,null,null,null,null,16,1.0517363201247665,{"$f":"IF(L17=\"\",\"\",IF(M17<Results!D$12,1,0))","v":0},null,16,1.0375599749019648,-6.1570844984712893E-13,7.2374138836773766E-9]
[17,{"$f":"IF(A18=\"\",\"\",'Data input'!B18)","v":"Small town"},{"$f":"IF($A18=\"\",\"\",VLOOKUP($A18,'Data input'!$A$2:$E$201,COLUMN(C17),FALSE))","v":0},{"$f":"IF($A18=\"\",\"\",VLOOKUP($A18,'Data input'!$A$2:$E$201,COLUMN(D17),FALSE))","v":28750},{"$f":"IF($A18=\"\",\"\",VLOOKUP($A18,'Data input'!$A$2:$E$201,COLUMN(E17),FALSE))","v":28970},null,null,null,null,null,null,17,1.0212452744976912,{"$f":"IF(L18=\"\",\"\",IF(M18<Results!D$12,1,0))","v":1},null,17,1.0374862228158783,-1.4509200634884728E-15,1.2816289950340454E-10]
[18,{"$f":"IF(A19=\"\",\"\",'Data input'!B19)","v":"Small town"},{"$f":"IF($A19=\"\",\"\",VLOOKUP($A19,'Data input'!$A$2:$E$201,COLUMN(C18),FALSE))","v":0},{"$f":"IF($A19=\"\",\"\",VLOOKUP($A19,'Data input'!$A$2:$E$201,COLUMN(D18),FALSE))","v":19970},{"$f":"IF($A19=\"\",\"\",VLOOKUP($A19,'Data input'!$A$2:$E$201,COLUMN(E18),FALSE))","v":20960},null,null,null,null,null,null,18,1.0484897529668415,{"$f":"IF(L19=\"\",\"\",IF(M19<Results!D$12,1,0))","v":0},null,18,1.0390227710388775,-3.7085378472516104E-9,2.3958988387097747E-6]
[19,{"$f":"IF(A20=\"\",\"\",'Data input'!B20)","v":"Small town"},{"$f":"IF($A20=\"\",\"\",VLOOKUP($A20,'Data input'!$A$2:$E$201,COLUMN(C19),FALSE))","v":0},{"$f":"IF($A20=\"\",\"\",VLOOKUP($A20,'Data input'!$A$2:$E$201,COLUMN(D19),FALSE))","v":37000},{"$f":"IF($A20=\"\",\"\",VLOOKUP($A20,'Data input'!$A$2:$E$201,COLUMN(E19),FALSE))","v":36720},null,null,null,null,null,null,19,1.0570320588453836,{"$f":"IF(L20=\"\",\"\",IF(M20<Results!D$12,1,0))","v":0},null,19,1.0362349675033355,1.9063214491858121E-9,1.5374373339696682E-6]
[20,{"$f":"IF(A21=\"\",\"\",'Data input'!B21)","v":"Small town"},{"$f":"IF($A21=\"\",\"\",VLOOKUP($A21,'Data input'!$A$2:$E$201,COLUMN(C20),FALSE))","v":0},{"$f":"IF($A21=\"\",\"\",VLOOKUP($A21,'Data input'!$A$2:$E$201,COLUMN(D20),FALSE))","v":24130},{"$f":"IF($A21=\"\",\"\",VLOOKUP($A21,'Data input'!$A$2:$E$201,COLUMN(E20),FALSE))","v":24000},null,null,null,null,null,null,20,1.0328992676194442,{"$f":"IF(L21=\"\",\"\",IF(M21<Results!D$12,1,0))","v":1},null,20,1.0368808975244743,2.0958922663461131E-10,3.5284121056955239E-7]
[null,{"$f":"IF(A22=\"\",\"\",'Data input'!B22)","v":""},{"$f":"IF($A22=\"\",\"\",VLOOKUP($A22,'Data input'!$A$2:$E$201,COLUMN(C21),FALSE))","v":""},{"$f":"IF($A22=\"\",\"\",VLOOKUP($A22,'Data input'!$A$2:$E$201,COLUMN(D21),FALSE))","v":""},{"$f":"IF($A22=\"\",\"\",VLOOKUP($A22,'Data input'!$A$2:$E$201,COLUMN(E21),FALSE))","v":""},null,null,null,null,null,null,21,1.0335119504399224,{"$f":"IF(L22=\"\",\"\",IF(M22<Results!D$12,1,0))","v":1},null,"",null,"",""]
[null,{"$f":"IF(A23=\"\",\"\",'Data input'!B23)","v":""},{"$f":"IF($A23=\"\",\"\",VLOOKUP($A23,'Data input'!$A$2:$E$201,COLUMN(C22),FALSE))","v":""},{"$f":"IF($A23=\"\",\"\",VLOOKUP($A23,'Data input'!$A$2:$E$201,COLUMN(D22),FALSE))","v":""},{"$f":"IF($A23=\"\",\"\",VLOOKUP($A23,'Data input'!$A$2:$E$201,COLUMN(E22),FALSE))","v":""},null,null,null,null,null,null,22,1.0428700659339762,{"$f":"IF(L23=\"\",\"\",IF(M23<Results!D$12,1,0))","v":0},null,"",null,"",""]
[null,{"$f":"IF(A24=\"\",\"\",'Data input'!B24)","v":""},{"$f":"IF($A24=\"\",\"\",VLOOKUP($A24,'Data input'!$A$2:$E$201,COLUMN(C23),FALSE))","v":""},{"$f":"IF($A24=\"\",\"\",VLOOKUP($A24,'Data input'!$A$2:$E$201,COLUMN(D23),FALSE))","v":""},{"$f":"IF($A24=\"\",\"\",VLOOKUP($A24,'Data input'!$A$2:$E$201,COLUMN(E23),FALSE))","v":""},null,null,null,null,null,null,23,1.056124437027018,{"$f":"IF(L24=\"\",\"\",IF(M24<Results!D$12,1,0))","v":0},null,"",null,"",""]
[null,{"$f":"IF(A25=\"\",\"\",'Data input'!B25)","v":""},{"$f":"IF($A25=\"\",\"\",VLOOKUP($A25,'Data input'!$A$2:$E$201,COLUMN(C24),FALSE))","v":""},{"$f":"IF($A25=\"\",\"\",VLOOKUP($A25,'Data input'!$A$2:$E$201,COLUMN(D24),FALSE))","v":""},{"$f":"IF($A25=\"\",\"\",VLOOKUP($A25,'Data input'!$A$2:$E$201,COLUMN(E24),FALSE))","v":""},null,null,null,null,null,null,24,1.0212350118520996,{"$f":"IF(L25=\"\",\"\",IF(M25<Results!D$12,1,0))","v":1},null,"",null,"",""]
[null,{"$f":"IF(A26=\"\",\"\",'Data input'!B26)","v":""},{"$f":"IF($A26=\"\",\"\",VLOOKUP($A26,'Data input'!$A$2:$E$201,COLUMN(C25),FALSE))","v":""},{"$f":"IF($A26=\"\",\"\",VLOOKUP($A26,'Data input'!$A$2:$E$201,COLUMN(D25),FALSE))","v":""},{"$f":"IF($A26=\"\",\"\",VLOOKUP($A26,'Data input'!$A$2:$E$201,COLUMN(E25),FALSE))","v":""},null,null,null,null,null,null,25,1.0251401289685333,{"$f":"IF(L26=\"\",\"\",IF(M26<Results!D$12,1,0))","v":1},null,"",null,"",""]
[null,{"$f":"IF(A27=\"\",\"\",'Data input'!B27)","v":""},{"$f":"IF($A27=\"\",\"\",VLOOKUP($A27,'Data input'!$A$2:$E$201,COLUMN(C26),FALSE))","v":""},{"$f":"IF($A27=\"\",\"\",VLOOKUP($A27,'Data input'!$A$2:$E$201,COLUMN(D26),FALSE))","v":""},{"$f":"IF($A27=\"\",\"\",VLOOKUP($A27,'Data input'!$A$2:$E$201,COLUMN(E26),FALSE))","v":""},null,null,null,null,null,null,26,1.0262043622305381,{"$f":"IF(L27=\"\",\"\",IF(M27<Results!D$12,1,0))","v":1},null,"",null,"",""]
[null,{"$f":"IF(A28=\"\",\"\",'Data input'!B28)","v":""},{"$f":"IF($A28=\"\",\"\",VLOOKUP($A28,'Data input'!$A$2:$E$201,COLUMN(C27),FALSE))","v":""},{"$f":"IF($A28=\"\",\"\",VLOOKUP($A28,'Data input'!$A$2:$E$201,COLUMN(D27),FALSE))","v":""},{"$f":"IF($A28=\"\",\"\",VLOOKUP($A28,'Data input'!$A$2:$E$201,COLUMN(E27),FALSE))","v":""},null,null,null,null,null,null,27,1.0433483410837956,{"$f":"IF(L28=\"\",\"\",IF(M28<Results!D$12,1,0))","v":0},null,"",null,"",""]
[null,{"$f":"IF(A29=\"\",\"\",'Data input'!B29)","v":""},{"$f":"IF($A29=\"\",\"\",VLOOKUP($A29,'Data input'!$A$2:$E$201,COLUMN(C28),FALSE))","v":""},{"$f":"IF($A29=\"\",\"\",VLOOKUP($A29,'Data input'!$A$2:$E$201,COLUMN(D28),FALSE))","v":""},{"$f":"IF($A29=\"\",\"\",VLOOKUP($A29,'Data input'!$A$2:$E$201,COLUMN(E28),FALSE))","v":""},null,null,null,null,null,null,28,1.0269883648516598,{"$f":"IF(L29=\"\",\"\",IF(M29<Results!D$12,1,0))","v":1},null,"",null,"",""]
[null,{"$f":"IF(A30=\"\",\"\",'Data input'!B30)","v":""},{"$f":"IF($A30=\"\",\"\",VLOOKUP($A30,'Data input'!$A$2:$E$201,COLUMN(C29),FALSE))","v":""},{"$f":"IF($A30=\"\",\"\",VLOOKUP($A30,'Data input'!$A$2:$E$201,COLUMN(D29),FALSE))","v":""},{"$f":"IF($A30=\"\",\"\",VLOOKUP($A30,'Data input'!$A$2:$E$201,COLUMN(E29),FALSE))","v":""},null,null,null,null,null,null,29,1.0305633435297834,{"$f":"IF(L30=\"\",\"\",IF(M30<Results!D$12,1,0))","v":1},null,"",null,"",""]
[null,{"$f":"IF(A31=\"\",\"\",'Data input'!B31)","v":""},{"$f":"IF($A31=\"\",\"\",VLOOKUP($A31,'Data input'!$A$2:$E$201,COLUMN(C30),FALSE))","v":""},{"$f":"IF($A31=\"\",\"\",VLOOKUP($A31,'Data input'!$A$2:$E$201,COLUMN(D30),FALSE))","v":""},{"$f":"IF($A31=\"\",\"\",VLOOKUP($A31,'Data input'!$A$2:$E$201,COLUMN(E30),FALSE))","v":""},null,null,null,null,null,null,30,1.0628387401338739,{"$f":"IF(L31=\"\",\"\",IF(M31<Results!D$12,1,0))","v":0},null,"",null,"",""]
[null,{"$f":"IF(A32=\"\",\"\",'Data input'!B32)","v":""},{"$f":"IF($A32=\"\",\"\",VLOOKUP($A32,'Data input'!$A$2:$E$201,COLUMN(C31),FALSE))","v":""},{"$f":"IF($A32=\"\",\"\",VLOOKUP($A32,'Data input'!$A$2:$E$201,COLUMN(D31),FALSE))","v":""},{"$f":"IF($A32=\"\",\"\",VLOOKUP($A32,'Data input'!$A$2:$E$201,COLUMN(E31),FALSE))","v":""},null,null,null,null,null,null,31,1.0421263490383912,{"$f":"IF(L32=\"\",\"\",IF(M32<Results!D$12,1,0))","v":0},null,"",null,"",""]
[null,{"$f":"IF(A33=\"\",\"\",'Data input'!B33)","v":""},{"$f":"IF($A33=\"\",\"\",VLOOKUP($A33,'Data input'!$A$2:$E$201,COLUMN(C32),FALSE))","v":""},{"$f":"IF($A33=\"\",\"\",VLOOKUP($A33,'Data input'!$A$2:$E$201,COLUMN(D32),FALSE))","v":""},{"$f":"IF($A33=\"\",\"\",VLOOKUP($A33,'Data input'!$A$2:$E$201,COLUMN(E32),FALSE))","v":""},null,null,null,null,null,null,32,1.0520216308607349,{"$f":"IF(L33=\"\",\"\",IF(M33<Results!D$12,1,0))","v":0},null,"",null,"",""]
[null,{"$f":"IF(A34=\"\",\"\",'Data input'!B34)","v":""},{"$f":"IF($A34=\"\",\"\",VLOOKUP($A34,'Data input'!$A$2:$E$201,COLUMN(C33),FALSE))","v":""},{"$f":"IF($A34=\"\",\"\",VLOOKUP($A34,'Data input'!$A$2:$E$201,COLUMN(D33),FALSE))","v":""},{"$f":"IF($A34=\"\",\"\",VLOOKUP($A34,'Data input'!$A$2:$E$201,COLUMN(E33),FALSE))","v":""},null,null,null,null,null,null,33,1.0286706616341399,{"$f":"IF(L34=\"\",\"\",IF(M34<Results!D$12,1,0))","v":1},null,"",null,"",""]
[null,{"$f":"IF(A35=\"\",\"\",'Data input'!B35)","v":""},{"$f":"IF($A35=\"\",\"\",VLOOKUP($A35,'Data input'!$A$2:$E$201,COLUMN(C34),FALSE))","v":""},{"$f":"IF($A35=\"\",\"\",VLOOKUP($A35,'Data input'!$A$2:$E$201,COLUMN(D34),FALSE))","v":""},{"$f":"IF($A35=\"\",\"\",VLOOKUP($A35,'Data input'!$A$2:$E$201,COLUMN(E34),FALSE))","v":""},null,null,null,null,null,null,34,1.0383016405218293,{"$f":"IF(L35=\"\",\"\",IF(M35<Results!D$12,1,0))","v":0},null,"",null,"",""]
[null,{"$f":"IF(A36=\"\",\"\",'Data input'!B36)","v":""},{"$f":"IF($A36=\"\",\"\",VLOOKUP($A36,'Data input'!$A$2:$E$201,COLUMN(C35),FALSE))","v":""},{"$f":"IF($A36=\"\",\"\",VLOOKUP($A36,'Data input'!$A$2:$E$201,COLUMN(D35),FALSE))","v":""},{"$f":"IF($A36=\"\",\"\",VLOOKUP($A36,'Data input'!$A$2:$E$201,COLUMN(E35),FALSE))","v":""},null,null,null,null,null,null,35,1.0336927885470448,{"$f":"IF(L36=\"\",\"\",IF(M36<Results!D$12,1,0))","v":1},null,"",null,"",""]
[null,{"$f":"IF(A37=\"\",\"\",'Data input'!B37)","v":""},{"$f":"IF($A37=\"\",\"\",VLOOKUP($A37,'Data input'!$A$2:$E$201,COLUMN(C36),FALSE))","v":""},{"$f":"IF($A37=\"\",\"\",VLOOKUP($A37,'Data input'!$A$2:$E$201,COLUMN(D36),FALSE))","v":""},{"$f":"IF($A37=\"\",\"\",VLOOKUP($A37,'Data input'!$A$2:$E$201,COLUMN(E36),FALSE))","v":""},null,null,null,null,null,null,36,1.0278428774565513,{"$f":"IF(L37=\"\",\"\",IF(M37<Results!D$12,1,0))","v":1},null,"",null,"",""]
[null,{"$f":"IF(A38=\"\",\"\",'Data input'!B38)","v":""},{"$f":"IF($A38=\"\",\"\",VLOOKUP($A38,'Data input'!$A$2:$E$201,COLUMN(C37),FALSE))","v":""},{"$f":"IF($A38=\"\",\"\",VLOOKUP($A38,'Data input'!$A$2:$E$201,COLUMN(D37),FALSE))","v":""},{"$f":"IF($A38=\"\",\"\",VLOOKUP($A38,'Data input'!$A$2:$E$201,COLUMN(E37),FALSE))","v":""},null,null,null,null,null,null,37,1.0471973356293081,{"$f":"IF(L38=\"\",\"\",IF(M38<Results!D$12,1,0))","v":0},null,"",null,"",""]
[null,{"$f":"IF(A39=\"\",\"\",'Data input'!B39)","v":""},{"$f":"IF($A39=\"\",\"\",VLOOKUP($A39,'Data input'!$A$2:$E$201,COLUMN(C38),FALSE))","v":""},{"$f":"IF($A39=\"\",\"\",VLOOKUP($A39,'Data input'!$A$2:$E$201,COLUMN(D38),FALSE))","v":""},{"$f":"IF($A39=\"\",\"\",VLOOKUP($A39,'Data input'!$A$2:$E$201,COLUMN(E38),FALSE))","v":""},null,null,null,null,null,null,38,1.0187767990583616,{"$f":"IF(L39=\"\",\"\",IF(M39<Results!D$12,1,0))","v":1},null,"",null,"",""]
[null,{"$f":"IF(A40=\"\",\"\",'Data input'!B40)","v":""},{"$f":"IF($A40=\"\",\"\",VLOOKUP($A40,'Data input'!$A$2:$E$201,COLUMN(C39),FALSE))","v":""},{"$f":"IF($A40=\"\",\"\",VLOOKUP($A40,'Data input'!$A$2:$E$201,COLUMN(D39),FALSE))","v":""},{"$f":"IF($A40=\"\",\"\",VLOOKUP($A40,'Data input'!$A$2:$E$201,COLUMN(E39),FALSE))","v":""},null,null,null,null,null,null,39,1.0289790958359837,{"$f":"IF(L40=\"\",\"\",IF(M40<Results!D$12,1,0))","v":1},null,"",null,"",""]
[null,{"$f":"IF(A41=\"\",\"\",'Data input'!B41)","v":""},{"$f":"IF($A41=\"\",\"\",VLOOKUP($A41,'Data input'!$A$2:$E$201,COLUMN(C40),FALSE))","v":""},{"$f":"IF($A41=\"\",\"\",VLOOKUP($A41,'Data input'!$A$2:$E$201,COLUMN(D40),FALSE))","v":""},{"$f":"IF($A41=\"\",\"\",VLOOKUP($A41,'Data input'!$A$2:$E$201,COLUMN(E40),FALSE))","v":""},null,null,null,null,null,null,40,1.0283476717044477,{"$f":"IF(L41=\"\",\"\",IF(M41<Results!D$12,1,0))","v":1},null,"",null,"",""]
[null,{"$f":"IF(A42=\"\",\"\",'Data input'!B42)","v":""},{"$f":"IF($A42=\"\",\"\",VLOOKUP($A42,'Data input'!$A$2:$E$201,COLUMN(C41),FALSE))","v":""},{"$f":"IF($A42=\"\",\"\",VLOOKUP($A42,'Data input'!$A$2:$E$201,COLUMN(D41),FALSE))","v":""},{"$f":"IF($A42=\"\",\"\",VLOOKUP($A42,'Data input'!$A$2:$E$201,COLUMN(E41),FALSE))","v":""},null,null,null,null,null,null,41,1.0588619368003724,{"$f":"IF(L42=\"\",\"\",IF(M42<Results!D$12,1,0))","v":0},null,"",null,"",""]
[null,{"$f":"IF(A43=\"\",\"\",'Data input'!B43)","v":""},{"$f":"IF($A43=\"\",\"\",VLOOKUP($A43,'Data input'!$A$2:$E$201,COLUMN(C42),FALSE))","v":""},{"$f":"IF($A43=\"\",\"\",VLOOKUP($A43,'Data input'!$A$2:$E$201,COLUMN(D42),FALSE))","v":""},{"$f":"IF($A43=\"\",\"\",VLOOKUP($A43,'Data input'!$A$2:$E$201,COLUMN(E42),FALSE))","v":""},null,null,null,null,null,null,42,1.0433218665605861,{"$f":"IF(L43=\"\",\"\",IF(M43<Results!D$12,1,0))","v":0},null,"",null,"",""]
[null,{"$f":"IF(A44=\"\",\"\",'Data input'!B44)","v":""},{"$f":"IF($A44=\"\",\"\",VLOOKUP($A44,'Data input'!$A$2:$E$201,COLUMN(C43),FALSE))","v":""},{"$f":"IF($A44=\"\",\"\",VLOOKUP($A44,'Data input'!$A$2:$E$201,COLUMN(D43),FALSE))","v":""},{"$f":"IF($A44=\"\",\"\",VLOOKUP($A44,'Data input'!$A$2:$E$201,COLUMN(E43),FALSE))","v":""},null,null,null,null,null,null,43,1.0349364575103313,{"$f":"IF(L44=\"\",\"\",IF(M44<Results!D$12,1,0))","v":1},null,"",null,"",""]
[null,{"$f":"IF(A45=\"\",\"\",'Data input'!B45)","v":""},{"$f":"IF($A45=\"\",\"\",VLOOKUP($A45,'Data input'!$A$2:$E$201,COLUMN(C44),FALSE))","v":""},{"$f":"IF($A45=\"\",\"\",VLOOKUP($A45,'Data input'!$A$2:$E$201,COLUMN(D44),FALSE))","v":""},{"$f":"IF($A45=\"\",\"\",VLOOKUP($A45,'Data input'!$A$2:$E$201,COLUMN(E44),FALSE))","v":""},null,null,null,null,null,null,44,1.0470069336520136,{"$f":"IF(L45=\"\",\"\",IF(M45<Results!D$12,1,0))","v":0},null,"",null,"",""]
[null,{"$f":"IF(A46=\"\",\"\",'Data input'!B46)","v":""},{"$f":"IF($A46=\"\",\"\",VLOOKUP($A46,'Data input'!$A$2:$E$201,COLUMN(C45),FALSE))","v":""},{"$f":"IF($A46=\"\",\"\",VLOOKUP($A46,'Data input'!$A$2:$E$201,COLUMN(D45),FALSE))","v":""},{"$f":"IF($A46=\"\",\"\",VLOOKUP($A46,'Data input'!$A$2:$E$201,COLUMN(E45),FALSE))","v":""},null,null,null,null,null,null,45,1.0157732268487569,{"$f":"IF(L46=\"\",\"\",IF(M46<Results!D$12,1,0))","v":1},null,"",null,"",""]
[null,{"$f":"IF(A47=\"\",\"\",'Data input'!B47)","v":""},{"$f":"IF($A47=\"\",\"\",VLOOKUP($A47,'Data input'!$A$2:$E$201,COLUMN(C46),FALSE))","v":""},{"$f":"IF($A47=\"\",\"\",VLOOKUP($A47,'Data input'!$A$2:$E$201,COLUMN(D46),FALSE))","v":""},{"$f":"IF($A47=\"\",\"\",VLOOKUP($A47,'Data input'!$A$2:$E$201,COLUMN(E46),FALSE))","v":""},null,null,null,null,null,null,46,1.0469332363464425,{"$f":"IF(L47=\"\",\"\",IF(M47<Results!D$12,1,0))","v":0},null,"",null,"",""]
[null,{"$f":"IF(A48=\"\",\"\",'Data input'!B48)","v":""},{"$f":"IF($A48=\"\",\"\",VLOOKUP($A48,'Data input'!$A$2:$E$201,COLUMN(C47),FALSE))","v":""},{"$f":"IF($A48=\"\",\"\",VLOOKUP($A48,'Data input'!$A$2:$E$201,COLUMN(D47),FALSE))","v":""},{"$f":"IF($A48=\"\",\"\",VLOOKUP($A48,'Data input'!$A$2:$E$201,COLUMN(E47),FALSE))","v":""},null,null,null,null,null,null,47,1.06188751439909,{"$f":"IF(L48=\"\",\"\",IF(M48<Results!D$12,1,0))","v":0},null,"",null,"",""]
[null,{"$f":"IF(A49=\"\",\"\",'Data input'!B49)","v":""},{"$f":"IF($A49=\"\",\"\",VLOOKUP($A49,'Data input'!$A$2:$E$201,COLUMN(C48),FALSE))","v":""},{"$f":"IF($A49=\"\",\"\",VLOOKUP($A49,'Data input'!$A$2:$E$201,COLUMN(D48),FALSE))","v":""},{"$f":"IF($A49=\"\",\"\",VLOOKUP($A49,'Data input'!$A$2:$E$201,COLUMN(E48),FALSE))","v":""},null,null,null,null,null,null,48,1.0366566531988985,{"$f":"IF(L49=\"\",\"\",IF(M49<Results!D$12,1,0))","v":1},null,"",null,"",""]
[null,{"$f":"IF(A50=\"\",\"\",'Data input'!B50)","v":""},{"$f":"IF($A50=\"\",\"\",VLOOKUP($A50,'Data input'!$A$2:$E$201,COLUMN(C49),FALSE))","v":""},{"$f":"IF($A50=\"\",\"\",VLOOKUP($A50,'Data input'!$A$2:$E$201,COLUMN(D49),FALSE))","v":""},{"$f":"IF($A50=\"\",\"\",VLOOKUP($A50,'Data input'!$A$2:$E$201,COLUMN(E49),FALSE))","v":""},null,null,null,null,null,null,49,1.0244685859333966,{"$f":"IF(L50=\"\",\"\",IF(M50<Results!D$12,1,0))","v":1},null,"",null,"",""]
[null,{"$f":"IF(A51=\"\",\"\",'Data input'!B51)","v":""},{"$f":"IF($A51=\"\",\"\",VLOOKUP($A51,'Data input'!$A$2:$E$201,COLUMN(C50),FALSE))","v":""},{"$f":"IF($A51=\"\",\"\",VLOOKUP($A51,'Data input'!$A$2:$E$201,COLUMN(D50),FALSE))","v":""},{"$f":"IF($A51=\"\",\"\",VLOOKUP($A51,'Data input'!$A$2:$E$201,COLUMN(E50),FALSE))","v":""},null,null,null,null,null,null,50,1.0344152899494314,{"$f":"IF(L51=\"\",\"\",IF(M51<Results!D$12,1,0))","v":1},null,"",null,"",""]
[null,{"$f":"IF(A52=\"\",\"\",'Data input'!B52)","v":""},{"$f":"IF($A52=\"\",\"\",VLOOKUP($A52,'Data input'!$A$2:$E$201,COLUMN(C51),FALSE))","v":""},{"$f":"IF($A52=\"\",\"\",VLOOKUP($A52,'Data input'!$A$2:$E$201,COLUMN(D51),FALSE))","v":""},{"$f":"IF($A52=\"\",\"\",VLOOKUP($A52,'Data input'!$A$2:$E$201,COLUMN(E51),FALSE))","v":""},null,null,null,null,null,null,51,1.0357000710504236,{"$f":"IF(L52=\"\",\"\",IF(M52<Results!D$12,1,0))","v":1},null,"",null,"",""]
[null,{"$f":"IF(A53=\"\",\"\",'Data input'!B53)","v":""},{"$f":"IF($A53=\"\",\"\",VLOOKUP($A53,'Data input'!$A$2:$E$201,COLUMN(C52),FALSE))","v":""},{"$f":"IF($A53=\"\",\"\",VLOOKUP($A53,'Data input'!$A$2:$E$201,COLUMN(D52),FALSE))","v":""},{"$f":"IF($A53=\"\",\"\",VLOOKUP($A53,'Data input'!$A$2:$E$201,COLUMN(E52),FALSE))","v":""},null,null,null,null,null,null,52,1.0269936387909382,{"$f":"IF(L53=\"\",\"\",IF(M53<Results!D$12,1,0))","v":1},null,"",null,"",""]
[null,{"$f":"IF(A54=\"\",\"\",'Data input'!B54)","v":""},{"$f":"IF($A54=\"\",\"\",VLOOKUP($A54,'Data input'!$A$2:$E$201,COLUMN(C53),FALSE))","v":""},{"$f":"IF($A54=\"\",\"\",VLOOKUP($A54,'Data input'!$A$2:$E$201,COLUMN(D53),FALSE))","v":""},{"$f":"IF($A54=\"\",\"\",VLOOKUP($A54,'Data input'!$A$2:$E$201,COLUMN(E53),FALSE))","v":""},null,null,null,null,null,null,53,1.0374857558049755,{"$f":"IF(L54=\"\",\"\",IF(M54<Results!D$12,1,0))","v":0},null,"",null,"",""]
[null,{"$f":"IF(A55=\"\",\"\",'Data input'!B55)","v":""},{"$f":"IF($A55=\"\",\"\",VLOOKUP($A55,'Data input'!$A$2:$E$201,COLUMN(C54),FALSE))","v":""},{"$f":"IF($A55=\"\",\"\",VLOOKUP($A55,'Data input'!$A$2:$E$201,COLUMN(D54),FALSE))","v":""},{"$f":"IF($A55=\"\",\"\",VLOOKUP($A55,'Data input'!$A$2:$E$201,COLUMN(E54),FALSE))","v":""},null,null,null,null,null,null,54,1.0597169724020659,{"$f":"IF(L55=\"\",\"\",IF(M55<Results!D$12,1,0))","v":0},null,"",null,"",""]
[null,{"$f":"IF(A56=\"\",\"\",'Data input'!B56)","v":""},{"$f":"IF($A56=\"\",\"\",VLOOKUP($A56,'Data input'!$A$2:$E$201,COLUMN(C55),FALSE))","v":""},{"$f":"IF($A56=\"\",\"\",VLOOKUP($A56,'Data input'!$A$2:$E$201,COLUMN(D55),FALSE))","v":""},{"$f":"IF($A56=\"\",\"\",VLOOKUP($A56,'Data input'!$A$2:$E$201,COLUMN(E55),FALSE))","v":""},null,null,null,null,null,null,55,1.0305017766218898,{"$f":"IF(L56=\"\",\"\",IF(M56<Results!D$12,1,0))","v":1},null,"",null,"",""]
[null,{"$f":"IF(A57=\"\",\"\",'Data input'!B57)","v":""},{"$f":"IF($A57=\"\",\"\",VLOOKUP($A57,'Data input'!$A$2:$E$201,COLUMN(C56),FALSE))","v":""},{"$f":"IF($A57=\"\",\"\",VLOOKUP($A57,'Data input'!$A$2:$E$201,COLUMN(D56),FALSE))","v":""},{"$f":"IF($A57=\"\",\"\",VLOOKUP($A57,'Data input'!$A$2:$E$201,COLUMN(E56),FALSE))","v":""},null,null,null,null,null,null,56,1.0457082745939497,{"$f":"IF(L57=\"\",\"\",IF(M57<Results!D$12,1,0))","v":0},null,"",null,"",""]
[null,{"$f":"IF(A58=\"\",\"\",'Data input'!B58)","v":""},{"$f":"IF($A58=\"\",\"\",VLOOKUP($A58,'Data input'!$A$2:$E$201,COLUMN(C57),FALSE))","v":""},{"$f":"IF($A58=\"\",\"\",VLOOKUP($A58,'Data input'!$A$2:$E$201,COLUMN(D57),FALSE))","v":""},{"$f":"IF($A58=\"\",\"\",VLOOKUP($A58,'Data input'!$A$2:$E$201,COLUMN(E57),FALSE))","v":""},null,null,null,null,null,null,57,1.0223185598615081,{"$f":"IF(L58=\"\",\"\",IF(M58<Results!D$12,1,0))","v":1},null,"",null,"",""]
[null,{"$f":"IF(A59=\"\",\"\",'Data input'!B59)","v":""},{"$f":"IF($A59=\"\",\"\",VLOOKUP($A59,'Data input'!$A$2:$E$201,COLUMN(C58),FALSE))","v":""},{"$f":"IF($A59=\"\",\"\",VLOOKUP($A59,'Data input'!$A$2:$E$201,COLUMN(D58),FALSE))","v":""},{"$f":"IF($A59=\"\",\"\",VLOOKUP($A59,'Data input'!$A$2:$E$201,COLUMN(E58),FALSE))","v":""},null,null,null,null,null,null,58,1.0518706527369259,{"$f":"IF(L59=\"\",\"\",IF(M59<Results!D$12,1,0))","v":0},null,"",null,"",""]
[null,{"$f":"IF(A60=\"\",\"\",'Data input'!B60)","v":""},{"$f":"IF($A60=\"\",\"\",VLOOKUP($A60,'Data input'!$A$2:$E$201,COLUMN(C59),FALSE))","v":""},{"$f":"IF($A60=\"\",\"\",VLOOKUP($A60,'Data input'!$A$2:$E$201,COLUMN(D59),FALSE))","v":""},{"$f":"IF($A60=\"\",\"\",VLOOKUP($A60,'Data input'!$A$2:$E$201,COLUMN(E59),FALSE))","v":""},null,null,null,null,null,null,59,1.0268384427417661,{"$f":"IF(L60=\"\",\"\",IF(M60<Results!D$12,1,0))","v":1},null,"",null,"",""]
[null,{"$f":"IF(A61=\"\",\"\",'Data input'!B61)","v":""},{"$f":"IF($A61=\"\",\"\",VLOOKUP($A61,'Data input'!$A$2:$E$201,COLUMN(C60),FALSE))","v":""},{"$f":"IF($A61=\"\",\"\",VLOOKUP($A61,'Data input'!$A$2:$E$201,COLUMN(D60),FALSE))","v":""},{"$f":"IF($A61=\"\",\"\",VLOOKUP($A61,'Data input'!$A$2:$E$201,COLUMN(E60),FALSE))","v":""},null,null,null,null,null,null,60,1.0247261534826799,{"$f":"IF(L61=\"\",\"\",IF(M61<Results!D$12,1,0))","v":1},null,"",null,"",""]
[null,{"$f":"IF(A62=\"\",\"\",'Data input'!B62)","v":""},{"$f":"IF($A62=\"\",\"\",VLOOKUP($A62,'Data input'!$A$2:$E$201,COLUMN(C61),FALSE))","v":""},{"$f":"IF($A62=\"\",\"\",VLOOKUP($A62,'Data input'!$A$2:$E$201,COLUMN(D61),FALSE))","v":""},{"$f":"IF($A62=\"\",\"\",VLOOKUP($A62,'Data input'!$A$2:$E$201,COLUMN(E61),FALSE))","v":""},null,null,null,null,null,null,61,1.024472601089552,{"$f":"IF(L62=\"\",\"\",IF(M62<Results!D$12,1,0))","v":1},null,"",null,"",""]
[null,{"$f":"IF(A63=\"\",\"\",'Data input'!B63)","v":""},{"$f":"IF($A63=\"\",\"\",VLOOKUP($A63,'Data input'!$A$2:$E$201,COLUMN(C62),FALSE))","v":""},{"$f":"IF($A63=\"\",\"\",VLOOKUP($A63,'Data input'!$A$2:$E$201,COLUMN(D62),FALSE))","v":""},{"$f":"IF($A63=\"\",\"\",VLOOKUP($A63,'Data input'!$A$2:$E$201,COLUMN(E62),FALSE))","v":""},null,null,null,null,null,null,62,1.0314762269066862,{"$f":"IF(L63=\"\",\"\",IF(M63<Results!D$12,1,0))","v":1},null,"",null,"",""]
[null,{"$f":"IF(A64=\"\",\"\",'Data input'!B64)","v":""},{"$f":"IF($A64=\"\",\"\",VLOOKUP($A64,'Data input'!$A$2:$E$201,COLUMN(C63),FALSE))","v":""},{"$f":"IF($A64=\"\",\"\",VLOOKUP($A64,'Data input'!$A$2:$E$201,COLUMN(D63),FALSE))","v":""},{"$f":"IF($A64=\"\",\"\",VLOOKUP($A64,'Data input'!$A$2:$E$201,COLUMN(E63),FALSE))","v":""},null,null,null,null,null,null,63,1.0278974257479121,{"$f":"IF(L64=\"\",\"\",IF(M64<Results!D$12,1,0))","v":1},null,"",null,"",""]
[null,{"$f":"IF(A65=\"\",\"\",'Data input'!B65)","v":""},{"$f":"IF($A65=\"\",\"\",VLOOKUP($A65,'Data input'!$A$2:$E$201,COLUMN(C64),FALSE))","v":""},{"$f":"IF($A65=\"\",\"\",VLOOKUP($A65,'Data input'!$A$2:$E$201,COLUMN(D64),FALSE))","v":""},{"$f":"IF($A65=\"\",\"\",VLOOKUP($A65,'Data input'!$A$2:$E$201,COLUMN(E64),FALSE))","v":""},null,null,null,null,null,null,64,1.0397723506469885,{"$f":"IF(L65=\"\",\"\",IF(M65<Results!D$12,1,0))","v":0},null,"",null,"",""]
[null,{"$f":"IF(A66=\"\",\"\",'Data input'!B66)","v":""},{"$f":"IF($A66=\"\",\"\",VLOOKUP($A66,'Data input'!$A$2:$E$201,COLUMN(C65),FALSE))","v":""},{"$f":"IF($A66=\"\",\"\",VLOOKUP($A66,'Data input'!$A$2:$E$201,COLUMN(D65),FALSE))","v":""},{"$f":"IF($A66=\"\",\"\",VLOOKUP($A66,'Data input'!$A$2:$E$201,COLUMN(E65),FALSE))","v":""},null,null,null,null,null,null,65,1.032961651577033,{"$f":"IF(L66=\"\",\"\",IF(M66<Results!D$12,1,0))","v":1},null,"",null,"",""]
[null,{"$f":"IF(A67=\"\",\"\",'Data input'!B67)","v":""},{"$f":"IF($A67=\"\",\"\",VLOOKUP($A67,'Data input'!$A$2:$E$201,COLUMN(C66),FALSE))","v":""},{"$f":"IF($A67=\"\",\"\",VLOOKUP($A67,'Data input'!$A$2:$E$201,COLUMN(D66),FALSE))","v":""},{"$f":"IF($A67=\"\",\"\",VLOOKUP($A67,'Data input'!$A$2:$E$201,COLUMN(E66),FALSE))","v":""},null,null,null,null,null,null,{"$f":"IF(M67=\"\",\"\",ROW(L67)-1)","v":66},1.0361353863546148,{"$f":"IF(L67=\"\",\"\",IF(M67<Results!D$12,1,0))","v":1},null,{"$f":"IF(A67=\"\",\"\",ROW(A67)-1)","v":""},null,{"$f":"IF(P67=\"\",\"\",(AVERAGE(Q$2:Q$201)-Q67)^3)","v":""},{"$f":"IF(P67=\"\",\"\",(AVERAGE(Q$2:Q$201)-Q67)^2)","v":""}]
[null,{"$f":"IF(A68=\"\",\"\",'Data input'!B68)","v":""},{"$f":"IF($A68=\"\",\"\",VLOOKUP($A68,'Data input'!$A$2:$E$201,COLUMN(C67),FALSE))","v":""},{"$f":"IF($A68=\"\",\"\",VLOOKUP($A68,'Data input'!$A$2:$E$201,COLUMN(D67),FALSE))","v":""},{"$f":"IF($A68=\"\",\"\",VLOOKUP($A68,'Data input'!$A$2:$E$201,COLUMN(E67),FALSE))","v":""},null,null,null,null,null,null,67,1.0327813303317233,{"$f":"IF(L68=\"\",\"\",IF(M68<Results!D$12,1,0))","v":1},null,"",null,"",""]
[null,{"$f":"IF(A69=\"\",\"\",'Data input'!B69)","v":""},{"$f":"IF($A69=\"\",\"\",VLOOKUP($A69,'Data input'!$A$2:$E$201,COLUMN(C68),FALSE))","v":""},{"$f":"IF($A69=\"\",\"\",VLOOKUP($A69,'Data input'!$A$2:$E$201,COLUMN(D68),FALSE))","v":""},{"$f":"IF($A69=\"\",\"\",VLOOKUP($A69,'Data input'!$A$2:$E$201,COLUMN(E68),FALSE))","v":""},null,null,null,null,null,null,68,1.0574503850894776,{"$f":"IF(L69=\"\",\"\",IF(M69<Results!D$12,1,0))","v":0},null,"",null,"",""]
[null,{"$f":"IF(A70=\"\",\"\",'Data input'!B70)","v":""},{"$f":"IF($A70=\"\",\"\",VLOOKUP($A70,'Data input'!$A$2:$E$201,COLUMN(C69),FALSE))","v":""},{"$f":"IF($A70=\"\",\"\",VLOOKUP($A70,'Data input'!$A$2:$E$201,COLUMN(D69),FALSE))","v":""},{"$f":"IF($A70=\"\",\"\",VLOOKUP($A70,'Data input'!$A$2:$E$201,COLUMN(E69),FALSE))","v":""},null,null,null,null,null,null,69,1.0271651007387288,{"$f":"IF(L70=\"\",\"\",IF(M70<Results!D$12,1,0))","v":1},null,"",null,"",""]
[null,{"$f":"IF(A71=\"\",\"\",'Data input'!B71)","v":""},{"$f":"IF($A71=\"\",\"\",VLOOKUP($A71,'Data input'!$A$2:$E$201,COLUMN(C70),FALSE))","v":""},{"$f":"IF($A71=\"\",\"\",VLOOKUP($A71,'Data input'!$A$2:$E$201,COLUMN(D70),FALSE))","v":""},{"$f":"IF($A71=\"\",\"\",VLOOKUP($A71,'Data input'!$A$2:$E$201,COLUMN(E70),FALSE))","v":""},null,null,null,null,null,null,70,1.0704421367752108,{"$f":"IF(L71=\"\",\"\",IF(M71<Results!D$12,1,0))","v":0},null,"",null,"",""]
[null,{"$f":"IF(A72=\"\",\"\",'Data input'!B72)","v":""},{"$f":"IF($A72=\"\",\"\",VLOOKUP($A72,'Data input'!$A$2:$E$201,COLUMN(C71),FALSE))","v":""},{"$f":"IF($A72=\"\",\"\",VLOOKUP($A72,'Data input'!$A$2:$E$201,COLUMN(D71),FALSE))","v":""},{"$f":"IF($A72=\"\",\"\",VLOOKUP($A72,'Data input'!$A$2:$E$201,COLUMN(E71),FALSE))","v":""},null,null,null,null,null,null,71,1.0437383431637393,{"$f":"IF(L72=\"\",\"\",IF(M72<Results!D$12,1,0))","v":0},null,"",null,"",""]
[null,{"$f":"IF(A73=\"\",\"\",'Data input'!B73)","v":""},{"$f":"IF($A73=\"\",\"\",VLOOKUP($A73,'Data input'!$A$2:$E$201,COLUMN(C72),FALSE))","v":""},{"$f":"IF($A73=\"\",\"\",VLOOKUP($A73,'Data input'!$A$2:$E$201,COLUMN(D72),FALSE))","v":""},{"$f":"IF($A73=\"\",\"\",VLOOKUP($A73,'Data input'!$A$2:$E$201,COLUMN(E72),FALSE))","v":""},null,null,null,null,null,null,72,1.0334031248893261,{"$f":"IF(L73=\"\",\"\",IF(M73<Results!D$12,1,0))","v":1},null,"",null,"",""]
[null,{"$f":"IF(A74=\"\",\"\",'Data input'!B74)","v":""},{"$f":"IF($A74=\"\",\"\",VLOOKUP($A74,'Data input'!$A$2:$E$201,COLUMN(C73),FALSE))","v":""},{"$f":"IF($A74=\"\",\"\",VLOOKUP($A74,'Data input'!$A$2:$E$201,COLUMN(D73),FALSE))","v":""},{"$f":"IF($A74=\"\",\"\",VLOOKUP($A74,'Data input'!$A$2:$E$201,COLUMN(E73),FALSE))","v":""},null,null,null,null,null,null,73,1.0440393594571431,{"$f":"IF(L74=\"\",\"\",IF(M74<Results!D$12,1,0))","v":0},null,"",null,"",""]
[null,{"$f":"IF(A75=\"\",\"\",'Data input'!B75)","v":""},{"$f":"IF($A75=\"\",\"\",VLOOKUP($A75,'Data input'!$A$2:$E$201,COLUMN(C74),FALSE))","v":""},{"$f":"IF($A75=\"\",\"\",VLOOKUP($A75,'Data input'!$A$2:$E$201,COLUMN(D74),FALSE))","v":""},{"$f":"IF($A75=\"\",\"\",VLOOKUP($A75,'Data input'!$A$2:$E$201,COLUMN(E74),FALSE))","v":""},null,null,null,null,null,null,74,1.055128180390503,{"$f":"IF(L75=\"\",\"\",IF(M75<Results!D$12,1,0))","v":0},null,"",null,"",""]
[null,{"$f":"IF(A76=\"\",\"\",'Data input'!B76)","v":""},{"$f":"IF($A76=\"\",\"\",VLOOKUP($A76,'Data input'!$A$2:$E$201,COLUMN(C75),FALSE))","v":""},{"$f":"IF($A76=\"\",\"\",VLOOKUP($A76,'Data input'!$A$2:$E$201,COLUMN(D75),FALSE))","v":""},{"$f":"IF($A76=\"\",\"\",VLOOKUP($A76,'Data input'!$A$2:$E$201,COLUMN(E75),FALSE))","v":""},null,null,null,null,null,null,75,1.0228066027197162,{"$f":"IF(L76=\"\",\"\",IF(M76<Results!D$12,1,0))","v":1},null,"",null,"",""]
[null,{"$f":"IF(A77=\"\",\"\",'Data input'!B77)","v":""},{"$f":"IF($A77=\"\",\"\",VLOOKUP($A77,'Data input'!$A$2:$E$201,COLUMN(C76),FALSE))","v":""},{"$f":"IF($A77=\"\",\"\",VLOOKUP($A77,'Data input'!$A$2:$E$201,COLUMN(D76),FALSE))","v":""},{"$f":"IF($A77=\"\",\"\",VLOOKUP($A77,'Data input'!$A$2:$E$201,COLUMN(E76),FALSE))","v":""},null,null,null,null,null,null,76,1.0289002888159591,{"$f":"IF(L77=\"\",\"\",IF(M77<Results!D$12,1,0))","v":1},null,"",null,"",""]
[null,{"$f":"IF(A78=\"\",\"\",'Data input'!B78)","v":""},{"$f":"IF($A78=\"\",\"\",VLOOKUP($A78,'Data input'!$A$2:$E$201,COLUMN(C77),FALSE))","v":""},{"$f":"IF($A78=\"\",\"\",VLOOKUP($A78,'Data input'!$A$2:$E$201,COLUMN(D77),FALSE))","v":""},{"$f":"IF($A78=\"\",\"\",VLOOKUP($A78,'Data input'!$A$2:$E$201,COLUMN(E77),FALSE))","v":""},null,null,null,null,null,null,77,1.023968954977698,{"$f":"IF(L78=\"\",\"\",IF(M78<Results!D$12,1,0))","v":1},null,"",null,"",""]
[null,{"$f":"IF(A79=\"\",\"\",'Data input'!B79)","v":""},{"$f":"IF($A79=\"\",\"\",VLOOKUP($A79,'Data input'!$A$2:$E$201,COLUMN(C78),FALSE))","v":""},{"$f":"IF($A79=\"\",\"\",VLOOKUP($A79,'Data input'!$A$2:$E$201,COLUMN(D78),FALSE))","v":""},{"$f":"IF($A79=\"\",\"\",VLOOKUP($A79,'Data input'!$A$2:$E$201,COLUMN(E78),FALSE))","v":""},null,null,null,null,null,null,78,1.0516226593222342,{"$f":"IF(L79=\"\",\"\",IF(M79<Results!D$12,1,0))","v":0},null,"",null,"",""]
[null,{"$f":"IF(A80=\"\",\"\",'Data input'!B80)","v":""},{"$f":"IF($A80=\"\",\"\",VLOOKUP($A80,'Data input'!$A$2:$E$201,COLUMN(C79),FALSE))","v":""},{"$f":"IF($A80=\"\",\"\",VLOOKUP($A80,'Data input'!$A$2:$E$201,COLUMN(D79),FALSE))","v":""},{"$f":"IF($A80=\"\",\"\",VLOOKUP($A80,'Data input'!$A$2:$E$201,COLUMN(E79),FALSE))","v":""},null,null,null,null,null,null,79,1.034679469951675,{"$f":"IF(L80=\"\",\"\",IF(M80<Results!D$12,1,0))","v":1},null,"",null,"",""]
[null,{"$f":"IF(A81=\"\",\"\",'Data input'!B81)","v":""},{"$f":"IF($A81=\"\",\"\",VLOOKUP($A81,'Data input'!$A$2:$E$201,COLUMN(C80),FALSE))","v":""},{"$f":"IF($A81=\"\",\"\",VLOOKUP($A81,'Data input'!$A$2:$E$201,COLUMN(D80),FALSE))","v":""},{"$f":"IF($A81=\"\",\"\",VLOOKUP($A81,'Data input'!$A$2:$E$201,COLUMN(E80),FALSE))","v":""},null,null,null,null,null,null,80,1.0340787691901685,{"$f":"IF(L81=\"\",\"\",IF(M81<Results!D$12,1,0))","v":1},null,"",null,"",""]
[null,{"$f":"IF(A82=\"\",\"\",'Data input'!B82)","v":""},{"$f":"IF($A82=\"\",\"\",VLOOKUP($A82,'Data input'!$A$2:$E$201,COLUMN(C81),FALSE))","v":""},{"$f":"IF($A82=\"\",\"\",VLOOKUP($A82,'Data input'!$A$2:$E$201,COLUMN(D81),FALSE))","v":""},{"$f":"IF($A82=\"\",\"\",VLOOKUP($A82,'Data input'!$A$2:$E$201,COLUMN(E81),FALSE))","v":""},null,null,null,null,null,null,81,1.0353899292945823,{"$f":"IF(L82=\"\",\"\",IF(M82<Results!D$12,1,0))","v":1},null,"",null,"",""]
[null,{"$f":"IF(A83=\"\",\"\",'Data input'!B83)","v":""},{"$f":"IF($A83=\"\",\"\",VLOOKUP($A83,'Data input'!$A$2:$E$201,COLUMN(C82),FALSE))","v":""},{"$f":"IF($A83=\"\",\"\",VLOOKUP($A83,'Data input'!$A$2:$E$201,COLUMN(D82),FALSE))","v":""},{"$f":"IF($A83=\"\",\"\",VLOOKUP($A83,'Data input'!$A$2:$E$201,COLUMN(E82),FALSE))","v":""},null,null,null,null,null,null,82,1.0389001670448041,{"$f":"IF(L83=\"\",\"\",IF(M83<Results!D$12,1,0))","v":0},null,"",null,"",""]
[null,{"$f":"IF(A84=\"\",\"\",'Data input'!B84)","v":""},{"$f":"IF($A84=\"\",\"\",VLOOKUP($A84,'Data input'!$A$2:$E$201,COLUMN(C83),FALSE))","v":""},{"$f":"IF($A84=\"\",\"\",VLOOKUP($A84,'Data input'!$A$2:$E$201,COLUMN(D83),FALSE))","v":""},{"$f":"IF($A84=\"\",\"\",VLOOKUP($A84,'Data input'!$A$2:$E$201,COLUMN(E83),FALSE))","v":""},null,null,null,null,null,null,83,1.0277648646610722,{"$f":"IF(L84=\"\",\"\",IF(M84<Results!D$12,1,0))","v":1},null,"",null,"",""]
[null,{"$f":"IF(A85=\"\",\"\",'Data input'!B85)","v":""},{"$f":"IF($A85=\"\",\"\",VLOOKUP($A85,'Data input'!$A$2:$E$201,COLUMN(C84),FALSE))","v":""},{"$f":"IF($A85=\"\",\"\",VLOOKUP($A85,'Data input'!$A$2:$E$201,COLUMN(D84),FALSE))","v":""},{"$f":"IF($A85=\"\",\"\",VLOOKUP($A85,'Data input'!$A$2:$E$201,COLUMN(E84),FALSE))","v":""},null,null,null,null,null,null,84,1.02784696919487,{"$f":"IF(L85=\"\",\"\",IF(M85<Results!D$12,1,0))","v":1},null,"",null,"",""]
[null,{"$f":"IF(A86=\"\",\"\",'Data input'!B86)","v":""},{"$f":"IF($A86=\"\",\"\",VLOOKUP($A86,'Data input'!$A$2:$E$201,COLUMN(C85),FALSE))","v":""},{"$f":"IF($A86=\"\",\"\",VLOOKUP($A86,'Data input'!$A$2:$E$201,COLUMN(D85),FALSE))","v":""},{"$f":"IF($A86=\"\",\"\",VLOOKUP($A86,'Data input'!$A$2:$E$201,COLUMN(E85),FALSE))","v":""},null,null,null,null,null,null,85,1.0276540490449697,{"$f":"IF(L86=\"\",\"\",IF(M86<Results!D$12,1,0))","v":1},null,"",null,"",""]
[null,{"$f":"IF(A87=\"\",\"\",'Data input'!B87)","v":""},{"$f":"IF($A87=\"\",\"\",VLOOKUP($A87,'Data input'!$A$2:$E$201,COLUMN(C86),FALSE))","v":""},{"$f":"IF($A87=\"\",\"\",VLOOKUP($A87,'Data input'!$A$2:$E$201,COLUMN(D86),FALSE))","v":""},{"$f":"IF($A87=\"\",\"\",VLOOKUP($A87,'Data input'!$A$2:$E$201,COLUMN(E86),FALSE))","v":""},null,null,null,null,null,null,86,1.0427610231317828,{"$f":"IF(L87=\"\",\"\",IF(M87<Results!D$12,1,0))","v":0},null,"",null,"",""]
[null,{"$f":"IF(A88=\"\",\"\",'Data input'!B88)","v":""},{"$f":"IF($A88=\"\",\"\",VLOOKUP($A88,'Data input'!$A$2:$E$201,COLUMN(C87),FALSE))","v":""},{"$f":"IF($A88=\"\",\"\",VLOOKUP($A88,'Data input'!$A$2:$E$201,COLUMN(D87),FALSE))","v":""},{"$f":"IF($A88=\"\",\"\",VLOOKUP($A88,'Data input'!$A$2:$E$201,COLUMN(E87),FALSE))","v":""},null,null,null,null,null,null,87,1.0337484602347078,{"$f":"IF(L88=\"\",\"\",IF(M88<Results!D$12,1,0))","v":1},null,"",null,"",""]
[null,{"$f":"IF(A89=\"\",\"\",'Data input'!B89)","v":""},{"$f":"IF($A89=\"\",\"\",VLOOKUP($A89,'Data input'!$A$2:$E$201,COLUMN(C88),FALSE))","v":""},{"$f":"IF($A89=\"\",\"\",VLOOKUP($A89,'Data input'!$A$2:$E$201,COLUMN(D88),FALSE))","v":""},{"$f":"IF($A89=\"\",\"\",VLOOKUP($A89,'Data input'!$A$2:$E$201,COLUMN(E88),FALSE))","v":""},null,null,null,null,null,null,88,1.02186326395452,{"$f":"IF(L89=\"\",\"\",IF(M89<Results!D$12,1,0))","v":1},null,"",null,"",""]
[null,{"$f":"IF(A90=\"\",\"\",'Data input'!B90)","v":""},{"$f":"IF($A90=\"\",\"\",VLOOKUP($A90,'Data input'!$A$2:$E$201,COLUMN(C89),FALSE))","v":""},{"$f":"IF($A90=\"\",\"\",VLOOKUP($A90,'Data input'!$A$2:$E$201,COLUMN(D89),FALSE))","v":""},{"$f":"IF($A90=\"\",\"\",VLOOKUP($A90,'Data input'!$A$2:$E$201,COLUMN(E89),FALSE))","v":""},null,null,null,null,null,null,89,1.0515931828940173,{"$f":"IF(L90=\"\",\"\",IF(M90<Results!D$12,1,0))","v":0},null,"",null,"",""]
[null,{"$f":"IF(A91=\"\",\"\",'Data input'!B91)","v":""},{"$f":"IF($A91=\"\",\"\",VLOOKUP($A91,'Data input'!$A$2:$E$201,COLUMN(C90),FALSE))","v":""},{"$f":"IF($A91=\"\",\"\",VLOOKUP($A91,'Data input'!$A$2:$E$201,COLUMN(D90),FALSE))","v":""},{"$f":"IF($A91=\"\",\"\",VLOOKUP($A91,'Data input'!$A$2:$E$201,COLUMN(E90),FALSE))","v":""},null,null,null,null,null,null,90,1.0521931126803177,{"$f":"IF(L91=\"\",\"\",IF(M91<Results!D$12,1,0))","v":0},null,"",null,"",""]
[null,{"$f":"IF(A92=\"\",\"\",'Data input'!B92)","v":""},{"$f":"IF($A92=\"\",\"\",VLOOKUP($A92,'Data input'!$A$2:$E$201,COLUMN(C91),FALSE))","v":""},{"$f":"IF($A92=\"\",\"\",VLOOKUP($A92,'Data input'!$A$2:$E$201,COLUMN(D91),FALSE))","v":""},{"$f":"IF($A92=\"\",\"\",VLOOKUP($A92,'Data input'!$A$2:$E$201,COLUMN(E91),FALSE))","v":""},null,null,null,null,null,null,91,1.0492979083893332,{"$f":"IF(L92=\"\",\"\",IF(M92<Results!D$12,1,0))","v":0},null,"",null,"",""]
[null,{"$f":"IF(A93=\"\",\"\",'Data input'!B93)","v":""},{"$f":"IF($A93=\"\",\"\",VLOOKUP($A93,'Data input'!$A$2:$E$201,COLUMN(C92),FALSE))","v":""},{"$f":"IF($A93=\"\",\"\",VLOOKUP($A93,'Data input'!$A$2:$E$201,COLUMN(D92),FALSE))","v":""},{"$f":"IF($A93=\"\",\"\",VLOOKUP($A93,'Data input'!$A$2:$E$201,COLUMN(E92),FALSE))","v":""},null,null,null,null,null,null,92,1.0145056473809604,{"$f":"IF(L93=\"\",\"\",IF(M93<Results!D$12,1,0))","v":1},null,"",null,"",""]
[null,{"$f":"IF(A94=\"\",\"\",'Data input'!B94)","v":""},{"$f":"IF($A94=\"\",\"\",VLOOKUP($A94,'Data input'!$A$2:$E$201,COLUMN(C93),FALSE))","v":""},{"$f":"IF($A94=\"\",\"\",VLOOKUP($A94,'Data input'!$A$2:$E$201,COLUMN(D93),FALSE))","v":""},{"$f":"IF($A94=\"\",\"\",VLOOKUP($A94,'Data input'!$A$2:$E$201,COLUMN(E93),FALSE))","v":""},null,null,null,null,null,null,93,1.0370432601736697,{"$f":"IF(L94=\"\",\"\",IF(M94<Results!D$12,1,0))","v":1},null,"",null,"",""]
[null,{"$f":"IF(A95=\"\",\"\",'Data input'!B95)","v":""},{"$f":"IF($A95=\"\",\"\",VLOOKUP($A95,'Data input'!$A$2:$E$201,COLUMN(C94),FALSE))","v":""},{"$f":"IF($A95=\"\",\"\",VLOOKUP($A95,'Data input'!$A$2:$E$201,COLUMN(D94),FALSE))","v":""},{"$f":"IF($A95=\"\",\"\",VLOOKUP($A95,'Data input'!$A$2:$E$201,COLUMN(E94),FALSE))","v":""},null,null,null,null,null,null,94,1.038287814972112,{"$f":"IF(L95=\"\",\"\",IF(M95<Results!D$12,1,0))","v":0},null,"",null,"",""]
[null,{"$f":"IF(A96=\"\",\"\",'Data input'!B96)","v":""},{"$f":"IF($A96=\"\",\"\",VLOOKUP($A96,'Data input'!$A$2:$E$201,COLUMN(C95),FALSE))","v":""},{"$f":"IF($A96=\"\",\"\",VLOOKUP($A96,'Data input'!$A$2:$E$201,COLUMN(D95),FALSE))","v":""},{"$f":"IF($A96=\"\",\"\",VLOOKUP($A96,'Data input'!$A$2:$E$201,COLUMN(E95),FALSE))","v":""},null,null,null,null,null,null,95,1.07738649966113,{"$f":"IF(L96=\"\",\"\",IF(M96<Results!D$12,1,0))","v":0},null,"",null,"",""]
[null,{"$f":"IF(A97=\"\",\"\",'Data input'!B97)","v":""},{"$f":"IF($A97=\"\",\"\",VLOOKUP($A97,'Data input'!$A$2:$E$201,COLUMN(C96),FALSE))","v":""},{"$f":"IF($A97=\"\",\"\",VLOOKUP($A97,'Data input'!$A$2:$E$201,COLUMN(D96),FALSE))","v":""},{"$f":"IF($A97=\"\",\"\",VLOOKUP($A97,'Data input'!$A$2:$E$201,COLUMN(E96),FALSE))","v":""},null,null,null,null,null,null,96,1.0595472281707046,{"$f":"IF(L97=\"\",\"\",IF(M97<Results!D$12,1,0))","v":0},null,"",null,"",""]
[null,{"$f":"IF(A98=\"\",\"\",'Data input'!B98)","v":""},{"$f":"IF($A98=\"\",\"\",VLOOKUP($A98,'Data input'!$A$2:$E$201,COLUMN(C97),FALSE))","v":""},{"$f":"IF($A98=\"\",\"\",VLOOKUP($A98,'Data input'!$A$2:$E$201,COLUMN(D97),FALSE))","v":""},{"$f":"IF($A98=\"\",\"\",VLOOKUP($A98,'Data input'!$A$2:$E$201,COLUMN(E97),FALSE))","v":""},null,null,null,null,null,null,97,1.0267795455172337,{"$f":"IF(L98=\"\",\"\",IF(M98<Results!D$12,1,0))","v":1},null,"",null,"",""]
[null,{"$f":"IF(A99=\"\",\"\",'Data input'!B99)","v":""},{"$f":"IF($A99=\"\",\"\",VLOOKUP($A99,'Data input'!$A$2:$E$201,COLUMN(C98),FALSE))","v":""},{"$f":"IF($A99=\"\",\"\",VLOOKUP($A99,'Data input'!$A$2:$E$201,COLUMN(D98),FALSE))","v":""},{"$f":"IF($A99=\"\",\"\",VLOOKUP($A99,'Data input'!$A$2:$E$201,COLUMN(E98),FALSE))","v":""},null,null,null,null,null,null,98,1.0525068761353737,{"$f":"IF(L99=\"\",\"\",IF(M99<Results!D$12,1,0))","v":0},null,"",null,"",""]
[null,{"$f":"IF(A100=\"\",\"\",'Data input'!B100)","v":""},{"$f":"IF($A100=\"\",\"\",VLOOKUP($A100,'Data input'!$A$2:$E$201,COLUMN(C99),FALSE))","v":""},{"$f":"IF($A100=\"\",\"\",VLOOKUP($A100,'Data input'!$A$2:$E$201,COLUMN(D99),FALSE))","v":""},{"$f":"IF($A100=\"\",\"\",VLOOKUP($A100,'Data input'!$A$2:$E$201,COLUMN(E99),FALSE))","v":""},null,null,null,null,null,null,99,1.0354912000652692,{"$f":"IF(L100=\"\",\"\",IF(M100<Results!D$12,1,0))","v":1},null,"",null,"",""]
[null,{"$f":"IF(A101=\"\",\"\",'Data input'!B101)","v":""},{"$f":"IF($A101=\"\",\"\",VLOOKUP($A101,'Data input'!$A$2:$E$201,COLUMN(C100),FALSE))","v":""},{"$f":"IF($A101=\"\",\"\",VLOOKUP($A101,'Data input'!$A$2:$E$201,COLUMN(D100),FALSE))","v":""},{"$f":"IF($A101=\"\",\"\",VLOOKUP($A101,'Data input'!$A$2:$E$201,COLUMN(E100),FALSE))","v":""},null,null,null,null,null,null,100,1.033959421483992,{"$f":"IF(L101=\"\",\"\",IF(M101<Results!D$12,1,0))","v":1},null,"",null,"",""]
[null,{"$f":"IF(A102=\"\",\"\",'Data input'!B102)","v":""},{"$f":"IF($A102=\"\",\"\",VLOOKUP($A102,'Data input'!$A$2:$E$201,COLUMN(C101),FALSE))","v":""},{"$f":"IF($A102=\"\",\"\",VLOOKUP($A102,'Data input'!$A$2:$E$201,COLUMN(D101),FALSE))","v":""},{"$f":"IF($A102=\"\",\"\",VLOOKUP($A102,'Data input'!$A$2:$E$201,COLUMN(E101),FALSE))","v":""},null,null,null,null,null,null,101,1.0370108740936275,{"$f":"IF(L102=\"\",\"\",IF(M102<Results!D$12,1,0))","v":1},null,"",null,"",""]
[null,{"$f":"IF(A103=\"\",\"\",'Data input'!B103)","v":""},{"$f":"IF($A103=\"\",\"\",VLOOKUP($A103,'Data input'!$A$2:$E$201,COLUMN(C102),FALSE))","v":""},{"$f":"IF($A103=\"\",\"\",VLOOKUP($A103,'Data input'!$A$2:$E$201,COLUMN(D102),FALSE))","v":""},{"$f":"IF($A103=\"\",\"\",VLOOKUP($A103,'Data input'!$A$2:$E$201,COLUMN(E102),FALSE))","v":""},null,null,null,null,null,null,102,1.0378881114497305,{"$f":"IF(L103=\"\",\"\",IF(M103<Results!D$12,1,0))","v":0},null,"",null,"",""]
[null,{"$f":"IF(A104=\"\",\"\",'Data input'!B104)","v":""},{"$f":"IF($A104=\"\",\"\",VLOOKUP($A104,'Data input'!$A$2:$E$201,COLUMN(C103),FALSE))","v":""},{"$f":"IF($A104=\"\",\"\",VLOOKUP($A104,'Data input'!$A$2:$E$201,COLUMN(D103),FALSE))","v":""},{"$f":"IF($A104=\"\",\"\",VLOOKUP($A104,'Data input'!$A$2:$E$201,COLUMN(E103),FALSE))","v":""},null,null,null,null,null,null,103,1.0291189476637066,{"$f":"IF(L104=\"\",\"\",IF(M104<Results!D$12,1,0))","v":1},null,"",null,"",""]
[null,{"$f":"IF(A105=\"\",\"\",'Data input'!B105)","v":""},{"$f":"IF($A105=\"\",\"\",VLOOKUP($A105,'Data input'!$A$2:$E$201,COLUMN(C104),FALSE))","v":""},{"$f":"IF($A105=\"\",\"\",VLOOKUP($A105,'Data input'!$A$2:$E$201,COLUMN(D104),FALSE))","v":""},{"$f":"IF($A105=\"\",\"\",VLOOKUP($A105,'Data input'!$A$2:$E$201,COLUMN(E104),FALSE))","v":""},null,null,null,null,null,null,104,1.0609626231566811,{"$f":"IF(L105=\"\",\"\",IF(M105<Results!D$12,1,0))","v":0},null,"",null,"",""]
[null,{"$f":"IF(A106=\"\",\"\",'Data input'!B106)","v":""},{"$f":"IF($A106=\"\",\"\",VLOOKUP($A106,'Data input'!$A$2:$E$201,COLUMN(C105),FALSE))","v":""},{"$f":"IF($A106=\"\",\"\",VLOOKUP($A106,'Data input'!$A$2:$E$201,COLUMN(D105),FALSE))","v":""},{"$f":"IF($A106=\"\",\"\",VLOOKUP($A106,'Data input'!$A$2:$E$201,COLUMN(E105),FALSE))","v":""},null,null,null,null,null,null,105,1.0497023858933165,{"$f":"IF(L106=\"\",\"\",IF(M106<Results!D$12,1,0))","v":0},null,"",null,"",""]
[null,{"$f":"IF(A107=\"\",\"\",'Data input'!B107)","v":""},{"$f":"IF($A107=\"\",\"\",VLOOKUP($A107,'Data input'!$A$2:$E$201,COLUMN(C106),FALSE))","v":""},{"$f":"IF($A107=\"\",\"\",VLOOKUP($A107,'Data input'!$A$2:$E$201,COLUMN(D106),FALSE))","v":""},{"$f":"IF($A107=\"\",\"\",VLOOKUP($A107,'Data input'!$A$2:$E$201,COLUMN(E106),FALSE))","v":""},null,null,null,null,null,null,106,1.0226540669142894,{"$f":"IF(L107=\"\",\"\",IF(M107<Results!D$12,1,0))","v":1},null,"",null,"",""]
[null,{"$f":"IF(A108=\"\",\"\",'Data input'!B108)","v":""},{"$f":"IF($A108=\"\",\"\",VLOOKUP($A108,'Data input'!$A$2:$E$201,COLUMN(C107),FALSE))","v":""},{"$f":"IF($A108=\"\",\"\",VLOOKUP($A108,'Data input'!$A$2:$E$201,COLUMN(D107),FALSE))","v":""},{"$f":"IF($A108=\"\",\"\",VLOOKUP($A108,'Data input'!$A$2:$E$201,COLUMN(E107),FALSE))","v":""},null,null,null,null,null,null,107,1.0446286363547639,{"$f":"IF(L108=\"\",\"\",IF(M108<Results!D$12,1,0))","v":0},null,"",null,"",""]
[null,{"$f":"IF(A109=\"\",\"\",'Data input'!B109)","v":""},{"$f":"IF($A109=\"\",\"\",VLOOKUP($A109,'Data input'!$A$2:$E$201,COLUMN(C108),FALSE))","v":""},{"$f":"IF($A109=\"\",\"\",VLOOKUP($A109,'Data input'!$A$2:$E$201,COLUMN(D108),FALSE))","v":""},{"$f":"IF($A109=\"\",\"\",VLOOKUP($A109,'Data input'!$A$2:$E$201,COLUMN(E108),FALSE))","v":""},null,null,null,null,null,null,108,1.0390300590527477,{"$f":"IF(L109=\"\",\"\",IF(M109<Results!D$12,1,0))","v":0},null,"",null,"",""]
[null,{"$f":"IF(A110=\"\",\"\",'Data input'!B110)","v":""},{"$f":"IF($A110=\"\",\"\",VLOOKUP($A110,'Data input'!$A$2:$E$201,COLUMN(C109),FALSE))","v":""},{"$f":"IF($A110=\"\",\"\",VLOOKUP($A110,'Data input'!$A$2:$E$201,COLUMN(D109),FALSE))","v":""},{"$f":"IF($A110=\"\",\"\",VLOOKUP($A110,'Data input'!$A$2:$E$201,COLUMN(E109),FALSE))","v":""},null,null,null,null,null,null,109,1.0128430286702816,{"$f":"IF(L110=\"\",\"\",IF(M110<Results!D$12,1,0))","v":1},null,"",null,"",""]
[null,{"$f":"IF(A111=\"\",\"\",'Data input'!B111)","v":""},{"$f":"IF($A111=\"\",\"\",VLOOKUP($A111,'Data input'!$A$2:$E$201,COLUMN(C110),FALSE))","v":""},{"$f":"IF($A111=\"\",\"\",VLOOKUP($A111,'Data input'!$A$2:$E$201,COLUMN(D110),FALSE))","v":""},{"$f":"IF($A111=\"\",\"\",VLOOKUP($A111,'Data input'!$A$2:$E$201,COLUMN(E110),FALSE))","v":""},null,null,null,null,null,null,110,1.0427269339463339,{"$f":"IF(L111=\"\",\"\",IF(M111<Results!D$12,1,0))","v":0},null,"",null,"",""]
[null,{"$f":"IF(A112=\"\",\"\",'Data input'!B112)","v":""},{"$f":"IF($A112=\"\",\"\",VLOOKUP($A112,'Data input'!$A$2:$E$201,COLUMN(C111),FALSE))","v":""},{"$f":"IF($A112=\"\",\"\",VLOOKUP($A112,'Data input'!$A$2:$E$201,COLUMN(D111),FALSE))","v":""},{"$f":"IF($A112=\"\",\"\",VLOOKUP($A112,'Data input'!$A$2:$E$201,COLUMN(E111),FALSE))","v":""},null,null,null,null,null,null,111,1.0491778750118688,{"$f":"IF(L112=\"\",\"\",IF(M112<Results!D$12,1,0))","v":0},null,"",null,"",""]
[null,{"$f":"IF(A113=\"\",\"\",'Data input'!B113)","v":""},{"$f":"IF($A113=\"\",\"\",VLOOKUP($A113,'Data input'!$A$2:$E$201,COLUMN(C112),FALSE))","v":""},{"$f":"IF($A113=\"\",\"\",VLOOKUP($A113,'Data input'!$A$2:$E$201,COLUMN(D112),FALSE))","v":""},{"$f":"IF($A113=\"\",\"\",VLOOKUP($A113,'Data input'!$A$2:$E$201,COLUMN(E112),FALSE))","v":""},null,null,null,null,null,null,112,1.0191926820052821,{"$f":"IF(L113=\"\",\"\",IF(M113<Results!D$12,1,0))","v":1},null,"",null,"",""]
[null,{"$f":"IF(A114=\"\",\"\",'Data input'!B114)","v":""},{"$f":"IF($A114=\"\",\"\",VLOOKUP($A114,'Data input'!$A$2:$E$201,COLUMN(C113),FALSE))","v":""},{"$f":"IF($A114=\"\",\"\",VLOOKUP($A114,'Data input'!$A$2:$E$201,COLUMN(D113),FALSE))","v":""},{"$f":"IF($A114=\"\",\"\",VLOOKUP($A114,'Data input'!$A$2:$E$201,COLUMN(E113),FALSE))","v":""},null,null,null,null,null,null,113,1.0254614440715752,{"$f":"IF(L114=\"\",\"\",IF(M114<Results!D$12,1,0))","v":1},null,"",null,"",""]
[null,{"$f":"IF(A115=\"\",\"\",'Data input'!B115)","v":""},{"$f":"IF($A115=\"\",\"\",VLOOKUP($A115,'Data input'!$A$2:$E$201,COLUMN(C114),FALSE))","v":""},{"$f":"IF($A115=\"\",\"\",VLOOKUP($A115,'Data input'!$A$2:$E$201,COLUMN(D114),FALSE))","v":""},{"$f":"IF($A115=\"\",\"\",VLOOKUP($A115,'Data input'!$A$2:$E$201,COLUMN(E114),FALSE))","v":""},null,null,null,null,null,null,114,1.044603540480419,{"$f":"IF(L115=\"\",\"\",IF(M115<Results!D$12,1,0))","v":0},null,"",null,"",""]
[null,{"$f":"IF(A116=\"\",\"\",'Data input'!B116)","v":""},{"$f":"IF($A116=\"\",\"\",VLOOKUP($A116,'Data input'!$A$2:$E$201,COLUMN(C115),FALSE))","v":""},{"$f":"IF($A116=\"\",\"\",VLOOKUP($A116,'Data input'!$A$2:$E$201,COLUMN(D115),FALSE))","v":""},{"$f":"IF($A116=\"\",\"\",VLOOKUP($A116,'Data input'!$A$2:$E$201,COLUMN(E115),FALSE))","v":""},null,null,null,null,null,null,115,1.0280035167498571,{"$f":"IF(L116=\"\",\"\",IF(M116<Results!D$12,1,0))","v":1},null,"",null,"",""]
[null,{"$f":"IF(A117=\"\",\"\",'Data input'!B117)","v":""},{"$f":"IF($A117=\"\",\"\",VLOOKUP($A117,'Data input'!$A$2:$E$201,COLUMN(C116),FALSE))","v":""},{"$f":"IF($A117=\"\",\"\",VLOOKUP($A117,'Data input'!$A$2:$E$201,COLUMN(D116),FALSE))","v":""},{"$f":"IF($A117=\"\",\"\",VLOOKUP($A117,'Data input'!$A$2:$E$201,COLUMN(E116),FALSE))","v":""},null,null,null,null,null,null,116,1.0463944889223284,{"$f":"IF(L117=\"\",\"\",IF(M117<Results!D$12,1,0))","v":0},null,"",null,"",""]
[null,{"$f":"IF(A118=\"\",\"\",'Data input'!B118)","v":""},{"$f":"IF($A118=\"\",\"\",VLOOKUP($A118,'Data input'!$A$2:$E$201,COLUMN(C117),FALSE))","v":""},{"$f":"IF($A118=\"\",\"\",VLOOKUP($A118,'Data input'!$A$2:$E$201,COLUMN(D117),FALSE))","v":""},{"$f":"IF($A118=\"\",\"\",VLOOKUP($A118,'Data input'!$A$2:$E$201,COLUMN(E117),FALSE))","v":""},null,null,null,null,null,null,117,1.0436737772826343,{"$f":"IF(L118=\"\",\"\",IF(M118<Results!D$12,1,0))","v":0},null,"",null,"",""]
[null,{"$f":"IF(A119=\"\",\"\",'Data input'!B119)","v":""},{"$f":"IF($A119=\"\",\"\",VLOOKUP($A119,'Data input'!$A$2:$E$201,COLUMN(C118),FALSE))","v":""},{"$f":"IF($A119=\"\",\"\",VLOOKUP($A119,'Data input'!$A$2:$E$201,COLUMN(D118),FALSE))","v":""},{"$f":"IF($A119=\"\",\"\",VLOOKUP($A119,'Data input'!$A$2:$E$201,COLUMN(E118),FALSE))","v":""},null,null,null,null,null,null,118,1.0362734608587441,{"$f":"IF(L119=\"\",\"\",IF(M119<Results!D$12,1,0))","v":1},null,"",null,"",""]
[null,{"$f":"IF(A120=\"\",\"\",'Data input'!B120)","v":""},{"$f":"IF($A120=\"\",\"\",VLOOKUP($A120,'Data input'!$A$2:$E$201,COLUMN(C119),FALSE))","v":""},{"$f":"IF($A120=\"\",\"\",VLOOKUP($A120,'Data input'!$A$2:$E$201,COLUMN(D119),FALSE))","v":""},{"$f":"IF($A120=\"\",\"\",VLOOKUP($A120,'Data input'!$A$2:$E$201,COLUMN(E119),FALSE))","v":""},null,null,null,null,null,null,119,1.0326939692709709,{"$f":"IF(L120=\"\",\"\",IF(M120<Results!D$12,1,0))","v":1},null,"",null,"",""]
[null,{"$f":"IF(A121=\"\",\"\",'Data input'!B121)","v":""},{"$f":"IF($A121=\"\",\"\",VLOOKUP($A121,'Data input'!$A$2:$E$201,COLUMN(C120),FALSE))","v":""},{"$f":"IF($A121=\"\",\"\",VLOOKUP($A121,'Data input'!$A$2:$E$201,COLUMN(D120),FALSE))","v":""},{"$f":"IF($A121=\"\",\"\",VLOOKUP($A121,'Data input'!$A$2:$E$201,COLUMN(E120),FALSE))","v":""},null,null,null,null,null,null,120,1.008903884745266,{"$f":"IF(L121=\"\",\"\",IF(M121<Results!D$12,1,0))","v":1},null,"",null,"",""]
[null,{"$f":"IF(A122=\"\",\"\",'Data input'!B122)","v":""},{"$f":"IF($A122=\"\",\"\",VLOOKUP($A122,'Data input'!$A$2:$E$201,COLUMN(C121),FALSE))","v":""},{"$f":"IF($A122=\"\",\"\",VLOOKUP($A122,'Data input'!$A$2:$E$201,COLUMN(D121),FALSE))","v":""},{"$f":"IF($A122=\"\",\"\",VLOOKUP($A122,'Data input'!$A$2:$E$201,COLUMN(E121),FALSE))","v":""},null,null,null,null,null,null,121,1.0457258777418561,{"$f":"IF(L122=\"\",\"\",IF(M122<Results!D$12,1,0))","v":0},null,"",null,"",""]
[null,{"$f":"IF(A123=\"\",\"\",'Data input'!B123)","v":""},{"$f":"IF($A123=\"\",\"\",VLOOKUP($A123,'Data input'!$A$2:$E$201,COLUMN(C122),FALSE))","v":""},{"$f":"IF($A123=\"\",\"\",VLOOKUP($A123,'Data input'!$A$2:$E$201,COLUMN(D122),FALSE))","v":""},{"$f":"IF($A123=\"\",\"\",VLOOKUP($A123,'Data input'!$A$2:$E$201,COLUMN(E122),FALSE))","v":""},null,null,null,null,null,null,122,1.0211858679210377,{"$f":"IF(L123=\"\",\"\",IF(M123<Results!D$12,1,0))","v":1},null,"",null,"",""]
[null,{"$f":"IF(A124=\"\",\"\",'Data input'!B124)","v":""},{"$f":"IF($A124=\"\",\"\",VLOOKUP($A124,'Data input'!$A$2:$E$201,COLUMN(C123),FALSE))","v":""},{"$f":"IF($A124=\"\",\"\",VLOOKUP($A124,'Data input'!$A$2:$E$201,COLUMN(D123),FALSE))","v":""},{"$f":"IF($A124=\"\",\"\",VLOOKUP($A124,'Data input'!$A$2:$E$201,COLUMN(E123),FALSE))","v":""},null,null,null,null,null,null,123,1.0304246980284988,{"$f":"IF(L124=\"\",\"\",IF(M124<Results!D$12,1,0))","v":1},null,"",null,"",""]
[null,{"$f":"IF(A125=\"\",\"\",'Data input'!B125)","v":""},{"$f":"IF($A125=\"\",\"\",VLOOKUP($A125,'Data input'!$A$2:$E$201,COLUMN(C124),FALSE))","v":""},{"$f":"IF($A125=\"\",\"\",VLOOKUP($A125,'Data input'!$A$2:$E$201,COLUMN(D124),FALSE))","v":""},{"$f":"IF($A125=\"\",\"\",VLOOKUP($A125,'Data input'!$A$2:$E$201,COLUMN(E124),FALSE))","v":""},null,null,null,null,null,null,124,1.0299930346247734,{"$f":"IF(L125=\"\",\"\",IF(M125<Results!D$12,1,0))","v":1},null,"",null,"",""]
[null,{"$f":"IF(A126=\"\",\"\",'Data input'!B126)","v":""},{"$f":"IF($A126=\"\",\"\",VLOOKUP($A126,'Data input'!$A$2:$E$201,COLUMN(C125),FALSE))","v":""},{"$f":"IF($A126=\"\",\"\",VLOOKUP($A126,'Data input'!$A$2:$E$201,COLUMN(D125),FALSE))","v":""},{"$f":"IF($A126=\"\",\"\",VLOOKUP($A126,'Data input'!$A$2:$E$201,COLUMN(E125),FALSE))","v":""},null,null,null,null,null,null,125,1.0434819958585504,{"$f":"IF(L126=\"\",\"\",IF(M126<Results!D$12,1,0))","v":0},null,"",null,"",""]
[null,{"$f":"IF(A127=\"\",\"\",'Data input'!B127)","v":""},{"$f":"IF($A127=\"\",\"\",VLOOKUP($A127,'Data input'!$A$2:$E$201,COLUMN(C126),FALSE))","v":""},{"$f":"IF($A127=\"\",\"\",VLOOKUP($A127,'Data input'!$A$2:$E$201,COLUMN(D126),FALSE))","v":""},{"$f":"IF($A127=\"\",\"\",VLOOKUP($A127,'Data input'!$A$2:$E$201,COLUMN(E126),FALSE))","v":""},null,null,null,null,null,null,126,1.0282751404154364,{"$f":"IF(L127=\"\",\"\",IF(M127<Results!D$12,1,0))","v":1},null,"",null,"",""]
[null,{"$f":"IF(A128=\"\",\"\",'Data input'!B128)","v":""},{"$f":"IF($A128=\"\",\"\",VLOOKUP($A128,'Data input'!$A$2:$E$201,COLUMN(C127),FALSE))","v":""},{"$f":"IF($A128=\"\",\"\",VLOOKUP($A128,'Data input'!$A$2:$E$201,COLUMN(D127),FALSE))","v":""},{"$f":"IF($A128=\"\",\"\",VLOOKUP($A128,'Data input'!$A$2:$E$201,COLUMN(E127),FALSE))","v":""},null,null,null,null,null,null,127,1.0338030416349908,{"$f":"IF(L128=\"\",\"\",IF(M128<Results!D$12,1,0))","v":1},null,"",null,"",""]
[null,{"$f":"IF(A129=\"\",\"\",'Data input'!B129)","v":""},{"$f":"IF($A129=\"\",\"\",VLOOKUP($A129,'Data input'!$A$2:$E$201,COLUMN(C128),FALSE))","v":""},{"$f":"IF($A129=\"\",\"\",VLOOKUP($A129,'Data input'!$A$2:$E$201,COLUMN(D128),FALSE))","v":""},{"$f":"IF($A129=\"\",\"\",VLOOKUP($A129,'Data input'!$A$2:$E$201,COLUMN(E128),FALSE))","v":""},null,null,null,null,null,null,128,1.0352634903037605,{"$f":"IF(L129=\"\",\"\",IF(M129<Results!D$12,1,0))","v":1},null,"",null,"",""]
[null,{"$f":"IF(A130=\"\",\"\",'Data input'!B130)","v":""},{"$f":"IF($A130=\"\",\"\",VLOOKUP($A130,'Data input'!$A$2:$E$201,COLUMN(C129),FALSE))","v":""},{"$f":"IF($A130=\"\",\"\",VLOOKUP($A130,'Data input'!$A$2:$E$201,COLUMN(D129),FALSE))","v":""},{"$f":"IF($A130=\"\",\"\",VLOOKUP($A130,'Data input'!$A$2:$E$201,COLUMN(E129),FALSE))","v":""},null,null,null,null,null,null,129,1.0405406274795737,{"$f":"IF(L130=\"\",\"\",IF(M130<Results!D$12,1,0))","v":0},null,"",null,"",""]
[null,{"$f":"IF(A131=\"\",\"\",'Data input'!B131)","v":""},{"$f":"IF($A131=\"\",\"\",VLOOKUP($A131,'Data input'!$A$2:$E$201,COLUMN(C130),FALSE))","v":""},{"$f":"IF($A131=\"\",\"\",VLOOKUP($A131,'Data input'!$A$2:$E$201,COLUMN(D130),FALSE))","v":""},{"$f":"IF($A131=\"\",\"\",VLOOKUP($A131,'Data input'!$A$2:$E$201,COLUMN(E130),FALSE))","v":""},null,null,null,null,null,null,{"$f":"IF(M131=\"\",\"\",ROW(L131)-1)","v":130},1.050288631454485,{"$f":"IF(L131=\"\",\"\",IF(M131<Results!D$12,1,0))","v":0},null,{"$f":"IF(A131=\"\",\"\",ROW(A131)-1)","v":""},null,{"$f":"IF(P131=\"\",\"\",(AVERAGE(Q$2:Q$201)-Q131)^3)","v":""},{"$f":"IF(P131=\"\",\"\",(AVERAGE(Q$2:Q$201)-Q131)^2)","v":""}]
[null,{"$f":"IF(A132=\"\",\"\",'Data input'!B132)","v":""},{"$f":"IF($A132=\"\",\"\",VLOOKUP($A132,'Data input'!$A$2:$E$201,COLUMN(C131),FALSE))","v":""},{"$f":"IF($A132=\"\",\"\",VLOOKUP($A132,'Data input'!$A$2:$E$201,COLUMN(D131),FALSE))","v":""},{"$f":"IF($A132=\"\",\"\",VLOOKUP($A132,'Data input'!$A$2:$E$201,COLUMN(E131),FALSE))","v":""},null,null,null,null,null,null,131,1.0238138562962704,{"$f":"IF(L132=\"\",\"\",IF(M132<Results!D$12,1,0))","v":1},null,"",null,"",""]
[null,{"$f":"IF(A133=\"\",\"\",'Data input'!B133)","v":""},{"$f":"IF($A133=\"\",\"\",VLOOKUP($A133,'Data input'!$A$2:$E$201,COLUMN(C132),FALSE))","v":""},{"$f":"IF($A133=\"\",\"\",VLOOKUP($A133,'Data input'!$A$2:$E$201,COLUMN(D132),FALSE))","v":""},{"$f":"IF($A133=\"\",\"\",VLOOKUP($A133,'Data input'!$A$2:$E$201,COLUMN(E132),FALSE))","v":""},null,null,null,null,null,null,132,1.0582318383658704,{"$f":"IF(L133=\"\",\"\",IF(M133<Results!D$12,1,0))","v":0},null,"",null,"",""]
[null,{"$f":"IF(A134=\"\",\"\",'Data input'!B134)","v":""},{"$f":"IF($A134=\"\",\"\",VLOOKUP($A134,'Data input'!$A$2:$E$201,COLUMN(C133),FALSE))","v":""},{"$f":"IF($A134=\"\",\"\",VLOOKUP($A134,'Data input'!$A$2:$E$201,COLUMN(D133),FALSE))","v":""},{"$f":"IF($A134=\"\",\"\",VLOOKUP($A134,'Data input'!$A$2:$E$201,COLUMN(E133),FALSE))","v":""},null,null,null,null,null,null,133,1.0300965997000937,{"$f":"IF(L134=\"\",\"\",IF(M134<Results!D$12,1,0))","v":1},null,"",null,"",""]
[null,{"$f":"IF(A135=\"\",\"\",'Data input'!B135)","v":""},{"$f":"IF($A135=\"\",\"\",VLOOKUP($A135,'Data input'!$A$2:$E$201,COLUMN(C134),FALSE))","v":""},{"$f":"IF($A135=\"\",\"\",VLOOKUP($A135,'Data input'!$A$2:$E$201,COLUMN(D134),FALSE))","v":""},{"$f":"IF($A135=\"\",\"\",VLOOKUP($A135,'Data input'!$A$2:$E$201,COLUMN(E134),FALSE))","v":""},null,null,null,null,null,null,134,1.0316650950992228,{"$f":"IF(L135=\"\",\"\",IF(M135<Results!D$12,1,0))","v":1},null,"",null,"",""]
[null,{"$f":"IF(A136=\"\",\"\",'Data input'!B136)","v":""},{"$f":"IF($A136=\"\",\"\",VLOOKUP($A136,'Data input'!$A$2:$E$201,COLUMN(C135),FALSE))","v":""},{"$f":"IF($A136=\"\",\"\",VLOOKUP($A136,'Data input'!$A$2:$E$201,COLUMN(D135),FALSE))","v":""},{"$f":"IF($A136=\"\",\"\",VLOOKUP($A136,'Data input'!$A$2:$E$201,COLUMN(E135),FALSE))","v":""},null,null,null,null,null,null,135,1.0643144381449963,{"$f":"IF(L136=\"\",\"\",IF(M136<Results!D$12,1,0))","v":0},null,"",null,"",""]
[null,{"$f":"IF(A137=\"\",\"\",'Data input'!B137)","v":""},{"$f":"IF($A137=\"\",\"\",VLOOKUP($A137,'Data input'!$A$2:$E$201,COLUMN(C136),FALSE))","v":""},{"$f":"IF($A137=\"\",\"\",VLOOKUP($A137,'Data input'!$A$2:$E$201,COLUMN(D136),FALSE))","v":""},{"$f":"IF($A137=\"\",\"\",VLOOKUP($A137,'Data input'!$A$2:$E$201,COLUMN(E136),FALSE))","v":""},null,null,null,null,null,null,136,1.0581484411960893,{"$f":"IF(L137=\"\",\"\",IF(M137<Results!D$12,1,0))","v":0},null,"",null,"",""]
[null,{"$f":"IF(A138=\"\",\"\",'Data input'!B138)","v":""},{"$f":"IF($A138=\"\",\"\",VLOOKUP($A138,'Data input'!$A$2:$E$201,COLUMN(C137),FALSE))","v":""},{"$f":"IF($A138=\"\",\"\",VLOOKUP($A138,'Data input'!$A$2:$E$201,COLUMN(D137),FALSE))","v":""},{"$f":"IF($A138=\"\",\"\",VLOOKUP($A138,'Data input'!$A$2:$E$201,COLUMN(E137),FALSE))","v":""},null,null,null,null,null,null,137,1.0171099812102273,{"$f":"IF(L138=\"\",\"\",IF(M138<Results!D$12,1,0))","v":1},null,"",null,"",""]
[null,{"$f":"IF(A139=\"\",\"\",'Data input'!B139)","v":""},{"$f":"IF($A139=\"\",\"\",VLOOKUP($A139,'Data input'!$A$2:$E$201,COLUMN(C138),FALSE))","v":""},{"$f":"IF($A139=\"\",\"\",VLOOKUP($A139,'Data input'!$A$2:$E$201,COLUMN(D138),FALSE))","v":""},{"$f":"IF($A139=\"\",\"\",VLOOKUP($A139,'Data input'!$A$2:$E$201,COLUMN(E138),FALSE))","v":""},null,null,null,null,null,null,138,1.0345155537883213,{"$f":"IF(L139=\"\",\"\",IF(M139<Results!D$12,1,0))","v":1},null,"",null,"",""]
[null,{"$f":"IF(A140=\"\",\"\",'Data input'!B140)","v":""},{"$f":"IF($A140=\"\",\"\",VLOOKUP($A140,'Data input'!$A$2:$E$201,COLUMN(C139),FALSE))","v":""},{"$f":"IF($A140=\"\",\"\",VLOOKUP($A140,'Data input'!$A$2:$E$201,COLUMN(D139),FALSE))","v":""},{"$f":"IF($A140=\"\",\"\",VLOOKUP($A140,'Data input'!$A$2:$E$201,COLUMN(E139),FALSE))","v":""},null,null,null,null,null,null,139,1.0365880295605379,{"$f":"IF(L140=\"\",\"\",IF(M140<Results!D$12,1,0))","v":1},null,"",null,"",""]
[null,{"$f":"IF(A141=\"\",\"\",'Data input'!B141)","v":""},{"$f":"IF($A141=\"\",\"\",VLOOKUP($A141,'Data input'!$A$2:$E$201,COLUMN(C140),FALSE))","v":""},{"$f":"IF($A141=\"\",\"\",VLOOKUP($A141,'Data input'!$A$2:$E$201,COLUMN(D140),FALSE))","v":""},{"$f":"IF($A141=\"\",\"\",VLOOKUP($A141,'Data input'!$A$2:$E$201,COLUMN(E140),FALSE))","v":""},null,null,null,null,null,null,140,1.0327204413970865,{"$f":"IF(L141=\"\",\"\",IF(M141<Results!D$12,1,0))","v":1},null,"",null,"",""]
[null,{"$f":"IF(A142=\"\",\"\",'Data input'!B142)","v":""},{"$f":"IF($A142=\"\",\"\",VLOOKUP($A142,'Data input'!$A$2:$E$201,COLUMN(C141),FALSE))","v":""},{"$f":"IF($A142=\"\",\"\",VLOOKUP($A142,'Data input'!$A$2:$E$201,COLUMN(D141),FALSE))","v":""},{"$f":"IF($A142=\"\",\"\",VLOOKUP($A142,'Data input'!$A$2:$E$201,COLUMN(E141),FALSE))","v":""},null,null,null,null,null,null,141,1.0393266530106975,{"$f":"IF(L142=\"\",\"\",IF(M142<Results!D$12,1,0))","v":0},null,"",null,"",""]
[null,{"$f":"IF(A143=\"\",\"\",'Data input'!B143)","v":""},{"$f":"IF($A143=\"\",\"\",VLOOKUP($A143,'Data input'!$A$2:$E$201,COLUMN(C142),FALSE))","v":""},{"$f":"IF($A143=\"\",\"\",VLOOKUP($A143,'Data input'!$A$2:$E$201,COLUMN(D142),FALSE))","v":""},{"$f":"IF($A143=\"\",\"\",VLOOKUP($A143,'Data input'!$A$2:$E$201,COLUMN(E142),FALSE))","v":""},null,null,null,null,null,null,142,1.0273427835948865,{"$f":"IF(L143=\"\",\"\",IF(M143<Results!D$12,1,0))","v":1},null,"",null,"",""]
[null,{"$f":"IF(A144=\"\",\"\",'Data input'!B144)","v":""},{"$f":"IF($A144=\"\",\"\",VLOOKUP($A144,'Data input'!$A$2:$E$201,COLUMN(C143),FALSE))","v":""},{"$f":"IF($A144=\"\",\"\",VLOOKUP($A144,'Data input'!$A$2:$E$201,COLUMN(D143),FALSE))","v":""},{"$f":"IF($A144=\"\",\"\",VLOOKUP($A144,'Data input'!$A$2:$E$201,COLUMN(E143),FALSE))","v":""},null,null,null,null,null,null,143,1.012118726018165,{"$f":"IF(L144=\"\",\"\",IF(M144<Results!D$12,1,0))","v":1},null,"",null,"",""]
[null,{"$f":"IF(A145=\"\",\"\",'Data input'!B145)","v":""},{"$f":"IF($A145=\"\",\"\",VLOOKUP($A145,'Data input'!$A$2:$E$201,COLUMN(C144),FALSE))","v":""},{"$f":"IF($A145=\"\",\"\",VLOOKUP($A145,'Data input'!$A$2:$E$201,COLUMN(D144),FALSE))","v":""},{"$f":"IF($A145=\"\",\"\",VLOOKUP($A145,'Data input'!$A$2:$E$201,COLUMN(E144),FALSE))","v":""},null,null,null,null,null,null,144,1.0221210466077266,{"$f":"IF(L145=\"\",\"\",IF(M145<Results!D$12,1,0))","v":1},null,"",null,"",""]
[null,{"$f":"IF(A146=\"\",\"\",'Data input'!B146)","v":""},{"$f":"IF($A146=\"\",\"\",VLOOKUP($A146,'Data input'!$A$2:$E$201,COLUMN(C145),FALSE))","v":""},{"$f":"IF($A146=\"\",\"\",VLOOKUP($A146,'Data input'!$A$2:$E$201,COLUMN(D145),FALSE))","v":""},{"$f":"IF($A146=\"\",\"\",VLOOKUP($A146,'Data input'!$A$2:$E$201,COLUMN(E145),FALSE))","v":""},null,null,null,null,null,null,145,1.0417048978537888,{"$f":"IF(L146=\"\",\"\",IF(M146<Results!D$12,1,0))","v":0},null,"",null,"",""]
[null,{"$f":"IF(A147=\"\",\"\",'Data input'!B147)","v":""},{"$f":"IF($A147=\"\",\"\",VLOOKUP($A147,'Data input'!$A$2:$E$201,COLUMN(C146),FALSE))","v":""},{"$f":"IF($A147=\"\",\"\",VLOOKUP($A147,'Data input'!$A$2:$E$201,COLUMN(D146),FALSE))","v":""},{"$f":"IF($A147=\"\",\"\",VLOOKUP($A147,'Data input'!$A$2:$E$201,COLUMN(E146),FALSE))","v":""},null,null,null,null,null,null,146,1.037300819968509,{"$f":"IF(L147=\"\",\"\",IF(M147<Results!D$12,1,0))","v":1},null,"",null,"",""]
[null,{"$f":"IF(A148=\"\",\"\",'Data input'!B148)","v":""},{"$f":"IF($A148=\"\",\"\",VLOOKUP($A148,'Data input'!$A$2:$E$201,COLUMN(C147),FALSE))","v":""},{"$f":"IF($A148=\"\",\"\",VLOOKUP($A148,'Data input'!$A$2:$E$201,COLUMN(D147),FALSE))","v":""},{"$f":"IF($A148=\"\",\"\",VLOOKUP($A148,'Data input'!$A$2:$E$201,COLUMN(E147),FALSE))","v":""},null,null,null,null,null,null,147,1.0299296795399835,{"$f":"IF(L148=\"\",\"\",IF(M148<Results!D$12,1,0))","v":1},null,"",null,"",""]
[null,{"$f":"IF(A149=\"\",\"\",'Data input'!B149)","v":""},{"$f":"IF($A149=\"\",\"\",VLOOKUP($A149,'Data input'!$A$2:$E$201,COLUMN(C148),FALSE))","v":""},{"$f":"IF($A149=\"\",\"\",VLOOKUP($A149,'Data input'!$A$2:$E$201,COLUMN(D148),FALSE))","v":""},{"$f":"IF($A149=\"\",\"\",VLOOKUP($A149,'Data input'!$A$2:$E$201,COLUMN(E148),FALSE))","v":""},null,null,null,null,null,null,148,1.0381583358095183,{"$f":"IF(L149=\"\",\"\",IF(M149<Results!D$12,1,0))","v":0},null,"",null,"",""]
[null,{"$f":"IF(A150=\"\",\"\",'Data input'!B150)","v":""},{"$f":"IF($A150=\"\",\"\",VLOOKUP($A150,'Data input'!$A$2:$E$201,COLUMN(C149),FALSE))","v":""},{"$f":"IF($A150=\"\",\"\",VLOOKUP($A150,'Data input'!$A$2:$E$201,COLUMN(D149),FALSE))","v":""},{"$f":"IF($A150=\"\",\"\",VLOOKUP($A150,'Data input'!$A$2:$E$201,COLUMN(E149),FALSE))","v":""},null,null,null,null,null,null,149,1.0096309625285378,{"$f":"IF(L150=\"\",\"\",IF(M150<Results!D$12,1,0))","v":1},null,"",null,"",""]
[null,{"$f":"IF(A151=\"\",\"\",'Data input'!B151)","v":""},{"$f":"IF($A151=\"\",\"\",VLOOKUP($A151,'Data input'!$A$2:$E$201,COLUMN(C150),FALSE))","v":""},{"$f":"IF($A151=\"\",\"\",VLOOKUP($A151,'Data input'!$A$2:$E$201,COLUMN(D150),FALSE))","v":""},{"$f":"IF($A151=\"\",\"\",VLOOKUP($A151,'Data input'!$A$2:$E$201,COLUMN(E150),FALSE))","v":""},null,null,null,null,null,null,150,1.0314950130338527,{"$f":"IF(L151=\"\",\"\",IF(M151<Results!D$12,1,0))","v":1},null,"",null,"",""]
[null,{"$f":"IF(A152=\"\",\"\",'Data input'!B152)","v":""},{"$f":"IF($A152=\"\",\"\",VLOOKUP($A152,'Data input'!$A$2:$E$201,COLUMN(C151),FALSE))","v":""},{"$f":"IF($A152=\"\",\"\",VLOOKUP($A152,'Data input'!$A$2:$E$201,COLUMN(D151),FALSE))","v":""},{"$f":"IF($A152=\"\",\"\",VLOOKUP($A152,'Data input'!$A$2:$E$201,COLUMN(E151),FALSE))","v":""},null,null,null,null,null,null,151,1.0255753562816881,{"$f":"IF(L152=\"\",\"\",IF(M152<Results!D$12,1,0))","v":1},null,"",null,"",""]
[null,{"$f":"IF(A153=\"\",\"\",'Data input'!B153)","v":""},{"$f":"IF($A153=\"\",\"\",VLOOKUP($A153,'Data input'!$A$2:$E$201,COLUMN(C152),FALSE))","v":""},{"$f":"IF($A153=\"\",\"\",VLOOKUP($A153,'Data input'!$A$2:$E$201,COLUMN(D152),FALSE))","v":""},{"$f":"IF($A153=\"\",\"\",VLOOKUP($A153,'Data input'!$A$2:$E$201,COLUMN(E152),FALSE))","v":""},null,null,null,null,null,null,152,1.0305108205862865,{"$f":"IF(L153=\"\",\"\",IF(M153<Results!D$12,1,0))","v":1},null,"",null,"",""]
[null,{"$f":"IF(A154=\"\",\"\",'Data input'!B154)","v":""},{"$f":"IF($A154=\"\",\"\",VLOOKUP($A154,'Data input'!$A$2:$E$201,COLUMN(C153),FALSE))","v":""},{"$f":"IF($A154=\"\",\"\",VLOOKUP($A154,'Data input'!$A$2:$E$201,COLUMN(D153),FALSE))","v":""},{"$f":"IF($A154=\"\",\"\",VLOOKUP($A154,'Data input'!$A$2:$E$201,COLUMN(E153),FALSE))","v":""},null,null,null,null,null,null,153,1.0520492652976494,{"$f":"IF(L154=\"\",\"\",IF(M154<Results!D$12,1,0))","v":0},null,"",null,"",""]
[null,{"$f":"IF(A155=\"\",\"\",'Data input'!B155)","v":""},{"$f":"IF($A155=\"\",\"\",VLOOKUP($A155,'Data input'!$A$2:$E$201,COLUMN(C154),FALSE))","v":""},{"$f":"IF($A155=\"\",\"\",VLOOKUP($A155,'Data input'!$A$2:$E$201,COLUMN(D154),FALSE))","v":""},{"$f":"IF($A155=\"\",\"\",VLOOKUP($A155,'Data input'!$A$2:$E$201,COLUMN(E154),FALSE))","v":""},null,null,null,null,null,null,154,1.0285892926581404,{"$f":"IF(L155=\"\",\"\",IF(M155<Results!D$12,1,0))","v":1},null,"",null,"",""]
[null,{"$f":"IF(A156=\"\",\"\",'Data input'!B156)","v":""},{"$f":"IF($A156=\"\",\"\",VLOOKUP($A156,'Data input'!$A$2:$E$201,COLUMN(C155),FALSE))","v":""},{"$f":"IF($A156=\"\",\"\",VLOOKUP($A156,'Data input'!$A$2:$E$201,COLUMN(D155),FALSE))","v":""},{"$f":"IF($A156=\"\",\"\",VLOOKUP($A156,'Data input'!$A$2:$E$201,COLUMN(E155),FALSE))","v":""},null,null,null,null,null,null,155,1.0426357283914016,{"$f":"IF(L156=\"\",\"\",IF(M156<Results!D$12,1,0))","v":0},null,"",null,"",""]
[null,{"$f":"IF(A157=\"\",\"\",'Data input'!B157)","v":""},{"$f":"IF($A157=\"\",\"\",VLOOKUP($A157,'Data input'!$A$2:$E$201,COLUMN(C156),FALSE))","v":""},{"$f":"IF($A157=\"\",\"\",VLOOKUP($A157,'Data input'!$A$2:$E$201,COLUMN(D156),FALSE))","v":""},{"$f":"IF($A157=\"\",\"\",VLOOKUP($A157,'Data input'!$A$2:$E$201,COLUMN(E156),FALSE))","v":""},null,null,null,null,null,null,156,1.0281657367230204,{"$f":"IF(L157=\"\",\"\",IF(M157<Results!D$12,1,0))","v":1},null,"",null,"",""]
[null,{"$f":"IF(A158=\"\",\"\",'Data input'!B158)","v":""},{"$f":"IF($A158=\"\",\"\",VLOOKUP($A158,'Data input'!$A$2:$E$201,COLUMN(C157),FALSE))","v":""},{"$f":"IF($A158=\"\",\"\",VLOOKUP($A158,'Data input'!$A$2:$E$201,COLUMN(D157),FALSE))","v":""},{"$f":"IF($A158=\"\",\"\",VLOOKUP($A158,'Data input'!$A$2:$E$201,COLUMN(E157),FALSE))","v":""},null,null,null,null,null,null,157,1.0293617568620537,{"$f":"IF(L158=\"\",\"\",IF(M158<Results!D$12,1,0))","v":1},null,"",null,"",""]
[null,{"$f":"IF(A159=\"\",\"\",'Data input'!B159)","v":""},{"$f":"IF($A159=\"\",\"\",VLOOKUP($A159,'Data input'!$A$2:$E$201,COLUMN(C158),FALSE))","v":""},{"$f":"IF($A159=\"\",\"\",VLOOKUP($A159,'Data input'!$A$2:$E$201,COLUMN(D158),FALSE))","v":""},{"$f":"IF($A159=\"\",\"\",VLOOKUP($A159,'Data input'!$A$2:$E$201,COLUMN(E158),FALSE))","v":""},null,null,null,null,null,null,158,1.0438947174488431,{"$f":"IF(L159=\"\",\"\",IF(M159<Results!D$12,1,0))","v":0},null,"",null,"",""]
[null,{"$f":"IF(A160=\"\",\"\",'Data input'!B160)","v":""},{"$f":"IF($A160=\"\",\"\",VLOOKUP($A160,'Data input'!$A$2:$E$201,COLUMN(C159),FALSE))","v":""},{"$f":"IF($A160=\"\",\"\",VLOOKUP($A160,'Data input'!$A$2:$E$201,COLUMN(D159),FALSE))","v":""},{"$f":"IF($A160=\"\",\"\",VLOOKUP($A160,'Data input'!$A$2:$E$201,COLUMN(E159),FALSE))","v":""},null,null,null,null,null,null,159,1.0204605469231998,{"$f":"IF(L160=\"\",\"\",IF(M160<Results!D$12,1,0))","v":1},null,"",null,"",""]
[null,{"$f":"IF(A161=\"\",\"\",'Data input'!B161)","v":""},{"$f":"IF($A161=\"\",\"\",VLOOKUP($A161,'Data input'!$A$2:$E$201,COLUMN(C160),FALSE))","v":""},{"$f":"IF($A161=\"\",\"\",VLOOKUP($A161,'Data input'!$A$2:$E$201,COLUMN(D160),FALSE))","v":""},{"$f":"IF($A161=\"\",\"\",VLOOKUP($A161,'Data input'!$A$2:$E$201,COLUMN(E160),FALSE))","v":""},null,null,null,null,null,null,160,1.0241313391272564,{"$f":"IF(L161=\"\",\"\",IF(M161<Results!D$12,1,0))","v":1},null,"",null,"",""]
[null,{"$f":"IF(A162=\"\",\"\",'Data input'!B162)","v":""},{"$f":"IF($A162=\"\",\"\",VLOOKUP($A162,'Data input'!$A$2:$E$201,COLUMN(C161),FALSE))","v":""},{"$f":"IF($A162=\"\",\"\",VLOOKUP($A162,'Data input'!$A$2:$E$201,COLUMN(D161),FALSE))","v":""},{"$f":"IF($A162=\"\",\"\",VLOOKUP($A162,'Data input'!$A$2:$E$201,COLUMN(E161),FALSE))","v":""},null,null,null,null,null,null,161,1.037228437122639,{"$f":"IF(L162=\"\",\"\",IF(M162<Results!D$12,1,0))","v":1},null,"",null,"",""]
[null,{"$f":"IF(A163=\"\",\"\",'Data input'!B163)","v":""},{"$f":"IF($A163=\"\",\"\",VLOOKUP($A163,'Data input'!$A$2:$E$201,COLUMN(C162),FALSE))","v":""},{"$f":"IF($A163=\"\",\"\",VLOOKUP($A163,'Data input'!$A$2:$E$201,COLUMN(D162),FALSE))","v":""},{"$f":"IF($A163=\"\",\"\",VLOOKUP($A163,'Data input'!$A$2:$E$201,COLUMN(E162),FALSE))","v":""},null,null,null,null,null,null,162,1.0532388000350539,{"$f":"IF(L163=\"\",\"\",IF(M163<Results!D$12,1,0))","v":0},null,"",null,"",""]
[null,{"$f":"IF(A164=\"\",\"\",'Data input'!B164)","v":""},{"$f":"IF($A164=\"\",\"\",VLOOKUP($A164,'Data input'!$A$2:$E$201,COLUMN(C163),FALSE))","v":""},{"$f":"IF($A164=\"\",\"\",VLOOKUP($A164,'Data input'!$A$2:$E$201,COLUMN(D163),FALSE))","v":""},{"$f":"IF($A164=\"\",\"\",VLOOKUP($A164,'Data input'!$A$2:$E$201,COLUMN(E163),FALSE))","v":""},null,null,null,null,null,null,163,1.042141076519006,{"$f":"IF(L164=\"\",\"\",IF(M164<Results!D$12,1,0))","v":0},null,"",null,"",""]
[null,{"$f":"IF(A165=\"\",\"\",'Data input'!B165)","v":""},{"$f":"IF($A165=\"\",\"\",VLOOKUP($A165,'Data input'!$A$2:$E$201,COLUMN(C164),FALSE))","v":""},{"$f":"IF($A165=\"\",\"\",VLOOKUP($A165,'Data input'!$A$2:$E$201,COLUMN(D164),FALSE))","v":""},{"$f":"IF($A165=\"\",\"\",VLOOKUP($A165,'Data input'!$A$2:$E$201,COLUMN(E164),FALSE))","v":""},null,null,null,null,null,null,164,1.0252248198821761,{"$f":"IF(L165=\"\",\"\",IF(M165<Results!D$12,1,0))","v":1},null,"",null,"",""]
[null,{"$f":"IF(A166=\"\",\"\",'Data input'!B166)","v":""},{"$f":"IF($A166=\"\",\"\",VLOOKUP($A166,'Data input'!$A$2:$E$201,COLUMN(C165),FALSE))","v":""},{"$f":"IF($A166=\"\",\"\",VLOOKUP($A166,'Data input'!$A$2:$E$201,COLUMN(D165),FALSE))","v":""},{"$f":"IF($A166=\"\",\"\",VLOOKUP($A166,'Data input'!$A$2:$E$201,COLUMN(E165),FALSE))","v":""},null,null,null,null,null,null,165,1.011093502363746,{"$f":"IF(L166=\"\",\"\",IF(M166<Results!D$12,1,0))","v":1},null,"",null,"",""]
[null,{"$f":"IF(A167=\"\",\"\",'Data input'!B167)","v":""},{"$f":"IF($A167=\"\",\"\",VLOOKUP($A167,'Data input'!$A$2:$E$201,COLUMN(C166),FALSE))","v":""},{"$f":"IF($A167=\"\",\"\",VLOOKUP($A167,'Data input'!$A$2:$E$201,COLUMN(D166),FALSE))","v":""},{"$f":"IF($A167=\"\",\"\",VLOOKUP($A167,'Data input'!$A$2:$E$201,COLUMN(E166),FALSE))","v":""},null,null,null,null,null,null,166,1.0439649595690983,{"$f":"IF(L167=\"\",\"\",IF(M167<Results!D$12,1,0))","v":0},null,"",null,"",""]
[null,{"$f":"IF(A168=\"\",\"\",'Data input'!B168)","v":""},{"$f":"IF($A168=\"\",\"\",VLOOKUP($A168,'Data input'!$A$2:$E$201,COLUMN(C167),FALSE))","v":""},{"$f":"IF($A168=\"\",\"\",VLOOKUP($A168,'Data input'!$A$2:$E$201,COLUMN(D167),FALSE))","v":""},{"$f":"IF($A168=\"\",\"\",VLOOKUP($A168,'Data input'!$A$2:$E$201,COLUMN(E167),FALSE))","v":""},null,null,null,null,null,null,167,1.0745322762445195,{"$f":"IF(L168=\"\",\"\",IF(M168<Results!D$12,1,0))","v":0},null,"",null,"",""]
[null,{"$f":"IF(A169=\"\",\"\",'Data input'!B169)","v":""},{"$f":"IF($A169=\"\",\"\",VLOOKUP($A169,'Data input'!$A$2:$E$201,COLUMN(C168),FALSE))","v":""},{"$f":"IF($A169=\"\",\"\",VLOOKUP($A169,'Data input'!$A$2:$E$201,COLUMN(D168),FALSE))","v":""},{"$f":"IF($A169=\"\",\"\",VLOOKUP($A169,'Data input'!$A$2:$E$201,COLUMN(E168),FALSE))","v":""},null,null,null,null,null,null,168,1.0226569700720225,{"$f":"IF(L169=\"\",\"\",IF(M169<Results!D$12,1,0))","v":1},null,"",null,"",""]
[null,{"$f":"IF(A170=\"\",\"\",'Data input'!B170)","v":""},{"$f":"IF($A170=\"\",\"\",VLOOKUP($A170,'Data input'!$A$2:$E$201,COLUMN(C169),FALSE))","v":""},{"$f":"IF($A170=\"\",\"\",VLOOKUP($A170,'Data input'!$A$2:$E$201,COLUMN(D169),FALSE))","v":""},{"$f":"IF($A170=\"\",\"\",VLOOKUP($A170,'Data input'!$A$2:$E$201,COLUMN(E169),FALSE))","v":""},null,null,null,null,null,null,169,1.0513876101437389,{"$f":"IF(L170=\"\",\"\",IF(M170<Results!D$12,1,0))","v":0},null,"",null,"",""]
[null,{"$f":"IF(A171=\"\",\"\",'Data input'!B171)","v":""},{"$f":"IF($A171=\"\",\"\",VLOOKUP($A171,'Data input'!$A$2:$E$201,COLUMN(C170),FALSE))","v":""},{"$f":"IF($A171=\"\",\"\",VLOOKUP($A171,'Data input'!$A$2:$E$201,COLUMN(D170),FALSE))","v":""},{"$f":"IF($A171=\"\",\"\",VLOOKUP($A171,'Data input'!$A$2:$E$201,COLUMN(E170),FALSE))","v":""},null,null,null,null,null,null,170,1.0465483431590834,{"$f":"IF(L171=\"\",\"\",IF(M171<Results!D$12,1,0))","v":0},null,"",null,"",""]
[null,{"$f":"IF(A172=\"\",\"\",'Data input'!B172)","v":""},{"$f":"IF($A172=\"\",\"\",VLOOKUP($A172,'Data input'!$A$2:$E$201,COLUMN(C171),FALSE))","v":""},{"$f":"IF($A172=\"\",\"\",VLOOKUP($A172,'Data input'!$A$2:$E$201,COLUMN(D171),FALSE))","v":""},{"$f":"IF($A172=\"\",\"\",VLOOKUP($A172,'Data input'!$A$2:$E$201,COLUMN(E171),FALSE))","v":""},null,null,null,null,null,null,171,1.0153177284129629,{"$f":"IF(L172=\"\",\"\",IF(M172<Results!D$12,1,0))","v":1},null,"",null,"",""]
[null,{"$f":"IF(A173=\"\",\"\",'Data input'!B173)","v":""},{"$f":"IF($A173=\"\",\"\",VLOOKUP($A173,'Data input'!$A$2:$E$201,COLUMN(C172),FALSE))","v":""},{"$f":"IF($A173=\"\",\"\",VLOOKUP($A173,'Data input'!$A$2:$E$201,COLUMN(D172),FALSE))","v":""},{"$f":"IF($A173=\"\",\"\",VLOOKUP($A173,'Data input'!$A$2:$E$201,COLUMN(E172),FALSE))","v":""},null,null,null,null,null,null,172,1.0393868226925116,{"$f":"IF(L173=\"\",\"\",IF(M173<Results!D$12,1,0))","v":0},null,"",null,"",""]
[null,{"$f":"IF(A174=\"\",\"\",'Data input'!B174)","v":""},{"$f":"IF($A174=\"\",\"\",VLOOKUP($A174,'Data input'!$A$2:$E$201,COLUMN(C173),FALSE))","v":""},{"$f":"IF($A174=\"\",\"\",VLOOKUP($A174,'Data input'!$A$2:$E$201,COLUMN(D173),FALSE))","v":""},{"$f":"IF($A174=\"\",\"\",VLOOKUP($A174,'Data input'!$A$2:$E$201,COLUMN(E173),FALSE))","v":""},null,null,null,null,null,null,173,1.0281686693366148,{"$f":"IF(L174=\"\",\"\",IF(M174<Results!D$12,1,0))","v":1},null,"",null,"",""]
[null,{"$f":"IF(A175=\"\",\"\",'Data input'!B175)","v":""},{"$f":"IF($A175=\"\",\"\",VLOOKUP($A175,'Data input'!$A$2:$E$201,COLUMN(C174),FALSE))","v":""},{"$f":"IF($A175=\"\",\"\",VLOOKUP($A175,'Data input'!$A$2:$E$201,COLUMN(D174),FALSE))","v":""},{"$f":"IF($A175=\"\",\"\",VLOOKUP($A175,'Data input'!$A$2:$E$201,COLUMN(E174),FALSE))","v":""},null,null,null,null,null,null,174,1.034970754342978,{"$f":"IF(L175=\"\",\"\",IF(M175<Results!D$12,1,0))","v":1},null,"",null,"",""]
[null,{"$f":"IF(A176=\"\",\"\",'Data input'!B176)","v":""},{"$f":"IF($A176=\"\",\"\",VLOOKUP($A176,'Data input'!$A$2:$E$201,COLUMN(C175),FALSE))","v":""},{"$f":"IF($A176=\"\",\"\",VLOOKUP($A176,'Data input'!$A$2:$E$201,COLUMN(D175),FALSE))","v":""},{"$f":"IF($A176=\"\",\"\",VLOOKUP($A176,'Data input'!$A$2:$E$201,COLUMN(E175),FALSE))","v":""},null,null,null,null,null,null,175,1.0481140333456771,{"$f":"IF(L176=\"\",\"\",IF(M176<Results!D$12,1,0))","v":0},null,"",null,"",""]
[null,{"$f":"IF(A177=\"\",\"\",'Data input'!B177)","v":""},{"$f":"IF($A177=\"\",\"\",VLOOKUP($A177,'Data input'!$A$2:$E$201,COLUMN(C176),FALSE))","v":""},{"$f":"IF($A177=\"\",\"\",VLOOKUP($A177,'Data input'!$A$2:$E$201,COLUMN(D176),FALSE))","v":""},{"$f":"IF($A177=\"\",\"\",VLOOKUP($A177,'Data input'!$A$2:$E$201,COLUMN(E176),FALSE))","v":""},null,null,null,null,null,null,176,1.0335977557416434,{"$f":"IF(L177=\"\",\"\",IF(M177<Results!D$12,1,0))","v":1},null,"",null,"",""]
[null,{"$f":"IF(A178=\"\",\"\",'Data input'!B178)","v":""},{"$f":"IF($A178=\"\",\"\",VLOOKUP($A178,'Data input'!$A$2:$E$201,COLUMN(C177),FALSE))","v":""},{"$f":"IF($A178=\"\",\"\",VLOOKUP($A178,'Data input'!$A$2:$E$201,COLUMN(D177),FALSE))","v":""},{"$f":"IF($A178=\"\",\"\",VLOOKUP($A178,'Data input'!$A$2:$E$201,COLUMN(E177),FALSE))","v":""},null,null,null,null,null,null,177,1.0404979482210004,{"$f":"IF(L178=\"\",\"\",IF(M178<Results!D$12,1,0))","v":0},null,"",null,"",""]
[null,{"$f":"IF(A179=\"\",\"\",'Data input'!B179)","v":""},{"$f":"IF($A179=\"\",\"\",VLOOKUP($A179,'Data input'!$A$2:$E$201,COLUMN(C178),FALSE))","v":""},{"$f":"IF($A179=\"\",\"\",VLOOKUP($A179,'Data input'!$A$2:$E$201,COLUMN(D178),FALSE))","v":""},{"$f":"IF($A179=\"\",\"\",VLOOKUP($A179,'Data input'!$A$2:$E$201,COLUMN(E178),FALSE))","v":""},null,null,null,null,null,null,178,1.044504207305412,{"$f":"IF(L179=\"\",\"\",IF(M179<Results!D$12,1,0))","v":0},null,"",null,"",""]
[null,{"$f":"IF(A180=\"\",\"\",'Data input'!B180)","v":""},{"$f":"IF($A180=\"\",\"\",VLOOKUP($A180,'Data input'!$A$2:$E$201,COLUMN(C179),FALSE))","v":""},{"$f":"IF($A180=\"\",\"\",VLOOKUP($A180,'Data input'!$A$2:$E$201,COLUMN(D179),FALSE))","v":""},{"$f":"IF($A180=\"\",\"\",VLOOKUP($A180,'Data input'!$A$2:$E$201,COLUMN(E179),FALSE))","v":""},null,null,null,null,null,null,179,1.0458327596635413,{"$f":"IF(L180=\"\",\"\",IF(M180<Results!D$12,1,0))","v":0},null,"",null,"",""]
[null,{"$f":"IF(A181=\"\",\"\",'Data input'!B181)","v":""},{"$f":"IF($A181=\"\",\"\",VLOOKUP($A181,'Data input'!$A$2:$E$201,COLUMN(C180),FALSE))","v":""},{"$f":"IF($A181=\"\",\"\",VLOOKUP($A181,'Data input'!$A$2:$E$201,COLUMN(D180),FALSE))","v":""},{"$f":"IF($A181=\"\",\"\",VLOOKUP($A181,'Data input'!$A$2:$E$201,COLUMN(E180),FALSE))","v":""},null,null,null,null,null,null,180,1.0704941952471358,{"$f":"IF(L181=\"\",\"\",IF(M181<Results!D$12,1,0))","v":0},null,"",null,"",""]
[null,{"$f":"IF(A182=\"\",\"\",'Data input'!B182)","v":""},{"$f":"IF($A182=\"\",\"\",VLOOKUP($A182,'Data input'!$A$2:$E$201,COLUMN(C181),FALSE))","v":""},{"$f":"IF($A182=\"\",\"\",VLOOKUP($A182,'Data input'!$A$2:$E$201,COLUMN(D181),FALSE))","v":""},{"$f":"IF($A182=\"\",\"\",VLOOKUP($A182,'Data input'!$A$2:$E$201,COLUMN(E181),FALSE))","v":""},null,null,null,null,null,null,181,1.0672940788513092,{"$f":"IF(L182=\"\",\"\",IF(M182<Results!D$12,1,0))","v":0},null,"",null,"",""]
[null,{"$f":"IF(A183=\"\",\"\",'Data input'!B183)","v":""},{"$f":"IF($A183=\"\",\"\",VLOOKUP($A183,'Data input'!$A$2:$E$201,COLUMN(C182),FALSE))","v":""},{"$f":"IF($A183=\"\",\"\",VLOOKUP($A183,'Data input'!$A$2:$E$201,COLUMN(D182),FALSE))","v":""},{"$f":"IF($A183=\"\",\"\",VLOOKUP($A183,'Data input'!$A$2:$E$201,COLUMN(E182),FALSE))","v":""},null,null,null,null,null,null,182,1.0343747346889869,{"$f":"IF(L183=\"\",\"\",IF(M183<Results!D$12,1,0))","v":1},null,"",null,"",""]
[null,{"$f":"IF(A184=\"\",\"\",'Data input'!B184)","v":""},{"$f":"IF($A184=\"\",\"\",VLOOKUP($A184,'Data input'!$A$2:$E$201,COLUMN(C183),FALSE))","v":""},{"$f":"IF($A184=\"\",\"\",VLOOKUP($A184,'Data input'!$A$2:$E$201,COLUMN(D183),FALSE))","v":""},{"$f":"IF($A184=\"\",\"\",VLOOKUP($A184,'Data input'!$A$2:$E$201,COLUMN(E183),FALSE))","v":""},null,null,null,null,null,null,183,1.0337952677893572,{"$f":"IF(L184=\"\",\"\",IF(M184<Results!D$12,1,0))","v":1},null,"",null,"",""]
[null,{"$f":"IF(A185=\"\",\"\",'Data input'!B185)","v":""},{"$f":"IF($A185=\"\",\"\",VLOOKUP($A185,'Data input'!$A$2:$E$201,COLUMN(C184),FALSE))","v":""},{"$f":"IF($A185=\"\",\"\",VLOOKUP($A185,'Data input'!$A$2:$E$201,COLUMN(D184),FALSE))","v":""},{"$f":"IF($A185=\"\",\"\",VLOOKUP($A185,'Data input'!$A$2:$E$201,COLUMN(E184),FALSE))","v":""},null,null,null,null,null,null,184,0.99798352204113205,{"$f":"IF(L185=\"\",\"\",IF(M185<Results!D$12,1,0))","v":1},null,"",null,"",""]
[null,{"$f":"IF(A186=\"\",\"\",'Data input'!B186)","v":""},{"$f":"IF($A186=\"\",\"\",VLOOKUP($A186,'Data input'!$A$2:$E$201,COLUMN(C185),FALSE))","v":""},{"$f":"IF($A186=\"\",\"\",VLOOKUP($A186,'Data input'!$A$2:$E$201,COLUMN(D185),FALSE))","v":""},{"$f":"IF($A186=\"\",\"\",VLOOKUP($A186,'Data input'!$A$2:$E$201,COLUMN(E185),FALSE))","v":""},null,null,null,null,null,null,185,1.0540500881817587,{"$f":"IF(L186=\"\",\"\",IF(M186<Results!D$12,1,0))","v":0},null,"",null,"",""]
[null,{"$f":"IF(A187=\"\",\"\",'Data input'!B187)","v":""},{"$f":"IF($A187=\"\",\"\",VLOOKUP($A187,'Data input'!$A$2:$E$201,COLUMN(C186),FALSE))","v":""},{"$f":"IF($A187=\"\",\"\",VLOOKUP($A187,'Data input'!$A$2:$E$201,COLUMN(D186),FALSE))","v":""},{"$f":"IF($A187=\"\",\"\",VLOOKUP($A187,'Data input'!$A$2:$E$201,COLUMN(E186),FALSE))","v":""},null,null,null,null,null,null,186,1.0302037937093242,{"$f":"IF(L187=\"\",\"\",IF(M187<Results!D$12,1,0))","v":1},null,"",null,"",""]
[null,{"$f":"IF(A188=\"\",\"\",'Data input'!B188)","v":""},{"$f":"IF($A188=\"\",\"\",VLOOKUP($A188,'Data input'!$A$2:$E$201,COLUMN(C187),FALSE))","v":""},{"$f":"IF($A188=\"\",\"\",VLOOKUP($A188,'Data input'!$A$2:$E$201,COLUMN(D187),FALSE))","v":""},{"$f":"IF($A188=\"\",\"\",VLOOKUP($A188,'Data input'!$A$2:$E$201,COLUMN(E187),FALSE))","v":""},null,null,null,null,null,null,187,1.0232195340299917,{"$f":"IF(L188=\"\",\"\",IF(M188<Results!D$12,1,0))","v":1},null,"",null,"",""]
[null,{"$f":"IF(A189=\"\",\"\",'Data input'!B189)","v":""},{"$f":"IF($A189=\"\",\"\",VLOOKUP($A189,'Data input'!$A$2:$E$201,COLUMN(C188),FALSE))","v":""},{"$f":"IF($A189=\"\",\"\",VLOOKUP($A189,'Data input'!$A$2:$E$201,COLUMN(D188),FALSE))","v":""},{"$f":"IF($A189=\"\",\"\",VLOOKUP($A189,'Data input'!$A$2:$E$201,COLUMN(E188),FALSE))","v":""},null,null,null,null,null,null,188,1.0173391517390329,{"$f":"IF(L189=\"\",\"\",IF(M189<Results!D$12,1,0))","v":1},null,"",null,"",""]
[null,{"$f":"IF(A190=\"\",\"\",'Data input'!B190)","v":""},{"$f":"IF($A190=\"\",\"\",VLOOKUP($A190,'Data input'!$A$2:$E$201,COLUMN(C189),FALSE))","v":""},{"$f":"IF($A190=\"\",\"\",VLOOKUP($A190,'Data input'!$A$2:$E$201,COLUMN(D189),FALSE))","v":""},{"$f":"IF($A190=\"\",\"\",VLOOKUP($A190,'Data input'!$A$2:$E$201,COLUMN(E189),FALSE))","v":""},null,null,null,null,null,null,189,1.0431472321363244,{"$f":"IF(L190=\"\",\"\",IF(M190<Results!D$12,1,0))","v":0},null,"",null,"",""]
[null,{"$f":"IF(A191=\"\",\"\",'Data input'!B191)","v":""},{"$f":"IF($A191=\"\",\"\",VLOOKUP($A191,'Data input'!$A$2:$E$201,COLUMN(C190),FALSE))","v":""},{"$f":"IF($A191=\"\",\"\",VLOOKUP($A191,'Data input'!$A$2:$E$201,COLUMN(D190),FALSE))","v":""},{"$f":"IF($A191=\"\",\"\",VLOOKUP($A191,'Data input'!$A$2:$E$201,COLUMN(E190),FALSE))","v":""},null,null,null,null,null,null,190,1.0400416690104812,{"$f":"IF(L191=\"\",\"\",IF(M191<Results!D$12,1,0))","v":0},null,"",null,"",""]
[null,{"$f":"IF(A192=\"\",\"\",'Data input'!B192)","v":""},{"$f":"IF($A192=\"\",\"\",VLOOKUP($A192,'Data input'!$A$2:$E$201,COLUMN(C191),FALSE))","v":""},{"$f":"IF($A192=\"\",\"\",VLOOKUP($A192,'Data input'!$A$2:$E$201,COLUMN(D191),FALSE))","v":""},{"$f":"IF($A192=\"\",\"\",VLOOKUP($A192,'Data input'!$A$2:$E$201,COLUMN(E191),FALSE))","v":""},null,null,null,null,null,null,191,1.0396201197666048,{"$f":"IF(L192=\"\",\"\",IF(M192<Results!D$12,1,0))","v":0},null,"",null,"",""]
[null,{"$f":"IF(A193=\"\",\"\",'Data input'!B193)","v":""},{"$f":"IF($A193=\"\",\"\",VLOOKUP($A193,'Data input'!$A$2:$E$201,COLUMN(C192),FALSE))","v":""},{"$f":"IF($A193=\"\",\"\",VLOOKUP($A193,'Data input'!$A$2:$E$201,COLUMN(D192),FALSE))","v":""},{"$f":"IF($A193=\"\",\"\",VLOOKUP($A193,'Data input'!$A$2:$E$201,COLUMN(E192),FALSE))","v":""},null,null,null,null,null,null,192,1.0421407074317499,{"$f":"IF(L193=\"\",\"\",IF(M193<Results!D$12,1,0))","v":0},null,"",null,"",""]
[null,{"$f":"IF(A194=\"\",\"\",'Data input'!B194)","v":""},{"$f":"IF($A194=\"\",\"\",VLOOKUP($A194,'Data input'!$A$2:$E$201,COLUMN(C193),FALSE))","v":""},{"$f":"IF($A194=\"\",\"\",VLOOKUP($A194,'Data input'!$A$2:$E$201,COLUMN(D193),FALSE))","v":""},{"$f":"IF($A194=\"\",\"\",VLOOKUP($A194,'Data input'!$A$2:$E$201,COLUMN(E193),FALSE))","v":""},null,null,null,null,null,null,193,1.0328465071242474,{"$f":"IF(L194=\"\",\"\",IF(M194<Results!D$12,1,0))","v":1},null,"",null,"",""]
[null,{"$f":"IF(A195=\"\",\"\",'Data input'!B195)","v":""},{"$f":"IF($A195=\"\",\"\",VLOOKUP($A195,'Data input'!$A$2:$E$201,COLUMN(C194),FALSE))","v":""},{"$f":"IF($A195=\"\",\"\",VLOOKUP($A195,'Data input'!$A$2:$E$201,COLUMN(D194),FALSE))","v":""},{"$f":"IF($A195=\"\",\"\",VLOOKUP($A195,'Data input'!$A$2:$E$201,COLUMN(E194),FALSE))","v":""},null,null,null,null,null,null,{"$f":"IF(M195=\"\",\"\",ROW(L195)-1)","v":194},1.0536027571756166,{"$f":"IF(L195=\"\",\"\",IF(M195<Results!D$12,1,0))","v":0},null,{"$f":"IF(A195=\"\",\"\",ROW(A195)-1)","v":""},null,{"$f":"IF(P195=\"\",\"\",(AVERAGE(Q$2:Q$201)-Q195)^3)","v":""},{"$f":"IF(P195=\"\",\"\",(AVERAGE(Q$2:Q$201)-Q195)^2)","v":""}]
[null,{"$f":"IF(A196=\"\",\"\",'Data input'!B196)","v":""},{"$f":"IF($A196=\"\",\"\",VLOOKUP($A196,'Data input'!$A$2:$E$201,COLUMN(C195),FALSE))","v":""},{"$f":"IF($A196=\"\",\"\",VLOOKUP($A196,'Data input'!$A$2:$E$201,COLUMN(D195),FALSE))","v":""},{"$f":"IF($A196=\"\",\"\",VLOOKUP($A196,'Data input'!$A$2:$E$201,COLUMN(E195),FALSE))","v":""},null,null,null,null,null,null,195,1.0444060288064014,{"$f":"IF(L196=\"\",\"\",IF(M196<Results!D$12,1,0))","v":0},null,"",null,"",""]
[null,{"$f":"IF(A197=\"\",\"\",'Data input'!B197)","v":""},{"$f":"IF($A197=\"\",\"\",VLOOKUP($A197,'Data input'!$A$2:$E$201,COLUMN(C196),FALSE))","v":""},{"$f":"IF($A197=\"\",\"\",VLOOKUP($A197,'Data input'!$A$2:$E$201,COLUMN(D196),FALSE))","v":""},{"$f":"IF($A197=\"\",\"\",VLOOKUP($A197,'Data input'!$A$2:$E$201,COLUMN(E196),FALSE))","v":""},null,null,null,null,null,null,196,1.0207120789399138,{"$f":"IF(L197=\"\",\"\",IF(M197<Results!D$12,1,0))","v":1},null,"",null,"",""]
[null,{"$f":"IF(A198=\"\",\"\",'Data input'!B198)","v":""},{"$f":"IF($A198=\"\",\"\",VLOOKUP($A198,'Data input'!$A$2:$E$201,COLUMN(C197),FALSE))","v":""},{"$f":"IF($A198=\"\",\"\",VLOOKUP($A198,'Data input'!$A$2:$E$201,COLUMN(D197),FALSE))","v":""},{"$f":"IF($A198=\"\",\"\",VLOOKUP($A198,'Data input'!$A$2:$E$201,COLUMN(E197),FALSE))","v":""},null,null,null,null,null,null,197,1.0502880608620677,{"$f":"IF(L198=\"\",\"\",IF(M198<Results!D$12,1,0))","v":0},null,"",null,"",""]
[null,{"$f":"IF(A199=\"\",\"\",'Data input'!B199)","v":""},{"$f":"IF($A199=\"\",\"\",VLOOKUP($A199,'Data input'!$A$2:$E$201,COLUMN(C198),FALSE))","v":""},{"$f":"IF($A199=\"\",\"\",VLOOKUP($A199,'Data input'!$A$2:$E$201,COLUMN(D198),FALSE))","v":""},{"$f":"IF($A199=\"\",\"\",VLOOKUP($A199,'Data input'!$A$2:$E$201,COLUMN(E198),FALSE))","v":""},null,null,null,null,null,null,198,1.0260684230843515,{"$f":"IF(L199=\"\",\"\",IF(M199<Results!D$12,1,0))","v":1},null,"",null,"",""]
[null,{"$f":"IF(A200=\"\",\"\",'Data input'!B200)","v":""},{"$f":"IF($A200=\"\",\"\",VLOOKUP($A200,'Data input'!$A$2:$E$201,COLUMN(C199),FALSE))","v":""},{"$f":"IF($A200=\"\",\"\",VLOOKUP($A200,'Data input'!$A$2:$E$201,COLUMN(D199),FALSE))","v":""},{"$f":"IF($A200=\"\",\"\",VLOOKUP($A200,'Data input'!$A$2:$E$201,COLUMN(E199),FALSE))","v":""},null,null,null,null,null,null,199,1.0220566712084633,{"$f":"IF(L200=\"\",\"\",IF(M200<Results!D$12,1,0))","v":1},null,"",null,"",""]
[null,{"$f":"IF(A201=\"\",\"\",'Data input'!B201)","v":""},{"$f":"IF($A201=\"\",\"\",VLOOKUP($A201,'Data input'!$A$2:$E$201,COLUMN(C200),FALSE))","v":""},{"$f":"IF($A201=\"\",\"\",VLOOKUP($A201,'Data input'!$A$2:$E$201,COLUMN(D200),FALSE))","v":""},{"$f":"IF($A201=\"\",\"\",VLOOKUP($A201,'Data input'!$A$2:$E$201,COLUMN(E200),FALSE))","v":""},null,null,null,null,null,null,200,1.0316623607901689,{"$f":"IF(L201=\"\",\"\",IF(M201<Results!D$12,1,0))","v":1},null,"",null,"",""]
[null,null,null,null,null,null,null,null,null,null,null,201,1.0080244063172228,{"$f":"IF(L202=\"\",\"\",IF(M202<Results!D$12,1,0))","v":1}]
[null,null,null,null,null,null,null,null,null,null,null,202,1.04752626157088,{"$f":"IF(L203=\"\",\"\",IF(M203<Results!D$12,1,0))","v":0}]
[null,null,null,null,null,null,null,null,null,null,null,203,1.0309829486206716,{"$f":"IF(L204=\"\",\"\",IF(M204<Results!D$12,1,0))","v":1}]
[null,null,null,null,null,null,null,null,null,null,null,204,1.0273639800002932,{"$f":"IF(L205=\"\",\"\",IF(M205<Results!D$12,1,0))","v":1}]
[null,null,null,null,null,null,null,null,null,null,null,205,1.0300216344380864,{"$f":"IF(L206=\"\",\"\",IF(M206<Results!D$12,1,0))","v":1}]
[null,null,null,null,null,null,null,null,null,null,null,206,1.020994639912294,{"$f":"IF(L207=\"\",\"\",IF(M207<Results!D$12,1,0))","v":1}]
[null,null,null,null,null,null,null,null,null,null,null,207,1.0220981735576709,{"$f":"IF(L208=\"\",\"\",IF(M208<Results!D$12,1,0))","v":1}]
[null,null,null,null,null,null,null,null,null,null,null,208,1.0369758983428721,{"$f":"IF(L209=\"\",\"\",IF(M209<Results!D$12,1,0))","v":1}]
[null,null,null,null,null,null,null,null,null,null,null,209,1.0627670721124745,{"$f":"IF(L210=\"\",\"\",IF(M210<Results!D$12,1,0))","v":0}]
[null,null,null,null,null,null,null,null,null,null,null,210,1.0313548965201851,{"$f":"IF(L211=\"\",\"\",IF(M211<Results!D$12,1,0))","v":1}]
[null,null,null,null,null,null,null,null,null,null,null,211,1.0281914916253292,{"$f":"IF(L212=\"\",\"\",IF(M212<Results!D$12,1,0))","v":1}]
[null,null,null,null,null,null,null,null,null,null,null,212,1.0322827727346482,{"$f":"IF(L213=\"\",\"\",IF(M213<Results!D$12,1,0))","v":1}]
[null,null,null,null,null,null,null,null,null,null,null,213,1.0515599847601684,{"$f":"IF(L214=\"\",\"\",IF(M214<Results!D$12,1,0))","v":0}]
[null,null,null,null,null,null,null,null,null,null,null,214,1.035804650644792,{"$f":"IF(L215=\"\",\"\",IF(M215<Results!D$12,1,0))","v":1}]
[null,null,null,null,null,null,null,null,null,null,null,215,1.0211430220186251,{"$f":"IF(L216=\"\",\"\",IF(M216<Results!D$12,1,0))","v":1}]
[null,null,null,null,null,null,null,null,null,null,null,216,1.0299153709051858,{"$f":"IF(L217=\"\",\"\",IF(M217<Results!D$12,1,0))","v":1}]
[null,null,null,null,null,null,null,null,null,null,null,217,1.0228922951897699,{"$f":"IF(L218=\"\",\"\",IF(M218<Results!D$12,1,0))","v":1}]
[null,null,null,null,null,null,null,null,null,null,null,218,1.0499837335851274,{"$f":"IF(L219=\"\",\"\",IF(M219<Results!D$12,1,0))","v":0}]
[null,null,null,null,null,null,null,null,null,null,null,219,1.0680953887014566,{"$f":"IF(L220=\"\",\"\",IF(M220<Results!D$12,1,0))","v":0}]
[null,null,null,null,null,null,null,null,null,null,null,220,1.0437422298363497,{"$f":"IF(L221=\"\",\"\",IF(M221<Results!D$12,1,0))","v":0}]
[null,null,null,null,null,null,null,null,null,null,null,221,1.0512258617415107,{"$f":"IF(L222=\"\",\"\",IF(M222<Results!D$12,1,0))","v":0}]
[null,null,null,null,null,null,null,null,null,null,null,222,1.0401319027855447,{"$f":"IF(L223=\"\",\"\",IF(M223<Results!D$12,1,0))","v":0}]
[null,null,null,null,null,null,null,null,null,null,null,223,1.0629584338994373,{"$f":"IF(L224=\"\",\"\",IF(M224<Results!D$12,1,0))","v":0}]
[null,null,null,null,null,null,null,null,null,null,null,224,1.0433482213236165,{"$f":"IF(L225=\"\",\"\",IF(M225<Results!D$12,1,0))","v":0}]
[null,null,null,null,null,null,null,null,null,null,null,225,1.0207346198607703,{"$f":"IF(L226=\"\",\"\",IF(M226<Results!D$12,1,0))","v":1}]
[null,null,null,null,null,null,null,null,null,null,null,226,1.0358009598341231,{"$f":"IF(L227=\"\",\"\",IF(M227<Results!D$12,1,0))","v":1}]
[null,null,null,null,null,null,null,null,null,null,null,227,1.0381602884387817,{"$f":"IF(L228=\"\",\"\",IF(M228<Results!D$12,1,0))","v":0}]
[null,null,null,null,null,null,null,null,null,null,null,228,1.0336915051190307,{"$f":"IF(L229=\"\",\"\",IF(M229<Results!D$12,1,0))","v":1}]
[null,null,null,null,null,null,null,null,null,null,null,229,1.0317319397090452,{"$f":"IF(L230=\"\",\"\",IF(M230<Results!D$12,1,0))","v":1}]
[null,null,null,null,null,null,null,null,null,null,null,230,1.0487190013501393,{"$f":"IF(L231=\"\",\"\",IF(M231<Results!D$12,1,0))","v":0}]
[null,null,null,null,null,null,null,null,null,null,null,231,1.0031785767481627,{"$f":"IF(L232=\"\",\"\",IF(M232<Results!D$12,1,0))","v":1}]
[null,null,null,null,null,null,null,null,null,null,null,232,1.0637094889983421,{"$f":"IF(L233=\"\",\"\",IF(M233<Results!D$12,1,0))","v":0}]
[null,null,null,null,null,null,null,null,null,null,null,233,1.0423165486325681,{"$f":"IF(L234=\"\",\"\",IF(M234<Results!D$12,1,0))","v":0}]
[null,null,null,null,null,null,null,null,null,null,null,234,1.0323549728193622,{"$f":"IF(L235=\"\",\"\",IF(M235<Results!D$12,1,0))","v":1}]
[null,null,null,null,null,null,null,null,null,null,null,235,1.0336930135809497,{"$f":"IF(L236=\"\",\"\",IF(M236<Results!D$12,1,0))","v":1}]
[null,null,null,null,null,null,null,null,null,null,null,236,1.035935409194302,{"$f":"IF(L237=\"\",\"\",IF(M237<Results!D$12,1,0))","v":1}]
[null,null,null,null,null,null,null,null,null,null,null,237,1.0370445550317211,{"$f":"IF(L238=\"\",\"\",IF(M238<Results!D$12,1,0))","v":1}]
[null,null,null,null,null,null,null,null,null,null,null,238,1.0079045497403007,{"$f":"IF(L239=\"\",\"\",IF(M239<Results!D$12,1,0))","v":1}]
[null,null,null,null,null,null,null,null,null,null,null,239,1.0374412197084648,{"$f":"IF(L240=\"\",\"\",IF(M240<Results!D$12,1,0))","v":1}]
[null,null,null,null,null,null,null,null,null,null,null,240,1.0266855582010723,{"$f":"IF(L241=\"\",\"\",IF(M241<Results!D$12,1,0))","v":1}]
[null,null,null,null,null,null,null,null,null,null,null,241,1.0162662423359694,{"$f":"IF(L242=\"\",\"\",IF(M242<Results!D$12,1,0))","v":1}]
[null,null,null,null,null,null,null,null,null,null,null,242,1.026297314434482,{"$f":"IF(L243=\"\",\"\",IF(M243<Results!D$12,1,0))","v":1}]
[null,null,null,null,null,null,null,null,null,null,null,243,1.0297901437836128,{"$f":"IF(L244=\"\",\"\",IF(M244<Results!D$12,1,0))","v":1}]
[null,null,null,null,null,null,null,null,null,null,null,244,1.0238720368860879,{"$f":"IF(L245=\"\",\"\",IF(M245<Results!D$12,1,0))","v":1}]
[null,null,null,null,null,null,null,null,null,null,null,245,1.0266037941739978,{"$f":"IF(L246=\"\",\"\",IF(M246<Results!D$12,1,0))","v":1}]
[null,null,null,null,null,null,null,null,null,null,null,246,1.0207518666753534,{"$f":"IF(L247=\"\",\"\",IF(M247<Results!D$12,1,0))","v":1}]
[null,null,null,null,null,null,null,null,null,null,null,247,1.0568088261041866,{"$f":"IF(L248=\"\",\"\",IF(M248<Results!D$12,1,0))","v":0}]
[null,null,null,null,null,null,null,null,null,null,null,248,1.0326492531992402,{"$f":"IF(L249=\"\",\"\",IF(M249<Results!D$12,1,0))","v":1}]
[null,null,null,null,null,null,null,null,null,null,null,249,1.0444170095522674,{"$f":"IF(L250=\"\",\"\",IF(M250<Results!D$12,1,0))","v":0}]
[null,null,null,null,null,null,null,null,null,null,null,250,1.0787161793263829,{"$f":"IF(L251=\"\",\"\",IF(M251<Results!D$12,1,0))","v":0}]
[null,null,null,null,null,null,null,null,null,null,null,251,1.0216910411937432,{"$f":"IF(L252=\"\",\"\",IF(M252<Results!D$12,1,0))","v":1}]
[null,null,null,null,null,null,null,null,null,null,null,252,1.0077513754059988,{"$f":"IF(L253=\"\",\"\",IF(M253<Results!D$12,1,0))","v":1}]
[null,null,null,null,null,null,null,null,null,null,null,253,1.0255916226437043,{"$f":"IF(L254=\"\",\"\",IF(M254<Results!D$12,1,0))","v":1}]
[null,null,null,null,null,null,null,null,null,null,null,254,1.0436006003429579,{"$f":"IF(L255=\"\",\"\",IF(M255<Results!D$12,1,0))","v":0}]
[null,null,null,null,null,null,null,null,null,null,null,255,1.0110720795168291,{"$f":"IF(L256=\"\",\"\",IF(M256<Results!D$12,1,0))","v":1}]
[null,null,null,null,null,null,null,null,null,null,null,256,1.0358996836840535,{"$f":"IF(L257=\"\",\"\",IF(M257<Results!D$12,1,0))","v":1}]
[null,null,null,null,null,null,null,null,null,null,null,257,1.0129343502164574,{"$f":"IF(L258=\"\",\"\",IF(M258<Results!D$12,1,0))","v":1}]
[null,null,null,null,null,null,null,null,null,null,null,{"$f":"IF(M259=\"\",\"\",ROW(L259)-1)","v":258},1.0499870634199209,{"$f":"IF(L259=\"\",\"\",IF(M259<Results!D$12,1,0))","v":0}]
[null,null,null,null,null,null,null,null,null,null,null,259,1.0468381780178435,{"$f":"IF(L260=\"\",\"\",IF(M260<Results!D$12,1,0))","v":0}]
[null,null,null,null,null,null,null,null,null,null,null,260,1.0352652065779266,{"$f":"IF(L261=\"\",\"\",IF(M261<Results!D$12,1,0))","v":1}]
[null,null,null,null,null,null,null,null,null,null,null,261,1.0352257712762356,{"$f":"IF(L262=\"\",\"\",IF(M262<Results!D$12,1,0))","v":1}]
[null,null,null,null,null,null,null,null,null,null,null,262,1.0717100531260497,{"$f":"IF(L263=\"\",\"\",IF(M263<Results!D$12,1,0))","v":0}]
[null,null,null,null,null,null,null,null,null,null,null,263,1.0392894503845018,{"$f":"IF(L264=\"\",\"\",IF(M264<Results!D$12,1,0))","v":0}]
[null,null,null,null,null,null,null,null,null,null,null,264,1.0316724181479104,{"$f":"IF(L265=\"\",\"\",IF(M265<Results!D$12,1,0))","v":1}]
[null,null,null,null,null,null,null,null,null,null,null,265,1.0592146725797498,{"$f":"IF(L266=\"\",\"\",IF(M266<Results!D$12,1,0))","v":0}]
[null,null,null,null,null,null,null,null,null,null,null,266,1.0298556618961459,{"$f":"IF(L267=\"\",\"\",IF(M267<Results!D$12,1,0))","v":1}]
[null,null,null,null,null,null,null,null,null,null,null,267,1.0070830249123743,{"$f":"IF(L268=\"\",\"\",IF(M268<Results!D$12,1,0))","v":1}]
[null,null,null,null,null,null,null,null,null,null,null,268,1.0740629582408159,{"$f":"IF(L269=\"\",\"\",IF(M269<Results!D$12,1,0))","v":0}]
[null,null,null,null,null,null,null,null,null,null,null,269,1.0480585138430081,{"$f":"IF(L270=\"\",\"\",IF(M270<Results!D$12,1,0))","v":0}]
[null,null,null,null,null,null,null,null,null,null,null,270,1.0212449812115525,{"$f":"IF(L271=\"\",\"\",IF(M271<Results!D$12,1,0))","v":1}]
[null,null,null,null,null,null,null,null,null,null,null,271,1.0435557815657948,{"$f":"IF(L272=\"\",\"\",IF(M272<Results!D$12,1,0))","v":0}]
[null,null,null,null,null,null,null,null,null,null,null,272,1.02879112365509,{"$f":"IF(L273=\"\",\"\",IF(M273<Results!D$12,1,0))","v":1}]
[null,null,null,null,null,null,null,null,null,null,null,273,1.0168788760986478,{"$f":"IF(L274=\"\",\"\",IF(M274<Results!D$12,1,0))","v":1}]
[null,null,null,null,null,null,null,null,null,null,null,274,1.0593909791233509,{"$f":"IF(L275=\"\",\"\",IF(M275<Results!D$12,1,0))","v":0}]
[null,null,null,null,null,null,null,null,null,null,null,275,1.0191174737841453,{"$f":"IF(L276=\"\",\"\",IF(M276<Results!D$12,1,0))","v":1}]
[null,null,null,null,null,null,null,null,null,null,null,276,1.0478722304559676,{"$f":"IF(L277=\"\",\"\",IF(M277<Results!D$12,1,0))","v":0}]
[null,null,null,null,null,null,null,null,null,null,null,277,1.0309373834775568,{"$f":"IF(L278=\"\",\"\",IF(M278<Results!D$12,1,0))","v":1}]
[null,null,null,null,null,null,null,null,null,null,null,278,1.0435817657058259,{"$f":"IF(L279=\"\",\"\",IF(M279<Results!D$12,1,0))","v":0}]
[null,null,null,null,null,null,null,null,null,null,null,279,1.0692486581287617,{"$f":"IF(L280=\"\",\"\",IF(M280<Results!D$12,1,0))","v":0}]
[null,null,null,null,null,null,null,null,null,null,null,280,1.037688154546996,{"$f":"IF(L281=\"\",\"\",IF(M281<Results!D$12,1,0))","v":0}]
[null,null,null,null,null,null,null,null,null,null,null,281,1.0542230493843723,{"$f":"IF(L282=\"\",\"\",IF(M282<Results!D$12,1,0))","v":0}]
[null,null,null,null,null,null,null,null,null,null,null,282,1.0310881369478386,{"$f":"IF(L283=\"\",\"\",IF(M283<Results!D$12,1,0))","v":1}]
[null,null,null,null,null,null,null,null,null,null,null,283,1.0223315100044088,{"$f":"IF(L284=\"\",\"\",IF(M284<Results!D$12,1,0))","v":1}]
[null,null,null,null,null,null,null,null,null,null,null,284,1.051888685474373,{"$f":"IF(L285=\"\",\"\",IF(M285<Results!D$12,1,0))","v":0}]
[null,null,null,null,null,null,null,null,null,null,null,285,1.0624275052726231,{"$f":"IF(L286=\"\",\"\",IF(M286<Results!D$12,1,0))","v":0}]
[null,null,null,null,null,null,null,null,null,null,null,286,1.0441823116230686,{"$f":"IF(L287=\"\",\"\",IF(M287<Results!D$12,1,0))","v":0}]
[null,null,null,null,null,null,null,null,null,null,null,287,1.0462971776520811,{"$f":"IF(L288=\"\",\"\",IF(M288<Results!D$12,1,0))","v":0}]
[null,null,null,null,null,null,null,null,null,null,null,288,1.027546920909469,{"$f":"IF(L289=\"\",\"\",IF(M289<Results!D$12,1,0))","v":1}]
[null,null,null,null,null,null,null,null,null,null,null,289,1.0146083837400117,{"$f":"IF(L290=\"\",\"\",IF(M290<Results!D$12,1,0))","v":1}]
[null,null,null,null,null,null,null,null,null,null,null,290,1.0492509329687412,{"$f":"IF(L291=\"\",\"\",IF(M291<Results!D$12,1,0))","v":0}]
[null,null,null,null,null,null,null,null,null,null,null,291,1.0364956344877785,{"$f":"IF(L292=\"\",\"\",IF(M292<Results!D$12,1,0))","v":1}]
[null,null,null,null,null,null,null,null,null,null,null,292,1.0095627604204487,{"$f":"IF(L293=\"\",\"\",IF(M293<Results!D$12,1,0))","v":1}]
[null,null,null,null,null,null,null,null,null,null,null,293,1.0380144383567256,{"$f":"IF(L294=\"\",\"\",IF(M294<Results!D$12,1,0))","v":0}]
[null,null,null,null,null,null,null,null,null,null,null,294,1.0413580873500605,{"$f":"IF(L295=\"\",\"\",IF(M295<Results!D$12,1,0))","v":0}]
[null,null,null,null,null,null,null,null,null,null,null,295,1.0155831059341116,{"$f":"IF(L296=\"\",\"\",IF(M296<Results!D$12,1,0))","v":1}]
[null,null,null,null,null,null,null,null,null,null,null,296,1.0355836040803028,{"$f":"IF(L297=\"\",\"\",IF(M297<Results!D$12,1,0))","v":1}]
[null,null,null,null,null,null,null,null,null,null,null,297,1.0224415225861521,{"$f":"IF(L298=\"\",\"\",IF(M298<Results!D$12,1,0))","v":1}]
[null,null,null,null,null,null,null,null,null,null,null,298,1.0340318275140612,{"$f":"IF(L299=\"\",\"\",IF(M299<Results!D$12,1,0))","v":1}]
[null,null,null,null,null,null,null,null,null,null,null,299,1.0542914181522201,{"$f":"IF(L300=\"\",\"\",IF(M300<Results!D$12,1,0))","v":0}]
[null,null,null,null,null,null,null,null,null,null,null,300,1.0426199169664516,{"$f":"IF(L301=\"\",\"\",IF(M301<Results!D$12,1,0))","v":0}]
[null,null,null,null,null,null,null,null,null,null,null,301,1.0235906709736029,{"$f":"IF(L302=\"\",\"\",IF(M302<Results!D$12,1,0))","v":1}]
[null,null,null,null,null,null,null,null,null,null,null,302,1.0632560711393726,{"$f":"IF(L303=\"\",\"\",IF(M303<Results!D$12,1,0))","v":0}]
[null,null,null,null,null,null,null,null,null,null,null,303,1.027780120513875,{"$f":"IF(L304=\"\",\"\",IF(M304<Results!D$12,1,0))","v":1}]
[null,null,null,null,null,null,null,null,null,null,null,304,1.0267331641965398,{"$f":"IF(L305=\"\",\"\",IF(M305<Results!D$12,1,0))","v":1}]
[null,null,null,null,null,null,null,null,null,null,null,305,1.044867020656814,{"$f":"IF(L306=\"\",\"\",IF(M306<Results!D$12,1,0))","v":0}]
[null,null,null,null,null,null,null,null,null,null,null,306,1.0305350605466472,{"$f":"IF(L307=\"\",\"\",IF(M307<Results!D$12,1,0))","v":1}]
[null,null,null,null,null,null,null,null,null,null,null,307,1.0370277130476033,{"$f":"IF(L308=\"\",\"\",IF(M308<Results!D$12,1,0))","v":1}]
[null,null,null,null,null,null,null,null,null,null,null,308,1.0353488983294434,{"$f":"IF(L309=\"\",\"\",IF(M309<Results!D$12,1,0))","v":1}]
[null,null,null,null,null,null,null,null,null,null,null,309,1.0517694140346776,{"$f":"IF(L310=\"\",\"\",IF(M310<Results!D$12,1,0))","v":0}]
[null,null,null,null,null,null,null,null,null,null,null,310,1.0155414386657866,{"$f":"IF(L311=\"\",\"\",IF(M311<Results!D$12,1,0))","v":1}]
[null,null,null,null,null,null,null,null,null,null,null,311,1.0100430950048267,{"$f":"IF(L312=\"\",\"\",IF(M312<Results!D$12,1,0))","v":1}]
[null,null,null,null,null,null,null,null,null,null,null,312,1.0181223828581212,{"$f":"IF(L313=\"\",\"\",IF(M313<Results!D$12,1,0))","v":1}]
[null,null,null,null,null,null,null,null,null,null,null,313,1.0089572919951082,{"$f":"IF(L314=\"\",\"\",IF(M314<Results!D$12,1,0))","v":1}]
[null,null,null,null,null,null,null,null,null,null,null,314,1.0269898324560875,{"$f":"IF(L315=\"\",\"\",IF(M315<Results!D$12,1,0))","v":1}]
[null,null,null,null,null,null,null,null,null,null,null,315,1.0272080809275983,{"$f":"IF(L316=\"\",\"\",IF(M316<Results!D$12,1,0))","v":1}]
[null,null,null,null,null,null,null,null,null,null,null,316,1.0453232496656506,{"$f":"IF(L317=\"\",\"\",IF(M317<Results!D$12,1,0))","v":0}]
[null,null,null,null,null,null,null,null,null,null,null,317,1.0568325389828037,{"$f":"IF(L318=\"\",\"\",IF(M318<Results!D$12,1,0))","v":0}]
[null,null,null,null,null,null,null,null,null,null,null,318,1.0290750253403846,{"$f":"IF(L319=\"\",\"\",IF(M319<Results!D$12,1,0))","v":1}]
[null,null,null,null,null,null,null,null,null,null,null,319,1.0328917563545468,{"$f":"IF(L320=\"\",\"\",IF(M320<Results!D$12,1,0))","v":1}]
[null,null,null,null,null,null,null,null,null,null,null,320,1.0483116420288228,{"$f":"IF(L321=\"\",\"\",IF(M321<Results!D$12,1,0))","v":0}]
[null,null,null,null,null,null,null,null,null,null,null,321,1.0227811180122715,{"$f":"IF(L322=\"\",\"\",IF(M322<Results!D$12,1,0))","v":1}]
[null,null,null,null,null,null,null,null,null,null,null,{"$f":"IF(M323=\"\",\"\",ROW(L323)-1)","v":322},1.0278176812019506,{"$f":"IF(L323=\"\",\"\",IF(M323<Results!D$12,1,0))","v":1}]
[null,null,null,null,null,null,null,null,null,null,null,323,1.0327212531742314,{"$f":"IF(L324=\"\",\"\",IF(M324<Results!D$12,1,0))","v":1}]
[null,null,null,null,null,null,null,null,null,null,null,324,1.0277585224958679,{"$f":"IF(L325=\"\",\"\",IF(M325<Results!D$12,1,0))","v":1}]
[null,null,null,null,null,null,null,null,null,null,null,325,1.0353312124029881,{"$f":"IF(L326=\"\",\"\",IF(M326<Results!D$12,1,0))","v":1}]
[null,null,null,null,null,null,null,null,null,null,null,326,1.0303610560236851,{"$f":"IF(L327=\"\",\"\",IF(M327<Results!D$12,1,0))","v":1}]
[null,null,null,null,null,null,null,null,null,null,null,327,1.0200387277676175,{"$f":"IF(L328=\"\",\"\",IF(M328<Results!D$12,1,0))","v":1}]
[null,null,null,null,null,null,null,null,null,null,null,328,1.0656462347152054,{"$f":"IF(L329=\"\",\"\",IF(M329<Results!D$12,1,0))","v":0}]
[null,null,null,null,null,null,null,null,null,null,null,329,1.0332754224481266,{"$f":"IF(L330=\"\",\"\",IF(M330<Results!D$12,1,0))","v":1}]
[null,null,null,null,null,null,null,null,null,null,null,330,1.0289812518147032,{"$f":"IF(L331=\"\",\"\",IF(M331<Results!D$12,1,0))","v":1}]
[null,null,null,null,null,null,null,null,null,null,null,331,1.0204592644501815,{"$f":"IF(L332=\"\",\"\",IF(M332<Results!D$12,1,0))","v":1}]
[null,null,null,null,null,null,null,null,null,null,null,332,1.0268353896959721,{"$f":"IF(L333=\"\",\"\",IF(M333<Results!D$12,1,0))","v":1}]
[null,null,null,null,null,null,null,null,null,null,null,333,1.0073677384115356,{"$f":"IF(L334=\"\",\"\",IF(M334<Results!D$12,1,0))","v":1}]
[null,null,null,null,null,null,null,null,null,null,null,334,1.0229072650240421,{"$f":"IF(L335=\"\",\"\",IF(M335<Results!D$12,1,0))","v":1}]
[null,null,null,null,null,null,null,null,null,null,null,335,1.0145840142822067,{"$f":"IF(L336=\"\",\"\",IF(M336<Results!D$12,1,0))","v":1}]
[null,null,null,null,null,null,null,null,null,null,null,336,1.0642416472138847,{"$f":"IF(L337=\"\",\"\",IF(M337<Results!D$12,1,0))","v":0}]
[null,null,null,null,null,null,null,null,null,null,null,337,1.0425863594131528,{"$f":"IF(L338=\"\",\"\",IF(M338<Results!D$12,1,0))","v":0}]
[null,null,null,null,null,null,null,null,null,null,null,338,1.0415102094032807,{"$f":"IF(L339=\"\",\"\",IF(M339<Results!D$12,1,0))","v":0}]
[null,null,null,null,null,null,null,null,null,null,null,339,1.0492161434652107,{"$f":"IF(L340=\"\",\"\",IF(M340<Results!D$12,1,0))","v":0}]
[null,null,null,null,null,null,null,null,null,null,null,340,1.0358876662225165,{"$f":"IF(L341=\"\",\"\",IF(M341<Results!D$12,1,0))","v":1}]
[null,null,null,null,null,null,null,null,null,null,null,341,1.0389501035517288,{"$f":"IF(L342=\"\",\"\",IF(M342<Results!D$12,1,0))","v":0}]
[null,null,null,null,null,null,null,null,null,null,null,342,1.0428685379001441,{"$f":"IF(L343=\"\",\"\",IF(M343<Results!D$12,1,0))","v":0}]
[null,null,null,null,null,null,null,null,null,null,null,343,1.0244346947418423,{"$f":"IF(L344=\"\",\"\",IF(M344<Results!D$12,1,0))","v":1}]
[null,null,null,null,null,null,null,null,null,null,null,344,1.0160376799529989,{"$f":"IF(L345=\"\",\"\",IF(M345<Results!D$12,1,0))","v":1}]
[null,null,null,null,null,null,null,null,null,null,null,345,1.0280484606181661,{"$f":"IF(L346=\"\",\"\",IF(M346<Results!D$12,1,0))","v":1}]
[null,null,null,null,null,null,null,null,null,null,null,346,1.0366904081548709,{"$f":"IF(L347=\"\",\"\",IF(M347<Results!D$12,1,0))","v":1}]
[null,null,null,null,null,null,null,null,null,null,null,347,1.0180286720436333,{"$f":"IF(L348=\"\",\"\",IF(M348<Results!D$12,1,0))","v":1}]
[null,null,null,null,null,null,null,null,null,null,null,348,1.022132726981468,{"$f":"IF(L349=\"\",\"\",IF(M349<Results!D$12,1,0))","v":1}]
[null,null,null,null,null,null,null,null,null,null,null,349,1.0281574799357873,{"$f":"IF(L350=\"\",\"\",IF(M350<Results!D$12,1,0))","v":1}]
[null,null,null,null,null,null,null,null,null,null,null,350,1.0234951145840137,{"$f":"IF(L351=\"\",\"\",IF(M351<Results!D$12,1,0))","v":1}]
[null,null,null,null,null,null,null,null,null,null,null,351,1.0336428402194462,{"$f":"IF(L352=\"\",\"\",IF(M352<Results!D$12,1,0))","v":1}]
[null,null,null,null,null,null,null,null,null,null,null,352,1.0763798880255113,{"$f":"IF(L353=\"\",\"\",IF(M353<Results!D$12,1,0))","v":0}]
[null,null,null,null,null,null,null,null,null,null,null,353,1.0258690105386117,{"$f":"IF(L354=\"\",\"\",IF(M354<Results!D$12,1,0))","v":1}]
[null,null,null,null,null,null,null,null,null,null,null,354,1.0118938568067999,{"$f":"IF(L355=\"\",\"\",IF(M355<Results!D$12,1,0))","v":1}]
[null,null,null,null,null,null,null,null,null,null,null,355,1.0382598604189861,{"$f":"IF(L356=\"\",\"\",IF(M356<Results!D$12,1,0))","v":0}]
[null,null,null,null,null,null,null,null,null,null,null,356,1.0527592138916513,{"$f":"IF(L357=\"\",\"\",IF(M357<Results!D$12,1,0))","v":0}]
[null,null,null,null,null,null,null,null,null,null,null,357,1.0303596320044606,{"$f":"IF(L358=\"\",\"\",IF(M358<Results!D$12,1,0))","v":1}]
[null,null,null,null,null,null,null,null,null,null,null,358,1.0492945030025191,{"$f":"IF(L359=\"\",\"\",IF(M359<Results!D$12,1,0))","v":0}]
[null,null,null,null,null,null,null,null,null,null,null,359,1.0579079267170053,{"$f":"IF(L360=\"\",\"\",IF(M360<Results!D$12,1,0))","v":0}]
[null,null,null,null,null,null,null,null,null,null,null,360,1.0375166304774777,{"$f":"IF(L361=\"\",\"\",IF(M361<Results!D$12,1,0))","v":0}]
[null,null,null,null,null,null,null,null,null,null,null,361,1.037009773149514,{"$f":"IF(L362=\"\",\"\",IF(M362<Results!D$12,1,0))","v":1}]
[null,null,null,null,null,null,null,null,null,null,null,362,1.024303779790585,{"$f":"IF(L363=\"\",\"\",IF(M363<Results!D$12,1,0))","v":1}]
[null,null,null,null,null,null,null,null,null,null,null,363,1.0296595377125826,{"$f":"IF(L364=\"\",\"\",IF(M364<Results!D$12,1,0))","v":1}]
[null,null,null,null,null,null,null,null,null,null,null,364,1.0182074214169834,{"$f":"IF(L365=\"\",\"\",IF(M365<Results!D$12,1,0))","v":1}]
[null,null,null,null,null,null,null,null,null,null,null,365,1.059603822531124,{"$f":"IF(L366=\"\",\"\",IF(M366<Results!D$12,1,0))","v":0}]
[null,null,null,null,null,null,null,null,null,null,null,366,1.0365661734060914,{"$f":"IF(L367=\"\",\"\",IF(M367<Results!D$12,1,0))","v":1}]
[null,null,null,null,null,null,null,null,null,null,null,367,1.0319573219540248,{"$f":"IF(L368=\"\",\"\",IF(M368<Results!D$12,1,0))","v":1}]
[null,null,null,null,null,null,null,null,null,null,null,368,1.0205240859033384,{"$f":"IF(L369=\"\",\"\",IF(M369<Results!D$12,1,0))","v":1}]
[null,null,null,null,null,null,null,null,null,null,null,369,1.0259285738493549,{"$f":"IF(L370=\"\",\"\",IF(M370<Results!D$12,1,0))","v":1}]
[null,null,null,null,null,null,null,null,null,null,null,370,1.020374547490102,{"$f":"IF(L371=\"\",\"\",IF(M371<Results!D$12,1,0))","v":1}]
[null,null,null,null,null,null,null,null,null,null,null,371,1.0480025264510238,{"$f":"IF(L372=\"\",\"\",IF(M372<Results!D$12,1,0))","v":0}]
[null,null,null,null,null,null,null,null,null,null,null,372,1.0425460061745371,{"$f":"IF(L373=\"\",\"\",IF(M373<Results!D$12,1,0))","v":0}]
[null,null,null,null,null,null,null,null,null,null,null,373,1.0675158786561598,{"$f":"IF(L374=\"\",\"\",IF(M374<Results!D$12,1,0))","v":0}]
[null,null,null,null,null,null,null,null,null,null,null,374,1.0379437994628566,{"$f":"IF(L375=\"\",\"\",IF(M375<Results!D$12,1,0))","v":0}]
[null,null,null,null,null,null,null,null,null,null,null,375,1.0582784185328755,{"$f":"IF(L376=\"\",\"\",IF(M376<Results!D$12,1,0))","v":0}]
[null,null,null,null,null,null,null,null,null,null,null,376,1.034939151929466,{"$f":"IF(L377=\"\",\"\",IF(M377<Results!D$12,1,0))","v":1}]
[null,null,null,null,null,null,null,null,null,null,null,377,1.0405197285669556,{"$f":"IF(L378=\"\",\"\",IF(M378<Results!D$12,1,0))","v":0}]
[null,null,null,null,null,null,null,null,null,null,null,378,1.0552308252814375,{"$f":"IF(L379=\"\",\"\",IF(M379<Results!D$12,1,0))","v":0}]
[null,null,null,null,null,null,null,null,null,null,null,379,1.0409303939342833,{"$f":"IF(L380=\"\",\"\",IF(M380<Results!D$12,1,0))","v":0}]
[null,null,null,null,null,null,null,null,null,null,null,380,1.0355942028571188,{"$f":"IF(L381=\"\",\"\",IF(M381<Results!D$12,1,0))","v":1}]
[null,null,null,null,null,null,null,null,null,null,null,381,1.0352211265530165,{"$f":"IF(L382=\"\",\"\",IF(M382<Results!D$12,1,0))","v":1}]
[null,null,null,null,null,null,null,null,null,null,null,382,1.0374056524424804,{"$f":"IF(L383=\"\",\"\",IF(M383<Results!D$12,1,0))","v":1}]
[null,null,null,null,null,null,null,null,null,null,null,383,1.0447309675921461,{"$f":"IF(L384=\"\",\"\",IF(M384<Results!D$12,1,0))","v":0}]
[null,null,null,null,null,null,null,null,null,null,null,384,1.0583274548589949,{"$f":"IF(L385=\"\",\"\",IF(M385<Results!D$12,1,0))","v":0}]
[null,null,null,null,null,null,null,null,null,null,null,385,1.0103791401809601,{"$f":"IF(L386=\"\",\"\",IF(M386<Results!D$12,1,0))","v":1}]
[null,null,null,null,null,null,null,null,null,null,null,{"$f":"IF(M387=\"\",\"\",ROW(L387)-1)","v":386},1.0533654503956689,{"$f":"IF(L387=\"\",\"\",IF(M387<Results!D$12,1,0))","v":0}]
[null,null,null,null,null,null,null,null,null,null,null,387,1.0457550441490826,{"$f":"IF(L388=\"\",\"\",IF(M388<Results!D$12,1,0))","v":0}]
[null,null,null,null,null,null,null,null,null,null,null,388,1.0193813180704268,{"$f":"IF(L389=\"\",\"\",IF(M389<Results!D$12,1,0))","v":1}]
[null,null,null,null,null,null,null,null,null,null,null,389,1.010034130948003,{"$f":"IF(L390=\"\",\"\",IF(M390<Results!D$12,1,0))","v":1}]
[null,null,null,null,null,null,null,null,null,null,null,390,1.0621085614476722,{"$f":"IF(L391=\"\",\"\",IF(M391<Results!D$12,1,0))","v":0}]
[null,null,null,null,null,null,null,null,null,null,null,391,1.0036581974805612,{"$f":"IF(L392=\"\",\"\",IF(M392<Results!D$12,1,0))","v":1}]
[null,null,null,null,null,null,null,null,null,null,null,392,1.0231816575698491,{"$f":"IF(L393=\"\",\"\",IF(M393<Results!D$12,1,0))","v":1}]
[null,null,null,null,null,null,null,null,null,null,null,393,1.0410318505803715,{"$f":"IF(L394=\"\",\"\",IF(M394<Results!D$12,1,0))","v":0}]
[null,null,null,null,null,null,null,null,null,null,null,394,1.0222281755142382,{"$f":"IF(L395=\"\",\"\",IF(M395<Results!D$12,1,0))","v":1}]
[null,null,null,null,null,null,null,null,null,null,null,395,1.0481763562934616,{"$f":"IF(L396=\"\",\"\",IF(M396<Results!D$12,1,0))","v":0}]
[null,null,null,null,null,null,null,null,null,null,null,396,1.0413622687660629,{"$f":"IF(L397=\"\",\"\",IF(M397<Results!D$12,1,0))","v":0}]
[null,null,null,null,null,null,null,null,null,null,null,397,1.043707549297614,{"$f":"IF(L398=\"\",\"\",IF(M398<Results!D$12,1,0))","v":0}]
[null,null,null,null,null,null,null,null,null,null,null,398,1.0313479760150963,{"$f":"IF(L399=\"\",\"\",IF(M399<Results!D$12,1,0))","v":1}]
[null,null,null,null,null,null,null,null,null,null,null,399,1.0344538210811258,{"$f":"IF(L400=\"\",\"\",IF(M400<Results!D$12,1,0))","v":1}]
[null,null,null,null,null,null,null,null,null,null,null,400,1.0472071529749782,{"$f":"IF(L401=\"\",\"\",IF(M401<Results!D$12,1,0))","v":0}]
[null,null,null,null,null,null,null,null,null,null,null,401,1.034636814720131,{"$f":"IF(L402=\"\",\"\",IF(M402<Results!D$12,1,0))","v":1}]
[null,null,null,null,null,null,null,null,null,null,null,402,1.0349386648174268,{"$f":"IF(L403=\"\",\"\",IF(M403<Results!D$12,1,0))","v":1}]
[null,null,null,null,null,null,null,null,null,null,null,403,1.0373040444416846,{"$f":"IF(L404=\"\",\"\",IF(M404<Results!D$12,1,0))","v":1}]
[null,null,null,null,null,null,null,null,null,null,null,404,1.0572720756410734,{"$f":"IF(L405=\"\",\"\",IF(M405<Results!D$12,1,0))","v":0}]
[null,null,null,null,null,null,null,null,null,null,null,405,1.0156953701798994,{"$f":"IF(L406=\"\",\"\",IF(M406<Results!D$12,1,0))","v":1}]
[null,null,null,null,null,null,null,null,null,null,null,406,1.0452867107643338,{"$f":"IF(L407=\"\",\"\",IF(M407<Results!D$12,1,0))","v":0}]
[null,null,null,null,null,null,null,null,null,null,null,407,1.0333822101830215,{"$f":"IF(L408=\"\",\"\",IF(M408<Results!D$12,1,0))","v":1}]
[null,null,null,null,null,null,null,null,null,null,null,408,1.0356967949301108,{"$f":"IF(L409=\"\",\"\",IF(M409<Results!D$12,1,0))","v":1}]
[null,null,null,null,null,null,null,null,null,null,null,409,1.0475082781503342,{"$f":"IF(L410=\"\",\"\",IF(M410<Results!D$12,1,0))","v":0}]
[null,null,null,null,null,null,null,null,null,null,null,410,1.0654625949838046,{"$f":"IF(L411=\"\",\"\",IF(M411<Results!D$12,1,0))","v":0}]
[null,null,null,null,null,null,null,null,null,null,null,411,1.0380712743257752,{"$f":"IF(L412=\"\",\"\",IF(M412<Results!D$12,1,0))","v":0}]
[null,null,null,null,null,null,null,null,null,null,null,412,1.0309795088130551,{"$f":"IF(L413=\"\",\"\",IF(M413<Results!D$12,1,0))","v":1}]
[null,null,null,null,null,null,null,null,null,null,null,413,1.0616470482846381,{"$f":"IF(L414=\"\",\"\",IF(M414<Results!D$12,1,0))","v":0}]
[null,null,null,null,null,null,null,null,null,null,null,414,1.0309687751355141,{"$f":"IF(L415=\"\",\"\",IF(M415<Results!D$12,1,0))","v":1}]
[null,null,null,null,null,null,null,null,null,null,null,415,1.01467846454419,{"$f":"IF(L416=\"\",\"\",IF(M416<Results!D$12,1,0))","v":1}]
[null,null,null,null,null,null,null,null,null,null,null,416,1.0359649519448686,{"$f":"IF(L417=\"\",\"\",IF(M417<Results!D$12,1,0))","v":1}]
[null,null,null,null,null,null,null,null,null,null,null,417,1.0271317164115663,{"$f":"IF(L418=\"\",\"\",IF(M418<Results!D$12,1,0))","v":1}]
[null,null,null,null,null,null,null,null,null,null,null,418,1.0300573551773922,{"$f":"IF(L419=\"\",\"\",IF(M419<Results!D$12,1,0))","v":1}]
[null,null,null,null,null,null,null,null,null,null,null,419,1.0290511677028664,{"$f":"IF(L420=\"\",\"\",IF(M420<Results!D$12,1,0))","v":1}]
[null,null,null,null,null,null,null,null,null,null,null,420,1.0281760129407291,{"$f":"IF(L421=\"\",\"\",IF(M421<Results!D$12,1,0))","v":1}]
[null,null,null,null,null,null,null,null,null,null,null,421,1.0296461939448396,{"$f":"IF(L422=\"\",\"\",IF(M422<Results!D$12,1,0))","v":1}]
[null,null,null,null,null,null,null,null,null,null,null,422,1.028544734604026,{"$f":"IF(L423=\"\",\"\",IF(M423<Results!D$12,1,0))","v":1}]
[null,null,null,null,null,null,null,null,null,null,null,423,1.0180063031594193,{"$f":"IF(L424=\"\",\"\",IF(M424<Results!D$12,1,0))","v":1}]
[null,null,null,null,null,null,null,null,null,null,null,424,1.0362790419741186,{"$f":"IF(L425=\"\",\"\",IF(M425<Results!D$12,1,0))","v":1}]
[null,null,null,null,null,null,null,null,null,null,null,425,1.0164846585996421,{"$f":"IF(L426=\"\",\"\",IF(M426<Results!D$12,1,0))","v":1}]
[null,null,null,null,null,null,null,null,null,null,null,426,1.0304103319806877,{"$f":"IF(L427=\"\",\"\",IF(M427<Results!D$12,1,0))","v":1}]
[null,null,null,null,null,null,null,null,null,null,null,427,0.99906795362290124,{"$f":"IF(L428=\"\",\"\",IF(M428<Results!D$12,1,0))","v":1}]
[null,null,null,null,null,null,null,null,null,null,null,428,1.0291061978912193,{"$f":"IF(L429=\"\",\"\",IF(M429<Results!D$12,1,0))","v":1}]
[null,null,null,null,null,null,null,null,null,null,null,429,1.0143848027815254,{"$f":"IF(L430=\"\",\"\",IF(M430<Results!D$12,1,0))","v":1}]
[null,null,null,null,null,null,null,null,null,null,null,430,1.024962956537272,{"$f":"IF(L431=\"\",\"\",IF(M431<Results!D$12,1,0))","v":1}]
[null,null,null,null,null,null,null,null,null,null,null,431,1.006206556221477,{"$f":"IF(L432=\"\",\"\",IF(M432<Results!D$12,1,0))","v":1}]
[null,null,null,null,null,null,null,null,null,null,null,432,1.0166437840688438,{"$f":"IF(L433=\"\",\"\",IF(M433<Results!D$12,1,0))","v":1}]
[null,null,null,null,null,null,null,null,null,null,null,433,1.0278901516077301,{"$f":"IF(L434=\"\",\"\",IF(M434<Results!D$12,1,0))","v":1}]
[null,null,null,null,null,null,null,null,null,null,null,434,1.0425167755643192,{"$f":"IF(L435=\"\",\"\",IF(M435<Results!D$12,1,0))","v":0}]
[null,null,null,null,null,null,null,null,null,null,null,435,1.0355503101368171,{"$f":"IF(L436=\"\",\"\",IF(M436<Results!D$12,1,0))","v":1}]
[null,null,null,null,null,null,null,null,null,null,null,436,1.0364519022830496,{"$f":"IF(L437=\"\",\"\",IF(M437<Results!D$12,1,0))","v":1}]
[null,null,null,null,null,null,null,null,null,null,null,437,1.0274114278314441,{"$f":"IF(L438=\"\",\"\",IF(M438<Results!D$12,1,0))","v":1}]
[null,null,null,null,null,null,null,null,null,null,null,438,1.0234600227166872,{"$f":"IF(L439=\"\",\"\",IF(M439<Results!D$12,1,0))","v":1}]
[null,null,null,null,null,null,null,null,null,null,null,439,1.064375326538334,{"$f":"IF(L440=\"\",\"\",IF(M440<Results!D$12,1,0))","v":0}]
[null,null,null,null,null,null,null,null,null,null,null,440,1.0254098362929165,{"$f":"IF(L441=\"\",\"\",IF(M441<Results!D$12,1,0))","v":1}]
[null,null,null,null,null,null,null,null,null,null,null,441,1.0542054069514284,{"$f":"IF(L442=\"\",\"\",IF(M442<Results!D$12,1,0))","v":0}]
[null,null,null,null,null,null,null,null,null,null,null,442,1.0179978682009527,{"$f":"IF(L443=\"\",\"\",IF(M443<Results!D$12,1,0))","v":1}]
[null,null,null,null,null,null,null,null,null,null,null,443,1.0303028052545586,{"$f":"IF(L444=\"\",\"\",IF(M444<Results!D$12,1,0))","v":1}]
[null,null,null,null,null,null,null,null,null,null,null,444,1.0337211623842419,{"$f":"IF(L445=\"\",\"\",IF(M445<Results!D$12,1,0))","v":1}]
[null,null,null,null,null,null,null,null,null,null,null,445,1.0379411954835303,{"$f":"IF(L446=\"\",\"\",IF(M446<Results!D$12,1,0))","v":0}]
[null,null,null,null,null,null,null,null,null,null,null,446,1.0315085557611527,{"$f":"IF(L447=\"\",\"\",IF(M447<Results!D$12,1,0))","v":1}]
[null,null,null,null,null,null,null,null,null,null,null,447,1.032383775984663,{"$f":"IF(L448=\"\",\"\",IF(M448<Results!D$12,1,0))","v":1}]
[null,null,null,null,null,null,null,null,null,null,null,448,1.0577030768935454,{"$f":"IF(L449=\"\",\"\",IF(M449<Results!D$12,1,0))","v":0}]
[null,null,null,null,null,null,null,null,null,null,null,449,1.0579967320592316,{"$f":"IF(L450=\"\",\"\",IF(M450<Results!D$12,1,0))","v":0}]
[null,null,null,null,null,null,null,null,null,null,null,{"$f":"IF(M451=\"\",\"\",ROW(L451)-1)","v":450},1.0696008568749169,{"$f":"IF(L451=\"\",\"\",IF(M451<Results!D$12,1,0))","v":0}]
[null,null,null,null,null,null,null,null,null,null,null,451,1.0176478807566176,{"$f":"IF(L452=\"\",\"\",IF(M452<Results!D$12,1,0))","v":1}]
[null,null,null,null,null,null,null,null,null,null,null,452,1.0277756175000639,{"$f":"IF(L453=\"\",\"\",IF(M453<Results!D$12,1,0))","v":1}]
[null,null,null,null,null,null,null,null,null,null,null,453,1.0465647153850808,{"$f":"IF(L454=\"\",\"\",IF(M454<Results!D$12,1,0))","v":0}]
[null,null,null,null,null,null,null,null,null,null,null,454,1.0411967718400303,{"$f":"IF(L455=\"\",\"\",IF(M455<Results!D$12,1,0))","v":0}]
[null,null,null,null,null,null,null,null,null,null,null,455,1.0500420952478784,{"$f":"IF(L456=\"\",\"\",IF(M456<Results!D$12,1,0))","v":0}]
[null,null,null,null,null,null,null,null,null,null,null,456,1.0400935508931815,{"$f":"IF(L457=\"\",\"\",IF(M457<Results!D$12,1,0))","v":0}]
[null,null,null,null,null,null,null,null,null,null,null,457,1.0472406914742489,{"$f":"IF(L458=\"\",\"\",IF(M458<Results!D$12,1,0))","v":0}]
[null,null,null,null,null,null,null,null,null,null,null,458,1.0380029611464923,{"$f":"IF(L459=\"\",\"\",IF(M459<Results!D$12,1,0))","v":0}]
[null,null,null,null,null,null,null,null,null,null,null,459,1.0245238808952837,{"$f":"IF(L460=\"\",\"\",IF(M460<Results!D$12,1,0))","v":1}]
[null,null,null,null,null,null,null,null,null,null,null,460,1.061018911021373,{"$f":"IF(L461=\"\",\"\",IF(M461<Results!D$12,1,0))","v":0}]
[null,null,null,null,null,null,null,null,null,null,null,461,1.0543761196768431,{"$f":"IF(L462=\"\",\"\",IF(M462<Results!D$12,1,0))","v":0}]
[null,null,null,null,null,null,null,null,null,null,null,462,1.0344080581133617,{"$f":"IF(L463=\"\",\"\",IF(M463<Results!D$12,1,0))","v":1}]
[null,null,null,null,null,null,null,null,null,null,null,463,1.026791472523555,{"$f":"IF(L464=\"\",\"\",IF(M464<Results!D$12,1,0))","v":1}]
[null,null,null,null,null,null,null,null,null,null,null,464,1.0155941596572027,{"$f":"IF(L465=\"\",\"\",IF(M465<Results!D$12,1,0))","v":1}]
[null,null,null,null,null,null,null,null,null,null,null,465,1.0231226372210418,{"$f":"IF(L466=\"\",\"\",IF(M466<Results!D$12,1,0))","v":1}]
[null,null,null,null,null,null,null,null,null,null,null,466,1.0356598523106755,{"$f":"IF(L467=\"\",\"\",IF(M467<Results!D$12,1,0))","v":1}]
[null,null,null,null,null,null,null,null,null,null,null,467,1.047287716683913,{"$f":"IF(L468=\"\",\"\",IF(M468<Results!D$12,1,0))","v":0}]
[null,null,null,null,null,null,null,null,null,null,null,468,1.0453520424212934,{"$f":"IF(L469=\"\",\"\",IF(M469<Results!D$12,1,0))","v":0}]
[null,null,null,null,null,null,null,null,null,null,null,469,1.0203738243645708,{"$f":"IF(L470=\"\",\"\",IF(M470<Results!D$12,1,0))","v":1}]
[null,null,null,null,null,null,null,null,null,null,null,470,1.0210348020268527,{"$f":"IF(L471=\"\",\"\",IF(M471<Results!D$12,1,0))","v":1}]
[null,null,null,null,null,null,null,null,null,null,null,471,1.0474266206687812,{"$f":"IF(L472=\"\",\"\",IF(M472<Results!D$12,1,0))","v":0}]
[null,null,null,null,null,null,null,null,null,null,null,472,1.03830306435774,{"$f":"IF(L473=\"\",\"\",IF(M473<Results!D$12,1,0))","v":0}]
[null,null,null,null,null,null,null,null,null,null,null,473,1.0245788268539686,{"$f":"IF(L474=\"\",\"\",IF(M474<Results!D$12,1,0))","v":1}]
[null,null,null,null,null,null,null,null,null,null,null,474,1.0297499879047423,{"$f":"IF(L475=\"\",\"\",IF(M475<Results!D$12,1,0))","v":1}]
[null,null,null,null,null,null,null,null,null,null,null,475,1.0220451358237501,{"$f":"IF(L476=\"\",\"\",IF(M476<Results!D$12,1,0))","v":1}]
[null,null,null,null,null,null,null,null,null,null,null,476,1.0266283108370464,{"$f":"IF(L477=\"\",\"\",IF(M477<Results!D$12,1,0))","v":1}]
[null,null,null,null,null,null,null,null,null,null,null,477,1.0390955079090756,{"$f":"IF(L478=\"\",\"\",IF(M478<Results!D$12,1,0))","v":0}]
[null,null,null,null,null,null,null,null,null,null,null,478,1.0511076887752901,{"$f":"IF(L479=\"\",\"\",IF(M479<Results!D$12,1,0))","v":0}]
[null,null,null,null,null,null,null,null,null,null,null,479,1.0211356037938188,{"$f":"IF(L480=\"\",\"\",IF(M480<Results!D$12,1,0))","v":1}]
[null,null,null,null,null,null,null,null,null,null,null,480,1.040839084059255,{"$f":"IF(L481=\"\",\"\",IF(M481<Results!D$12,1,0))","v":0}]
[null,null,null,null,null,null,null,null,null,null,null,481,1.0478848283963671,{"$f":"IF(L482=\"\",\"\",IF(M482<Results!D$12,1,0))","v":0}]
[null,null,null,null,null,null,null,null,null,null,null,482,1.0237768445385107,{"$f":"IF(L483=\"\",\"\",IF(M483<Results!D$12,1,0))","v":1}]
[null,null,null,null,null,null,null,null,null,null,null,483,1.0396805768522215,{"$f":"IF(L484=\"\",\"\",IF(M484<Results!D$12,1,0))","v":0}]
[null,null,null,null,null,null,null,null,null,null,null,484,1.0722638785838088,{"$f":"IF(L485=\"\",\"\",IF(M485<Results!D$12,1,0))","v":0}]
[null,null,null,null,null,null,null,null,null,null,null,485,1.0238330388989536,{"$f":"IF(L486=\"\",\"\",IF(M486<Results!D$12,1,0))","v":1}]
[null,null,null,null,null,null,null,null,null,null,null,486,1.02817306916052,{"$f":"IF(L487=\"\",\"\",IF(M487<Results!D$12,1,0))","v":1}]
[null,null,null,null,null,null,null,null,null,null,null,487,1.0592594068957648,{"$f":"IF(L488=\"\",\"\",IF(M488<Results!D$12,1,0))","v":0}]
[null,null,null,null,null,null,null,null,null,null,null,488,1.0634958149581832,{"$f":"IF(L489=\"\",\"\",IF(M489<Results!D$12,1,0))","v":0}]
[null,null,null,null,null,null,null,null,null,null,null,489,1.0479041695290554,{"$f":"IF(L490=\"\",\"\",IF(M490<Results!D$12,1,0))","v":0}]
[null,null,null,null,null,null,null,null,null,null,null,490,1.0551660038366444,{"$f":"IF(L491=\"\",\"\",IF(M491<Results!D$12,1,0))","v":0}]
[null,null,null,null,null,null,null,null,null,null,null,491,1.0289384539168496,{"$f":"IF(L492=\"\",\"\",IF(M492<Results!D$12,1,0))","v":1}]
[null,null,null,null,null,null,null,null,null,null,null,492,1.0295702434238312,{"$f":"IF(L493=\"\",\"\",IF(M493<Results!D$12,1,0))","v":1}]
[null,null,null,null,null,null,null,null,null,null,null,493,1.023971078913368,{"$f":"IF(L494=\"\",\"\",IF(M494<Results!D$12,1,0))","v":1}]
[null,null,null,null,null,null,null,null,null,null,null,494,1.0295632350527506,{"$f":"IF(L495=\"\",\"\",IF(M495<Results!D$12,1,0))","v":1}]
[null,null,null,null,null,null,null,null,null,null,null,495,1.0432003808006147,{"$f":"IF(L496=\"\",\"\",IF(M496<Results!D$12,1,0))","v":0}]
[null,null,null,null,null,null,null,null,null,null,null,496,1.0094676363429316,{"$f":"IF(L497=\"\",\"\",IF(M497<Results!D$12,1,0))","v":1}]
[null,null,null,null,null,null,null,null,null,null,null,497,1.0478188060804328,{"$f":"IF(L498=\"\",\"\",IF(M498<Results!D$12,1,0))","v":0}]
[null,null,null,null,null,null,null,null,null,null,null,498,1.0315465847508047,{"$f":"IF(L499=\"\",\"\",IF(M499<Results!D$12,1,0))","v":1}]
[null,null,null,null,null,null,null,null,null,null,null,499,1.0363495840444561,{"$f":"IF(L500=\"\",\"\",IF(M500<Results!D$12,1,0))","v":1}]
[null,null,null,null,null,null,null,null,null,null,null,500,1.0404246078301771,{"$f":"IF(L501=\"\",\"\",IF(M501<Results!D$12,1,0))","v":0}]
[null,null,null,null,null,null,null,null,null,null,null,501,1.0476691542588177,{"$f":"IF(L502=\"\",\"\",IF(M502<Results!D$12,1,0))","v":0}]
[null,null,null,null,null,null,null,null,null,null,null,502,1.0480397373188941,{"$f":"IF(L503=\"\",\"\",IF(M503<Results!D$12,1,0))","v":0}]
[null,null,null,null,null,null,null,null,null,null,null,503,1.0627984103186694,{"$f":"IF(L504=\"\",\"\",IF(M504<Results!D$12,1,0))","v":0}]
[null,null,null,null,null,null,null,null,null,null,null,504,1.0389013105463563,{"$f":"IF(L505=\"\",\"\",IF(M505<Results!D$12,1,0))","v":0}]
[null,null,null,null,null,null,null,null,null,null,null,505,1.0262869722094567,{"$f":"IF(L506=\"\",\"\",IF(M506<Results!D$12,1,0))","v":1}]
[null,null,null,null,null,null,null,null,null,null,null,506,1.0264601518243828,{"$f":"IF(L507=\"\",\"\",IF(M507<Results!D$12,1,0))","v":1}]
[null,null,null,null,null,null,null,null,null,null,null,507,1.0205264489522641,{"$f":"IF(L508=\"\",\"\",IF(M508<Results!D$12,1,0))","v":1}]
[null,null,null,null,null,null,null,null,null,null,null,508,1.0471321528255531,{"$f":"IF(L509=\"\",\"\",IF(M509<Results!D$12,1,0))","v":0}]
[null,null,null,null,null,null,null,null,null,null,null,509,1.0572780289279169,{"$f":"IF(L510=\"\",\"\",IF(M510<Results!D$12,1,0))","v":0}]
[null,null,null,null,null,null,null,null,null,null,null,510,1.0651653390669962,{"$f":"IF(L511=\"\",\"\",IF(M511<Results!D$12,1,0))","v":0}]
[null,null,null,null,null,null,null,null,null,null,null,511,1.0477912762701855,{"$f":"IF(L512=\"\",\"\",IF(M512<Results!D$12,1,0))","v":0}]
[null,null,null,null,null,null,null,null,null,null,null,512,1.0241145586427147,{"$f":"IF(L513=\"\",\"\",IF(M513<Results!D$12,1,0))","v":1}]
[null,null,null,null,null,null,null,null,null,null,null,513,1.0509030711085159,{"$f":"IF(L514=\"\",\"\",IF(M514<Results!D$12,1,0))","v":0}]
[null,null,null,null,null,null,null,null,null,null,null,{"$f":"IF(M515=\"\",\"\",ROW(L515)-1)","v":514},1.0404437981045309,{"$f":"IF(L515=\"\",\"\",IF(M515<Results!D$12,1,0))","v":0}]
[null,null,null,null,null,null,null,null,null,null,null,515,1.033805164937464,{"$f":"IF(L516=\"\",\"\",IF(M516<Results!D$12,1,0))","v":1}]
[null,null,null,null,null,null,null,null,null,null,null,516,1.0366343134194211,{"$f":"IF(L517=\"\",\"\",IF(M517<Results!D$12,1,0))","v":1}]
[null,null,null,null,null,null,null,null,null,null,null,517,1.0260136436238789,{"$f":"IF(L518=\"\",\"\",IF(M518<Results!D$12,1,0))","v":1}]
[null,null,null,null,null,null,null,null,null,null,null,518,1.0217368856426867,{"$f":"IF(L519=\"\",\"\",IF(M519<Results!D$12,1,0))","v":1}]
[null,null,null,null,null,null,null,null,null,null,null,519,1.0479019247865262,{"$f":"IF(L520=\"\",\"\",IF(M520<Results!D$12,1,0))","v":0}]
[null,null,null,null,null,null,null,null,null,null,null,520,1.0404336391465996,{"$f":"IF(L521=\"\",\"\",IF(M521<Results!D$12,1,0))","v":0}]
[null,null,null,null,null,null,null,null,null,null,null,521,1.0386614407608876,{"$f":"IF(L522=\"\",\"\",IF(M522<Results!D$12,1,0))","v":0}]
[null,null,null,null,null,null,null,null,null,null,null,522,1.0516392701969599,{"$f":"IF(L523=\"\",\"\",IF(M523<Results!D$12,1,0))","v":0}]
[null,null,null,null,null,null,null,null,null,null,null,523,1.0229665239368011,{"$f":"IF(L524=\"\",\"\",IF(M524<Results!D$12,1,0))","v":1}]
[null,null,null,null,null,null,null,null,null,null,null,524,1.0671296048506889,{"$f":"IF(L525=\"\",\"\",IF(M525<Results!D$12,1,0))","v":0}]
[null,null,null,null,null,null,null,null,null,null,null,525,1.0305426240294251,{"$f":"IF(L526=\"\",\"\",IF(M526<Results!D$12,1,0))","v":1}]
[null,null,null,null,null,null,null,null,null,null,null,526,1.0520118516482435,{"$f":"IF(L527=\"\",\"\",IF(M527<Results!D$12,1,0))","v":0}]
[null,null,null,null,null,null,null,null,null,null,null,527,1.0109840689915621,{"$f":"IF(L528=\"\",\"\",IF(M528<Results!D$12,1,0))","v":1}]
[null,null,null,null,null,null,null,null,null,null,null,528,1.0295974495466433,{"$f":"IF(L529=\"\",\"\",IF(M529<Results!D$12,1,0))","v":1}]
[null,null,null,null,null,null,null,null,null,null,null,529,1.0497637544960681,{"$f":"IF(L530=\"\",\"\",IF(M530<Results!D$12,1,0))","v":0}]
[null,null,null,null,null,null,null,null,null,null,null,530,1.0498712751283807,{"$f":"IF(L531=\"\",\"\",IF(M531<Results!D$12,1,0))","v":0}]
[null,null,null,null,null,null,null,null,null,null,null,531,1.0206901650694959,{"$f":"IF(L532=\"\",\"\",IF(M532<Results!D$12,1,0))","v":1}]
[null,null,null,null,null,null,null,null,null,null,null,532,1.0171774784459928,{"$f":"IF(L533=\"\",\"\",IF(M533<Results!D$12,1,0))","v":1}]
[null,null,null,null,null,null,null,null,null,null,null,533,1.0228726748879859,{"$f":"IF(L534=\"\",\"\",IF(M534<Results!D$12,1,0))","v":1}]
[null,null,null,null,null,null,null,null,null,null,null,534,1.0411328365590762,{"$f":"IF(L535=\"\",\"\",IF(M535<Results!D$12,1,0))","v":0}]
[null,null,null,null,null,null,null,null,null,null,null,535,1.0498541015792766,{"$f":"IF(L536=\"\",\"\",IF(M536<Results!D$12,1,0))","v":0}]
[null,null,null,null,null,null,null,null,null,null,null,536,1.0149270818357501,{"$f":"IF(L537=\"\",\"\",IF(M537<Results!D$12,1,0))","v":1}]
[null,null,null,null,null,null,null,null,null,null,null,537,1.0163764332525647,{"$f":"IF(L538=\"\",\"\",IF(M538<Results!D$12,1,0))","v":1}]
[null,null,null,null,null,null,null,null,null,null,null,538,1.0533326049774336,{"$f":"IF(L539=\"\",\"\",IF(M539<Results!D$12,1,0))","v":0}]
[null,null,null,null,null,null,null,null,null,null,null,539,1.0219850579560454,{"$f":"IF(L540=\"\",\"\",IF(M540<Results!D$12,1,0))","v":1}]
[null,null,null,null,null,null,null,null,null,null,null,540,1.0300195206595828,{"$f":"IF(L541=\"\",\"\",IF(M541<Results!D$12,1,0))","v":1}]
[null,null,null,null,null,null,null,null,null,null,null,541,1.0416748178409789,{"$f":"IF(L542=\"\",\"\",IF(M542<Results!D$12,1,0))","v":0}]
[null,null,null,null,null,null,null,null,null,null,null,542,1.0534309869158551,{"$f":"IF(L543=\"\",\"\",IF(M543<Results!D$12,1,0))","v":0}]
[null,null,null,null,null,null,null,null,null,null,null,543,1.034284465960545,{"$f":"IF(L544=\"\",\"\",IF(M544<Results!D$12,1,0))","v":1}]
[null,null,null,null,null,null,null,null,null,null,null,544,1.0284581676435751,{"$f":"IF(L545=\"\",\"\",IF(M545<Results!D$12,1,0))","v":1}]
[null,null,null,null,null,null,null,null,null,null,null,545,1.0321659630493298,{"$f":"IF(L546=\"\",\"\",IF(M546<Results!D$12,1,0))","v":1}]
[null,null,null,null,null,null,null,null,null,null,null,546,1.051811211193342,{"$f":"IF(L547=\"\",\"\",IF(M547<Results!D$12,1,0))","v":0}]
[null,null,null,null,null,null,null,null,null,null,null,547,1.0235931976651034,{"$f":"IF(L548=\"\",\"\",IF(M548<Results!D$12,1,0))","v":1}]
[null,null,null,null,null,null,null,null,null,null,null,548,1.0338611762531991,{"$f":"IF(L549=\"\",\"\",IF(M549<Results!D$12,1,0))","v":1}]
[null,null,null,null,null,null,null,null,null,null,null,549,1.0437933744299723,{"$f":"IF(L550=\"\",\"\",IF(M550<Results!D$12,1,0))","v":0}]
[null,null,null,null,null,null,null,null,null,null,null,550,1.0533273994394301,{"$f":"IF(L551=\"\",\"\",IF(M551<Results!D$12,1,0))","v":0}]
[null,null,null,null,null,null,null,null,null,null,null,551,1.0351445327139528,{"$f":"IF(L552=\"\",\"\",IF(M552<Results!D$12,1,0))","v":1}]
[null,null,null,null,null,null,null,null,null,null,null,552,1.0297191806382016,{"$f":"IF(L553=\"\",\"\",IF(M553<Results!D$12,1,0))","v":1}]
[null,null,null,null,null,null,null,null,null,null,null,553,1.0258585364815072,{"$f":"IF(L554=\"\",\"\",IF(M554<Results!D$12,1,0))","v":1}]
[null,null,null,null,null,null,null,null,null,null,null,554,1.0598314802466346,{"$f":"IF(L555=\"\",\"\",IF(M555<Results!D$12,1,0))","v":0}]
[null,null,null,null,null,null,null,null,null,null,null,555,1.0395444837707479,{"$f":"IF(L556=\"\",\"\",IF(M556<Results!D$12,1,0))","v":0}]
[null,null,null,null,null,null,null,null,null,null,null,556,1.0641634833540203,{"$f":"IF(L557=\"\",\"\",IF(M557<Results!D$12,1,0))","v":0}]
[null,null,null,null,null,null,null,null,null,null,null,557,1.017788300006778,{"$f":"IF(L558=\"\",\"\",IF(M558<Results!D$12,1,0))","v":1}]
[null,null,null,null,null,null,null,null,null,null,null,558,1.0453600604176203,{"$f":"IF(L559=\"\",\"\",IF(M559<Results!D$12,1,0))","v":0}]
[null,null,null,null,null,null,null,null,null,null,null,559,1.0278882074273836,{"$f":"IF(L560=\"\",\"\",IF(M560<Results!D$12,1,0))","v":1}]
[null,null,null,null,null,null,null,null,null,null,null,560,1.0543060497532251,{"$f":"IF(L561=\"\",\"\",IF(M561<Results!D$12,1,0))","v":0}]
[null,null,null,null,null,null,null,null,null,null,null,561,1.0313637400677833,{"$f":"IF(L562=\"\",\"\",IF(M562<Results!D$12,1,0))","v":1}]
[null,null,null,null,null,null,null,null,null,null,null,562,1.0581263091999411,{"$f":"IF(L563=\"\",\"\",IF(M563<Results!D$12,1,0))","v":0}]
[null,null,null,null,null,null,null,null,null,null,null,563,1.0068069121929999,{"$f":"IF(L564=\"\",\"\",IF(M564<Results!D$12,1,0))","v":1}]
[null,null,null,null,null,null,null,null,null,null,null,564,1.0202643677227861,{"$f":"IF(L565=\"\",\"\",IF(M565<Results!D$12,1,0))","v":1}]
[null,null,null,null,null,null,null,null,null,null,null,565,1.038568272569252,{"$f":"IF(L566=\"\",\"\",IF(M566<Results!D$12,1,0))","v":0}]
[null,null,null,null,null,null,null,null,null,null,null,566,1.0323135218782502,{"$f":"IF(L567=\"\",\"\",IF(M567<Results!D$12,1,0))","v":1}]
[null,null,null,null,null,null,null,null,null,null,null,567,1.0257962775253666,{"$f":"IF(L568=\"\",\"\",IF(M568<Results!D$12,1,0))","v":1}]
[null,null,null,null,null,null,null,null,null,null,null,568,1.0257732735472578,{"$f":"IF(L569=\"\",\"\",IF(M569<Results!D$12,1,0))","v":1}]
[null,null,null,null,null,null,null,null,null,null,null,569,1.0219599782942985,{"$f":"IF(L570=\"\",\"\",IF(M570<Results!D$12,1,0))","v":1}]
[null,null,null,null,null,null,null,null,null,null,null,570,1.0436719058777069,{"$f":"IF(L571=\"\",\"\",IF(M571<Results!D$12,1,0))","v":0}]
[null,null,null,null,null,null,null,null,null,null,null,571,1.0624797866143041,{"$f":"IF(L572=\"\",\"\",IF(M572<Results!D$12,1,0))","v":0}]
[null,null,null,null,null,null,null,null,null,null,null,572,1.0576195874800112,{"$f":"IF(L573=\"\",\"\",IF(M573<Results!D$12,1,0))","v":0}]
[null,null,null,null,null,null,null,null,null,null,null,573,1.0501914816582687,{"$f":"IF(L574=\"\",\"\",IF(M574<Results!D$12,1,0))","v":0}]
[null,null,null,null,null,null,null,null,null,null,null,574,1.0463329661005332,{"$f":"IF(L575=\"\",\"\",IF(M575<Results!D$12,1,0))","v":0}]
[null,null,null,null,null,null,null,null,null,null,null,575,1.0366615147174725,{"$f":"IF(L576=\"\",\"\",IF(M576<Results!D$12,1,0))","v":1}]
[null,null,null,null,null,null,null,null,null,null,null,576,1.0703883532982865,{"$f":"IF(L577=\"\",\"\",IF(M577<Results!D$12,1,0))","v":0}]
[null,null,null,null,null,null,null,null,null,null,null,577,1.0260580508108217,{"$f":"IF(L578=\"\",\"\",IF(M578<Results!D$12,1,0))","v":1}]
[null,null,null,null,null,null,null,null,null,null,null,{"$f":"IF(M579=\"\",\"\",ROW(L579)-1)","v":578},1.0448629537611918,{"$f":"IF(L579=\"\",\"\",IF(M579<Results!D$12,1,0))","v":0}]
[null,null,null,null,null,null,null,null,null,null,null,579,1.059490073713143,{"$f":"IF(L580=\"\",\"\",IF(M580<Results!D$12,1,0))","v":0}]
[null,null,null,null,null,null,null,null,null,null,null,580,1.0581855772164248,{"$f":"IF(L581=\"\",\"\",IF(M581<Results!D$12,1,0))","v":0}]
[null,null,null,null,null,null,null,null,null,null,null,581,1.0423546166790807,{"$f":"IF(L582=\"\",\"\",IF(M582<Results!D$12,1,0))","v":0}]
[null,null,null,null,null,null,null,null,null,null,null,582,1.0380002928573255,{"$f":"IF(L583=\"\",\"\",IF(M583<Results!D$12,1,0))","v":0}]
[null,null,null,null,null,null,null,null,null,null,null,583,1.0368468378508839,{"$f":"IF(L584=\"\",\"\",IF(M584<Results!D$12,1,0))","v":1}]
[null,null,null,null,null,null,null,null,null,null,null,584,1.01604329081649,{"$f":"IF(L585=\"\",\"\",IF(M585<Results!D$12,1,0))","v":1}]
[null,null,null,null,null,null,null,null,null,null,null,585,1.0284700622691656,{"$f":"IF(L586=\"\",\"\",IF(M586<Results!D$12,1,0))","v":1}]
[null,null,null,null,null,null,null,null,null,null,null,586,1.0344956505191081,{"$f":"IF(L587=\"\",\"\",IF(M587<Results!D$12,1,0))","v":1}]
[null,null,null,null,null,null,null,null,null,null,null,587,1.0611287124550128,{"$f":"IF(L588=\"\",\"\",IF(M588<Results!D$12,1,0))","v":0}]
[null,null,null,null,null,null,null,null,null,null,null,588,1.0506307734072844,{"$f":"IF(L589=\"\",\"\",IF(M589<Results!D$12,1,0))","v":0}]
[null,null,null,null,null,null,null,null,null,null,null,589,1.027697053233968,{"$f":"IF(L590=\"\",\"\",IF(M590<Results!D$12,1,0))","v":1}]
[null,null,null,null,null,null,null,null,null,null,null,590,1.0409907622539363,{"$f":"IF(L591=\"\",\"\",IF(M591<Results!D$12,1,0))","v":0}]
[null,null,null,null,null,null,null,null,null,null,null,591,1.0324711169234646,{"$f":"IF(L592=\"\",\"\",IF(M592<Results!D$12,1,0))","v":1}]
[null,null,null,null,null,null,null,null,null,null,null,592,1.0270680136291954,{"$f":"IF(L593=\"\",\"\",IF(M593<Results!D$12,1,0))","v":1}]
[null,null,null,null,null,null,null,null,null,null,null,593,1.0200855665363961,{"$f":"IF(L594=\"\",\"\",IF(M594<Results!D$12,1,0))","v":1}]
[null,null,null,null,null,null,null,null,null,null,null,594,1.0170349962444134,{"$f":"IF(L595=\"\",\"\",IF(M595<Results!D$12,1,0))","v":1}]
[null,null,null,null,null,null,null,null,null,null,null,595,1.0290720344809237,{"$f":"IF(L596=\"\",\"\",IF(M596<Results!D$12,1,0))","v":1}]
[null,null,null,null,null,null,null,null,null,null,null,596,1.0553813153236755,{"$f":"IF(L597=\"\",\"\",IF(M597<Results!D$12,1,0))","v":0}]
[null,null,null,null,null,null,null,null,null,null,null,597,1.062865766442642,{"$f":"IF(L598=\"\",\"\",IF(M598<Results!D$12,1,0))","v":0}]
[null,null,null,null,null,null,null,null,null,null,null,598,1.0392996837907329,{"$f":"IF(L599=\"\",\"\",IF(M599<Results!D$12,1,0))","v":0}]
[null,null,null,null,null,null,null,null,null,null,null,599,1.0469200194166233,{"$f":"IF(L600=\"\",\"\",IF(M600<Results!D$12,1,0))","v":0}]
[null,null,null,null,null,null,null,null,null,null,null,600,1.0513100133610236,{"$f":"IF(L601=\"\",\"\",IF(M601<Results!D$12,1,0))","v":0}]
[null,null,null,null,null,null,null,null,null,null,null,601,1.0306535312009666,{"$f":"IF(L602=\"\",\"\",IF(M602<Results!D$12,1,0))","v":1}]
[null,null,null,null,null,null,null,null,null,null,null,602,1.0503153050504348,{"$f":"IF(L603=\"\",\"\",IF(M603<Results!D$12,1,0))","v":0}]
[null,null,null,null,null,null,null,null,null,null,null,603,1.0607704488018346,{"$f":"IF(L604=\"\",\"\",IF(M604<Results!D$12,1,0))","v":0}]
[null,null,null,null,null,null,null,null,null,null,null,604,1.0170071814386157,{"$f":"IF(L605=\"\",\"\",IF(M605<Results!D$12,1,0))","v":1}]
[null,null,null,null,null,null,null,null,null,null,null,605,1.0100896217276631,{"$f":"IF(L606=\"\",\"\",IF(M606<Results!D$12,1,0))","v":1}]
[null,null,null,null,null,null,null,null,null,null,null,606,1.0059465663112519,{"$f":"IF(L607=\"\",\"\",IF(M607<Results!D$12,1,0))","v":1}]
[null,null,null,null,null,null,null,null,null,null,null,607,1.0186790300436774,{"$f":"IF(L608=\"\",\"\",IF(M608<Results!D$12,1,0))","v":1}]
[null,null,null,null,null,null,null,null,null,null,null,608,1.0212911848245552,{"$f":"IF(L609=\"\",\"\",IF(M609<Results!D$12,1,0))","v":1}]
[null,null,null,null,null,null,null,null,null,null,null,609,1.0459290245350163,{"$f":"IF(L610=\"\",\"\",IF(M610<Results!D$12,1,0))","v":0}]
[null,null,null,null,null,null,null,null,null,null,null,610,1.0273119462373315,{"$f":"IF(L611=\"\",\"\",IF(M611<Results!D$12,1,0))","v":1}]
[null,null,null,null,null,null,null,null,null,null,null,611,1.0276100186606125,{"$f":"IF(L612=\"\",\"\",IF(M612<Results!D$12,1,0))","v":1}]
[null,null,null,null,null,null,null,null,null,null,null,612,1.0432211818927439,{"$f":"IF(L613=\"\",\"\",IF(M613<Results!D$12,1,0))","v":0}]
[null,null,null,null,null,null,null,null,null,null,null,613,1.0320299401091937,{"$f":"IF(L614=\"\",\"\",IF(M614<Results!D$12,1,0))","v":1}]
[null,null,null,null,null,null,null,null,null,null,null,614,1.0278941311637588,{"$f":"IF(L615=\"\",\"\",IF(M615<Results!D$12,1,0))","v":1}]
[null,null,null,null,null,null,null,null,null,null,null,615,1.0672467145364497,{"$f":"IF(L616=\"\",\"\",IF(M616<Results!D$12,1,0))","v":0}]
[null,null,null,null,null,null,null,null,null,null,null,616,1.0296923684805268,{"$f":"IF(L617=\"\",\"\",IF(M617<Results!D$12,1,0))","v":1}]
[null,null,null,null,null,null,null,null,null,null,null,617,1.0360713349007327,{"$f":"IF(L618=\"\",\"\",IF(M618<Results!D$12,1,0))","v":1}]
[null,null,null,null,null,null,null,null,null,null,null,618,1.0227623169971076,{"$f":"IF(L619=\"\",\"\",IF(M619<Results!D$12,1,0))","v":1}]
[null,null,null,null,null,null,null,null,null,null,null,619,1.0392890450540344,{"$f":"IF(L620=\"\",\"\",IF(M620<Results!D$12,1,0))","v":0}]
[null,null,null,null,null,null,null,null,null,null,null,620,1.0382323240665039,{"$f":"IF(L621=\"\",\"\",IF(M621<Results!D$12,1,0))","v":0}]
[null,null,null,null,null,null,null,null,null,null,null,621,1.0420096299290935,{"$f":"IF(L622=\"\",\"\",IF(M622<Results!D$12,1,0))","v":0}]
[null,null,null,null,null,null,null,null,null,null,null,622,1.040337577692211,{"$f":"IF(L623=\"\",\"\",IF(M623<Results!D$12,1,0))","v":0}]
[null,null,null,null,null,null,null,null,null,null,null,623,1.0371465362042047,{"$f":"IF(L624=\"\",\"\",IF(M624<Results!D$12,1,0))","v":1}]
[null,null,null,null,null,null,null,null,null,null,null,624,1.0316040285532151,{"$f":"IF(L625=\"\",\"\",IF(M625<Results!D$12,1,0))","v":1}]
[null,null,null,null,null,null,null,null,null,null,null,625,1.029342990064632,{"$f":"IF(L626=\"\",\"\",IF(M626<Results!D$12,1,0))","v":1}]
[null,null,null,null,null,null,null,null,null,null,null,626,1.0135332398992911,{"$f":"IF(L627=\"\",\"\",IF(M627<Results!D$12,1,0))","v":1}]
[null,null,null,null,null,null,null,null,null,null,null,627,1.0227563799894439,{"$f":"IF(L628=\"\",\"\",IF(M628<Results!D$12,1,0))","v":1}]
[null,null,null,null,null,null,null,null,null,null,null,628,1.0239210876680029,{"$f":"IF(L629=\"\",\"\",IF(M629<Results!D$12,1,0))","v":1}]
[null,null,null,null,null,null,null,null,null,null,null,629,1.0678629462896092,{"$f":"IF(L630=\"\",\"\",IF(M630<Results!D$12,1,0))","v":0}]
[null,null,null,null,null,null,null,null,null,null,null,630,1.0418556810720347,{"$f":"IF(L631=\"\",\"\",IF(M631<Results!D$12,1,0))","v":0}]
[null,null,null,null,null,null,null,null,null,null,null,631,1.050205875927569,{"$f":"IF(L632=\"\",\"\",IF(M632<Results!D$12,1,0))","v":0}]
[null,null,null,null,null,null,null,null,null,null,null,632,1.052858298045009,{"$f":"IF(L633=\"\",\"\",IF(M633<Results!D$12,1,0))","v":0}]
[null,null,null,null,null,null,null,null,null,null,null,633,1.018915552248395,{"$f":"IF(L634=\"\",\"\",IF(M634<Results!D$12,1,0))","v":1}]
[null,null,null,null,null,null,null,null,null,null,null,634,1.020386840587197,{"$f":"IF(L635=\"\",\"\",IF(M635<Results!D$12,1,0))","v":1}]
[null,null,null,null,null,null,null,null,null,null,null,635,1.0112313846142327,{"$f":"IF(L636=\"\",\"\",IF(M636<Results!D$12,1,0))","v":1}]
[null,null,null,null,null,null,null,null,null,null,null,636,1.0321301163991861,{"$f":"IF(L637=\"\",\"\",IF(M637<Results!D$12,1,0))","v":1}]
[null,null,null,null,null,null,null,null,null,null,null,637,1.030298672979046,{"$f":"IF(L638=\"\",\"\",IF(M638<Results!D$12,1,0))","v":1}]
[null,null,null,null,null,null,null,null,null,null,null,638,1.0665625865260353,{"$f":"IF(L639=\"\",\"\",IF(M639<Results!D$12,1,0))","v":0}]
[null,null,null,null,null,null,null,null,null,null,null,639,1.0309418217230837,{"$f":"IF(L640=\"\",\"\",IF(M640<Results!D$12,1,0))","v":1}]
[null,null,null,null,null,null,null,null,null,null,null,640,1.0617928159705841,{"$f":"IF(L641=\"\",\"\",IF(M641<Results!D$12,1,0))","v":0}]
[null,null,null,null,null,null,null,null,null,null,null,641,1.0516320739573217,{"$f":"IF(L642=\"\",\"\",IF(M642<Results!D$12,1,0))","v":0}]
[null,null,null,null,null,null,null,null,null,null,null,{"$f":"IF(M643=\"\",\"\",ROW(L643)-1)","v":642},1.0402934301250983,{"$f":"IF(L643=\"\",\"\",IF(M643<Results!D$12,1,0))","v":0}]
[null,null,null,null,null,null,null,null,null,null,null,643,1.0314811346751716,{"$f":"IF(L644=\"\",\"\",IF(M644<Results!D$12,1,0))","v":1}]
[null,null,null,null,null,null,null,null,null,null,null,644,1.0302895337724325,{"$f":"IF(L645=\"\",\"\",IF(M645<Results!D$12,1,0))","v":1}]
[null,null,null,null,null,null,null,null,null,null,null,645,1.0242280535745538,{"$f":"IF(L646=\"\",\"\",IF(M646<Results!D$12,1,0))","v":1}]
[null,null,null,null,null,null,null,null,null,null,null,646,1.0508913443451056,{"$f":"IF(L647=\"\",\"\",IF(M647<Results!D$12,1,0))","v":0}]
[null,null,null,null,null,null,null,null,null,null,null,647,1.0369934283697091,{"$f":"IF(L648=\"\",\"\",IF(M648<Results!D$12,1,0))","v":1}]
[null,null,null,null,null,null,null,null,null,null,null,648,1.0738129088862216,{"$f":"IF(L649=\"\",\"\",IF(M649<Results!D$12,1,0))","v":0}]
[null,null,null,null,null,null,null,null,null,null,null,649,1.0540173497836112,{"$f":"IF(L650=\"\",\"\",IF(M650<Results!D$12,1,0))","v":0}]
[null,null,null,null,null,null,null,null,null,null,null,650,1.0371796973600222,{"$f":"IF(L651=\"\",\"\",IF(M651<Results!D$12,1,0))","v":1}]
[null,null,null,null,null,null,null,null,null,null,null,651,1.008953152704382,{"$f":"IF(L652=\"\",\"\",IF(M652<Results!D$12,1,0))","v":1}]
[null,null,null,null,null,null,null,null,null,null,null,652,1.051093810586353,{"$f":"IF(L653=\"\",\"\",IF(M653<Results!D$12,1,0))","v":0}]
[null,null,null,null,null,null,null,null,null,null,null,653,1.0479851087830743,{"$f":"IF(L654=\"\",\"\",IF(M654<Results!D$12,1,0))","v":0}]
[null,null,null,null,null,null,null,null,null,null,null,654,1.023604806210066,{"$f":"IF(L655=\"\",\"\",IF(M655<Results!D$12,1,0))","v":1}]
[null,null,null,null,null,null,null,null,null,null,null,655,1.0255285555456481,{"$f":"IF(L656=\"\",\"\",IF(M656<Results!D$12,1,0))","v":1}]
[null,null,null,null,null,null,null,null,null,null,null,656,1.0260333091711564,{"$f":"IF(L657=\"\",\"\",IF(M657<Results!D$12,1,0))","v":1}]
[null,null,null,null,null,null,null,null,null,null,null,657,1.0413142240764637,{"$f":"IF(L658=\"\",\"\",IF(M658<Results!D$12,1,0))","v":0}]
[null,null,null,null,null,null,null,null,null,null,null,658,1.0374765045659859,{"$f":"IF(L659=\"\",\"\",IF(M659<Results!D$12,1,0))","v":0}]
[null,null,null,null,null,null,null,null,null,null,null,659,1.0380147327310285,{"$f":"IF(L660=\"\",\"\",IF(M660<Results!D$12,1,0))","v":0}]
[null,null,null,null,null,null,null,null,null,null,null,660,1.0191276631420978,{"$f":"IF(L661=\"\",\"\",IF(M661<Results!D$12,1,0))","v":1}]
[null,null,null,null,null,null,null,null,null,null,null,661,1.0049196521503194,{"$f":"IF(L662=\"\",\"\",IF(M662<Results!D$12,1,0))","v":1}]
[null,null,null,null,null,null,null,null,null,null,null,662,1.0253987141181031,{"$f":"IF(L663=\"\",\"\",IF(M663<Results!D$12,1,0))","v":1}]
[null,null,null,null,null,null,null,null,null,null,null,663,1.0367763798761278,{"$f":"IF(L664=\"\",\"\",IF(M664<Results!D$12,1,0))","v":1}]
[null,null,null,null,null,null,null,null,null,null,null,664,1.0400657859827955,{"$f":"IF(L665=\"\",\"\",IF(M665<Results!D$12,1,0))","v":0}]
[null,null,null,null,null,null,null,null,null,null,null,665,1.0443081947794546,{"$f":"IF(L666=\"\",\"\",IF(M666<Results!D$12,1,0))","v":0}]
[null,null,null,null,null,null,null,null,null,null,null,666,1.0609721077770848,{"$f":"IF(L667=\"\",\"\",IF(M667<Results!D$12,1,0))","v":0}]
[null,null,null,null,null,null,null,null,null,null,null,667,1.0252246341746356,{"$f":"IF(L668=\"\",\"\",IF(M668<Results!D$12,1,0))","v":1}]
[null,null,null,null,null,null,null,null,null,null,null,668,1.0330296040251024,{"$f":"IF(L669=\"\",\"\",IF(M669<Results!D$12,1,0))","v":1}]
[null,null,null,null,null,null,null,null,null,null,null,669,1.0477999817930452,{"$f":"IF(L670=\"\",\"\",IF(M670<Results!D$12,1,0))","v":0}]
[null,null,null,null,null,null,null,null,null,null,null,670,1.0448113157438221,{"$f":"IF(L671=\"\",\"\",IF(M671<Results!D$12,1,0))","v":0}]
[null,null,null,null,null,null,null,null,null,null,null,671,1.0539467787624421,{"$f":"IF(L672=\"\",\"\",IF(M672<Results!D$12,1,0))","v":0}]
[null,null,null,null,null,null,null,null,null,null,null,672,1.0109793659817554,{"$f":"IF(L673=\"\",\"\",IF(M673<Results!D$12,1,0))","v":1}]
[null,null,null,null,null,null,null,null,null,null,null,673,1.0316750976080584,{"$f":"IF(L674=\"\",\"\",IF(M674<Results!D$12,1,0))","v":1}]
[null,null,null,null,null,null,null,null,null,null,null,674,1.0588701661653568,{"$f":"IF(L675=\"\",\"\",IF(M675<Results!D$12,1,0))","v":0}]
[null,null,null,null,null,null,null,null,null,null,null,675,1.0339808067891638,{"$f":"IF(L676=\"\",\"\",IF(M676<Results!D$12,1,0))","v":1}]
[null,null,null,null,null,null,null,null,null,null,null,676,1.0282912269099895,{"$f":"IF(L677=\"\",\"\",IF(M677<Results!D$12,1,0))","v":1}]
[null,null,null,null,null,null,null,null,null,null,null,677,1.0348680799763161,{"$f":"IF(L678=\"\",\"\",IF(M678<Results!D$12,1,0))","v":1}]
[null,null,null,null,null,null,null,null,null,null,null,678,1.0435781711802758,{"$f":"IF(L679=\"\",\"\",IF(M679<Results!D$12,1,0))","v":0}]
[null,null,null,null,null,null,null,null,null,null,null,679,1.0476976984947806,{"$f":"IF(L680=\"\",\"\",IF(M680<Results!D$12,1,0))","v":0}]
[null,null,null,null,null,null,null,null,null,null,null,680,1.0635220342256257,{"$f":"IF(L681=\"\",\"\",IF(M681<Results!D$12,1,0))","v":0}]
[null,null,null,null,null,null,null,null,null,null,null,681,1.0256163381784946,{"$f":"IF(L682=\"\",\"\",IF(M682<Results!D$12,1,0))","v":1}]
[null,null,null,null,null,null,null,null,null,null,null,682,1.029349678842868,{"$f":"IF(L683=\"\",\"\",IF(M683<Results!D$12,1,0))","v":1}]
[null,null,null,null,null,null,null,null,null,null,null,683,1.0403119200575606,{"$f":"IF(L684=\"\",\"\",IF(M684<Results!D$12,1,0))","v":0}]
[null,null,null,null,null,null,null,null,null,null,null,684,1.0382324180542617,{"$f":"IF(L685=\"\",\"\",IF(M685<Results!D$12,1,0))","v":0}]
[null,null,null,null,null,null,null,null,null,null,null,685,1.0060700399961582,{"$f":"IF(L686=\"\",\"\",IF(M686<Results!D$12,1,0))","v":1}]
[null,null,null,null,null,null,null,null,null,null,null,686,1.0199580092304821,{"$f":"IF(L687=\"\",\"\",IF(M687<Results!D$12,1,0))","v":1}]
[null,null,null,null,null,null,null,null,null,null,null,687,1.013768743407885,{"$f":"IF(L688=\"\",\"\",IF(M688<Results!D$12,1,0))","v":1}]
[null,null,null,null,null,null,null,null,null,null,null,688,1.031432247189634,{"$f":"IF(L689=\"\",\"\",IF(M689<Results!D$12,1,0))","v":1}]
[null,null,null,null,null,null,null,null,null,null,null,689,1.0287216015139593,{"$f":"IF(L690=\"\",\"\",IF(M690<Results!D$12,1,0))","v":1}]
[null,null,null,null,null,null,null,null,null,null,null,690,1.0657457810351352,{"$f":"IF(L691=\"\",\"\",IF(M691<Results!D$12,1,0))","v":0}]
[null,null,null,null,null,null,null,null,null,null,null,691,1.0333547261767215,{"$f":"IF(L692=\"\",\"\",IF(M692<Results!D$12,1,0))","v":1}]
[null,null,null,null,null,null,null,null,null,null,null,692,1.0446078531270617,{"$f":"IF(L693=\"\",\"\",IF(M693<Results!D$12,1,0))","v":0}]
[null,null,null,null,null,null,null,null,null,null,null,693,1.0160920090948267,{"$f":"IF(L694=\"\",\"\",IF(M694<Results!D$12,1,0))","v":1}]
[null,null,null,null,null,null,null,null,null,null,null,694,1.0477673828726197,{"$f":"IF(L695=\"\",\"\",IF(M695<Results!D$12,1,0))","v":0}]
[null,null,null,null,null,null,null,null,null,null,null,695,1.0478393218446402,{"$f":"IF(L696=\"\",\"\",IF(M696<Results!D$12,1,0))","v":0}]
[null,null,null,null,null,null,null,null,null,null,null,696,1.0350769074165265,{"$f":"IF(L697=\"\",\"\",IF(M697<Results!D$12,1,0))","v":1}]
[null,null,null,null,null,null,null,null,null,null,null,697,1.047404953726462,{"$f":"IF(L698=\"\",\"\",IF(M698<Results!D$12,1,0))","v":0}]
[null,null,null,null,null,null,null,null,null,null,null,698,1.0182356857094859,{"$f":"IF(L699=\"\",\"\",IF(M699<Results!D$12,1,0))","v":1}]
[null,null,null,null,null,null,null,null,null,null,null,699,1.0308925618295071,{"$f":"IF(L700=\"\",\"\",IF(M700<Results!D$12,1,0))","v":1}]
[null,null,null,null,null,null,null,null,null,null,null,700,1.0767753700921283,{"$f":"IF(L701=\"\",\"\",IF(M701<Results!D$12,1,0))","v":0}]
[null,null,null,null,null,null,null,null,null,null,null,701,1.0340489475743131,{"$f":"IF(L702=\"\",\"\",IF(M702<Results!D$12,1,0))","v":1}]
[null,null,null,null,null,null,null,null,null,null,null,702,1.0301866808937707,{"$f":"IF(L703=\"\",\"\",IF(M703<Results!D$12,1,0))","v":1}]
[null,null,null,null,null,null,null,null,null,null,null,703,1.0245012913398837,{"$f":"IF(L704=\"\",\"\",IF(M704<Results!D$12,1,0))","v":1}]
[null,null,null,null,null,null,null,null,null,null,null,704,1.0261840302627023,{"$f":"IF(L705=\"\",\"\",IF(M705<Results!D$12,1,0))","v":1}]
[null,null,null,null,null,null,null,null,null,null,null,705,1.0278102762559675,{"$f":"IF(L706=\"\",\"\",IF(M706<Results!D$12,1,0))","v":1}]
[null,null,null,null,null,null,null,null,null,null,null,{"$f":"IF(M707=\"\",\"\",ROW(L707)-1)","v":706},1.0330605074819068,{"$f":"IF(L707=\"\",\"\",IF(M707<Results!D$12,1,0))","v":1}]
[null,null,null,null,null,null,null,null,null,null,null,707,1.0339328831344399,{"$f":"IF(L708=\"\",\"\",IF(M708<Results!D$12,1,0))","v":1}]
[null,null,null,null,null,null,null,null,null,null,null,708,1.0240614514127242,{"$f":"IF(L709=\"\",\"\",IF(M709<Results!D$12,1,0))","v":1}]
[null,null,null,null,null,null,null,null,null,null,null,709,1.0259521880302116,{"$f":"IF(L710=\"\",\"\",IF(M710<Results!D$12,1,0))","v":1}]
[null,null,null,null,null,null,null,null,null,null,null,710,1.0264946083880129,{"$f":"IF(L711=\"\",\"\",IF(M711<Results!D$12,1,0))","v":1}]
[null,null,null,null,null,null,null,null,null,null,null,711,1.0401670467871182,{"$f":"IF(L712=\"\",\"\",IF(M712<Results!D$12,1,0))","v":0}]
[null,null,null,null,null,null,null,null,null,null,null,712,1.0492791175432137,{"$f":"IF(L713=\"\",\"\",IF(M713<Results!D$12,1,0))","v":0}]
[null,null,null,null,null,null,null,null,null,null,null,713,1.0488567727774887,{"$f":"IF(L714=\"\",\"\",IF(M714<Results!D$12,1,0))","v":0}]
[null,null,null,null,null,null,null,null,null,null,null,714,1.0514683439135817,{"$f":"IF(L715=\"\",\"\",IF(M715<Results!D$12,1,0))","v":0}]
[null,null,null,null,null,null,null,null,null,null,null,715,1.0262063096320038,{"$f":"IF(L716=\"\",\"\",IF(M716<Results!D$12,1,0))","v":1}]
[null,null,null,null,null,null,null,null,null,null,null,716,1.0615966191860802,{"$f":"IF(L717=\"\",\"\",IF(M717<Results!D$12,1,0))","v":0}]
[null,null,null,null,null,null,null,null,null,null,null,717,1.0234030084942025,{"$f":"IF(L718=\"\",\"\",IF(M718<Results!D$12,1,0))","v":1}]
[null,null,null,null,null,null,null,null,null,null,null,718,1.0594182170323605,{"$f":"IF(L719=\"\",\"\",IF(M719<Results!D$12,1,0))","v":0}]
[null,null,null,null,null,null,null,null,null,null,null,719,1.0525100079186367,{"$f":"IF(L720=\"\",\"\",IF(M720<Results!D$12,1,0))","v":0}]
[null,null,null,null,null,null,null,null,null,null,null,720,1.025738673091334,{"$f":"IF(L721=\"\",\"\",IF(M721<Results!D$12,1,0))","v":1}]
[null,null,null,null,null,null,null,null,null,null,null,721,1.0352113238538765,{"$f":"IF(L722=\"\",\"\",IF(M722<Results!D$12,1,0))","v":1}]
[null,null,null,null,null,null,null,null,null,null,null,722,1.0228749037031302,{"$f":"IF(L723=\"\",\"\",IF(M723<Results!D$12,1,0))","v":1}]
[null,null,null,null,null,null,null,null,null,null,null,723,1.0555526892575713,{"$f":"IF(L724=\"\",\"\",IF(M724<Results!D$12,1,0))","v":0}]
[null,null,null,null,null,null,null,null,null,null,null,724,1.0333298259202552,{"$f":"IF(L725=\"\",\"\",IF(M725<Results!D$12,1,0))","v":1}]
[null,null,null,null,null,null,null,null,null,null,null,725,1.0312063487431724,{"$f":"IF(L726=\"\",\"\",IF(M726<Results!D$12,1,0))","v":1}]
[null,null,null,null,null,null,null,null,null,null,null,726,1.0388139638974239,{"$f":"IF(L727=\"\",\"\",IF(M727<Results!D$12,1,0))","v":0}]
[null,null,null,null,null,null,null,null,null,null,null,727,1.017828567853776,{"$f":"IF(L728=\"\",\"\",IF(M728<Results!D$12,1,0))","v":1}]
[null,null,null,null,null,null,null,null,null,null,null,728,1.0330094927374753,{"$f":"IF(L729=\"\",\"\",IF(M729<Results!D$12,1,0))","v":1}]
[null,null,null,null,null,null,null,null,null,null,null,729,1.0468527775915466,{"$f":"IF(L730=\"\",\"\",IF(M730<Results!D$12,1,0))","v":0}]
[null,null,null,null,null,null,null,null,null,null,null,730,1.0216248913621291,{"$f":"IF(L731=\"\",\"\",IF(M731<Results!D$12,1,0))","v":1}]
[null,null,null,null,null,null,null,null,null,null,null,731,1.0383472762940347,{"$f":"IF(L732=\"\",\"\",IF(M732<Results!D$12,1,0))","v":0}]
[null,null,null,null,null,null,null,null,null,null,null,732,1.046720522743865,{"$f":"IF(L733=\"\",\"\",IF(M733<Results!D$12,1,0))","v":0}]
[null,null,null,null,null,null,null,null,null,null,null,733,1.0487622786469257,{"$f":"IF(L734=\"\",\"\",IF(M734<Results!D$12,1,0))","v":0}]
[null,null,null,null,null,null,null,null,null,null,null,734,1.0169855230021905,{"$f":"IF(L735=\"\",\"\",IF(M735<Results!D$12,1,0))","v":1}]
[null,null,null,null,null,null,null,null,null,null,null,735,1.0217706769941184,{"$f":"IF(L736=\"\",\"\",IF(M736<Results!D$12,1,0))","v":1}]
[null,null,null,null,null,null,null,null,null,null,null,736,1.0362542839051907,{"$f":"IF(L737=\"\",\"\",IF(M737<Results!D$12,1,0))","v":1}]
[null,null,null,null,null,null,null,null,null,null,null,737,1.0395006204274133,{"$f":"IF(L738=\"\",\"\",IF(M738<Results!D$12,1,0))","v":0}]
[null,null,null,null,null,null,null,null,null,null,null,738,1.0196230358651668,{"$f":"IF(L739=\"\",\"\",IF(M739<Results!D$12,1,0))","v":1}]
[null,null,null,null,null,null,null,null,null,null,null,739,1.0267889309147649,{"$f":"IF(L740=\"\",\"\",IF(M740<Results!D$12,1,0))","v":1}]
[null,null,null,null,null,null,null,null,null,null,null,740,1.0555282541685926,{"$f":"IF(L741=\"\",\"\",IF(M741<Results!D$12,1,0))","v":0}]
[null,null,null,null,null,null,null,null,null,null,null,741,1.0402889444115471,{"$f":"IF(L742=\"\",\"\",IF(M742<Results!D$12,1,0))","v":0}]
[null,null,null,null,null,null,null,null,null,null,null,742,1.0595066682796881,{"$f":"IF(L743=\"\",\"\",IF(M743<Results!D$12,1,0))","v":0}]
[null,null,null,null,null,null,null,null,null,null,null,743,1.0182898362735293,{"$f":"IF(L744=\"\",\"\",IF(M744<Results!D$12,1,0))","v":1}]
[null,null,null,null,null,null,null,null,null,null,null,744,1.0312302222298666,{"$f":"IF(L745=\"\",\"\",IF(M745<Results!D$12,1,0))","v":1}]
[null,null,null,null,null,null,null,null,null,null,null,745,1.051142076046284,{"$f":"IF(L746=\"\",\"\",IF(M746<Results!D$12,1,0))","v":0}]
[null,null,null,null,null,null,null,null,null,null,null,746,1.0349200293135163,{"$f":"IF(L747=\"\",\"\",IF(M747<Results!D$12,1,0))","v":1}]
[null,null,null,null,null,null,null,null,null,null,null,747,1.0364272879017007,{"$f":"IF(L748=\"\",\"\",IF(M748<Results!D$12,1,0))","v":1}]
[null,null,null,null,null,null,null,null,null,null,null,748,1.0318728208825128,{"$f":"IF(L749=\"\",\"\",IF(M749<Results!D$12,1,0))","v":1}]
[null,null,null,null,null,null,null,null,null,null,null,749,1.0390008327940998,{"$f":"IF(L750=\"\",\"\",IF(M750<Results!D$12,1,0))","v":0}]
[null,null,null,null,null,null,null,null,null,null,null,750,1.0409989815506853,{"$f":"IF(L751=\"\",\"\",IF(M751<Results!D$12,1,0))","v":0}]
[null,null,null,null,null,null,null,null,null,null,null,751,1.0486760493826552,{"$f":"IF(L752=\"\",\"\",IF(M752<Results!D$12,1,0))","v":0}]
[null,null,null,null,null,null,null,null,null,null,null,752,1.0417354260349729,{"$f":"IF(L753=\"\",\"\",IF(M753<Results!D$12,1,0))","v":0}]
[null,null,null,null,null,null,null,null,null,null,null,753,1.0630416837479846,{"$f":"IF(L754=\"\",\"\",IF(M754<Results!D$12,1,0))","v":0}]
[null,null,null,null,null,null,null,null,null,null,null,754,1.0384643335274091,{"$f":"IF(L755=\"\",\"\",IF(M755<Results!D$12,1,0))","v":0}]
[null,null,null,null,null,null,null,null,null,null,null,755,1.0141401839387869,{"$f":"IF(L756=\"\",\"\",IF(M756<Results!D$12,1,0))","v":1}]
[null,null,null,null,null,null,null,null,null,null,null,756,1.034585818148559,{"$f":"IF(L757=\"\",\"\",IF(M757<Results!D$12,1,0))","v":1}]
[null,null,null,null,null,null,null,null,null,null,null,757,1.0174931212305709,{"$f":"IF(L758=\"\",\"\",IF(M758<Results!D$12,1,0))","v":1}]
[null,null,null,null,null,null,null,null,null,null,null,758,1.0176139681143257,{"$f":"IF(L759=\"\",\"\",IF(M759<Results!D$12,1,0))","v":1}]
[null,null,null,null,null,null,null,null,null,null,null,759,1.0391907001488077,{"$f":"IF(L760=\"\",\"\",IF(M760<Results!D$12,1,0))","v":0}]
[null,null,null,null,null,null,null,null,null,null,null,760,1.0481040657661278,{"$f":"IF(L761=\"\",\"\",IF(M761<Results!D$12,1,0))","v":0}]
[null,null,null,null,null,null,null,null,null,null,null,761,1.0553050403247644,{"$f":"IF(L762=\"\",\"\",IF(M762<Results!D$12,1,0))","v":0}]
[null,null,null,null,null,null,null,null,null,null,null,762,1.0286940278345602,{"$f":"IF(L763=\"\",\"\",IF(M763<Results!D$12,1,0))","v":1}]
[null,null,null,null,null,null,null,null,null,null,null,763,1.0352015712006666,{"$f":"IF(L764=\"\",\"\",IF(M764<Results!D$12,1,0))","v":1}]
[null,null,null,null,null,null,null,null,null,null,null,764,1.0371391182918821,{"$f":"IF(L765=\"\",\"\",IF(M765<Results!D$12,1,0))","v":1}]
[null,null,null,null,null,null,null,null,null,null,null,765,1.0370800166555025,{"$f":"IF(L766=\"\",\"\",IF(M766<Results!D$12,1,0))","v":1}]
[null,null,null,null,null,null,null,null,null,null,null,766,1.0571324087645684,{"$f":"IF(L767=\"\",\"\",IF(M767<Results!D$12,1,0))","v":0}]
[null,null,null,null,null,null,null,null,null,null,null,767,1.0257065666788348,{"$f":"IF(L768=\"\",\"\",IF(M768<Results!D$12,1,0))","v":1}]
[null,null,null,null,null,null,null,null,null,null,null,768,1.0363466769745564,{"$f":"IF(L769=\"\",\"\",IF(M769<Results!D$12,1,0))","v":1}]
[null,null,null,null,null,null,null,null,null,null,null,769,1.0217277384266752,{"$f":"IF(L770=\"\",\"\",IF(M770<Results!D$12,1,0))","v":1}]
[null,null,null,null,null,null,null,null,null,null,null,{"$f":"IF(M771=\"\",\"\",ROW(L771)-1)","v":770},1.0338590954983604,{"$f":"IF(L771=\"\",\"\",IF(M771<Results!D$12,1,0))","v":1}]
[null,null,null,null,null,null,null,null,null,null,null,771,1.0402935375602413,{"$f":"IF(L772=\"\",\"\",IF(M772<Results!D$12,1,0))","v":0}]
[null,null,null,null,null,null,null,null,null,null,null,772,1.0099760185658022,{"$f":"IF(L773=\"\",\"\",IF(M773<Results!D$12,1,0))","v":1}]
[null,null,null,null,null,null,null,null,null,null,null,773,1.0255942734268926,{"$f":"IF(L774=\"\",\"\",IF(M774<Results!D$12,1,0))","v":1}]
[null,null,null,null,null,null,null,null,null,null,null,774,1.0501411268344227,{"$f":"IF(L775=\"\",\"\",IF(M775<Results!D$12,1,0))","v":0}]
[null,null,null,null,null,null,null,null,null,null,null,775,1.0474631885222021,{"$f":"IF(L776=\"\",\"\",IF(M776<Results!D$12,1,0))","v":0}]
[null,null,null,null,null,null,null,null,null,null,null,776,1.0201971883071013,{"$f":"IF(L777=\"\",\"\",IF(M777<Results!D$12,1,0))","v":1}]
[null,null,null,null,null,null,null,null,null,null,null,777,1.036521218621743,{"$f":"IF(L778=\"\",\"\",IF(M778<Results!D$12,1,0))","v":1}]
[null,null,null,null,null,null,null,null,null,null,null,778,1.0066518524504431,{"$f":"IF(L779=\"\",\"\",IF(M779<Results!D$12,1,0))","v":1}]
[null,null,null,null,null,null,null,null,null,null,null,779,1.037964415766456,{"$f":"IF(L780=\"\",\"\",IF(M780<Results!D$12,1,0))","v":0}]
[null,null,null,null,null,null,null,null,null,null,null,780,1.0279756438075347,{"$f":"IF(L781=\"\",\"\",IF(M781<Results!D$12,1,0))","v":1}]
[null,null,null,null,null,null,null,null,null,null,null,781,1.0276606379718183,{"$f":"IF(L782=\"\",\"\",IF(M782<Results!D$12,1,0))","v":1}]
[null,null,null,null,null,null,null,null,null,null,null,782,1.0269122620625779,{"$f":"IF(L783=\"\",\"\",IF(M783<Results!D$12,1,0))","v":1}]
[null,null,null,null,null,null,null,null,null,null,null,783,1.0360582688136397,{"$f":"IF(L784=\"\",\"\",IF(M784<Results!D$12,1,0))","v":1}]
[null,null,null,null,null,null,null,null,null,null,null,784,1.0542076699707232,{"$f":"IF(L785=\"\",\"\",IF(M785<Results!D$12,1,0))","v":0}]
[null,null,null,null,null,null,null,null,null,null,null,785,1.0150620996217328,{"$f":"IF(L786=\"\",\"\",IF(M786<Results!D$12,1,0))","v":1}]
[null,null,null,null,null,null,null,null,null,null,null,786,1.0477678609465877,{"$f":"IF(L787=\"\",\"\",IF(M787<Results!D$12,1,0))","v":0}]
[null,null,null,null,null,null,null,null,null,null,null,787,1.0377512801735151,{"$f":"IF(L788=\"\",\"\",IF(M788<Results!D$12,1,0))","v":0}]
[null,null,null,null,null,null,null,null,null,null,null,788,1.0391954072982321,{"$f":"IF(L789=\"\",\"\",IF(M789<Results!D$12,1,0))","v":0}]
[null,null,null,null,null,null,null,null,null,null,null,789,0.99753578307813728,{"$f":"IF(L790=\"\",\"\",IF(M790<Results!D$12,1,0))","v":1}]
[null,null,null,null,null,null,null,null,null,null,null,790,1.0227201365925969,{"$f":"IF(L791=\"\",\"\",IF(M791<Results!D$12,1,0))","v":1}]
[null,null,null,null,null,null,null,null,null,null,null,791,1.053334631953377,{"$f":"IF(L792=\"\",\"\",IF(M792<Results!D$12,1,0))","v":0}]
[null,null,null,null,null,null,null,null,null,null,null,792,1.0136186132201761,{"$f":"IF(L793=\"\",\"\",IF(M793<Results!D$12,1,0))","v":1}]
[null,null,null,null,null,null,null,null,null,null,null,793,1.0066190371174932,{"$f":"IF(L794=\"\",\"\",IF(M794<Results!D$12,1,0))","v":1}]
[null,null,null,null,null,null,null,null,null,null,null,794,1.0300322841029099,{"$f":"IF(L795=\"\",\"\",IF(M795<Results!D$12,1,0))","v":1}]
[null,null,null,null,null,null,null,null,null,null,null,795,1.0407591292645699,{"$f":"IF(L796=\"\",\"\",IF(M796<Results!D$12,1,0))","v":0}]
[null,null,null,null,null,null,null,null,null,null,null,796,1.039920607937098,{"$f":"IF(L797=\"\",\"\",IF(M797<Results!D$12,1,0))","v":0}]
[null,null,null,null,null,null,null,null,null,null,null,797,1.0307045282413234,{"$f":"IF(L798=\"\",\"\",IF(M798<Results!D$12,1,0))","v":1}]
[null,null,null,null,null,null,null,null,null,null,null,798,1.0231316797057026,{"$f":"IF(L799=\"\",\"\",IF(M799<Results!D$12,1,0))","v":1}]
[null,null,null,null,null,null,null,null,null,null,null,799,1.0203133495911163,{"$f":"IF(L800=\"\",\"\",IF(M800<Results!D$12,1,0))","v":1}]
[null,null,null,null,null,null,null,null,null,null,null,800,1.0397461276686017,{"$f":"IF(L801=\"\",\"\",IF(M801<Results!D$12,1,0))","v":0}]
[null,null,null,null,null,null,null,null,null,null,null,801,1.0147657955051452,{"$f":"IF(L802=\"\",\"\",IF(M802<Results!D$12,1,0))","v":1}]
[null,null,null,null,null,null,null,null,null,null,null,802,1.0638032049082713,{"$f":"IF(L803=\"\",\"\",IF(M803<Results!D$12,1,0))","v":0}]
[null,null,null,null,null,null,null,null,null,null,null,803,1.0543818961315881,{"$f":"IF(L804=\"\",\"\",IF(M804<Results!D$12,1,0))","v":0}]
[null,null,null,null,null,null,null,null,null,null,null,804,1.0263810053061491,{"$f":"IF(L805=\"\",\"\",IF(M805<Results!D$12,1,0))","v":1}]
[null,null,null,null,null,null,null,null,null,null,null,805,1.0429400847119774,{"$f":"IF(L806=\"\",\"\",IF(M806<Results!D$12,1,0))","v":0}]
[null,null,null,null,null,null,null,null,null,null,null,806,1.0426278633433956,{"$f":"IF(L807=\"\",\"\",IF(M807<Results!D$12,1,0))","v":0}]
[null,null,null,null,null,null,null,null,null,null,null,807,1.0408807620270069,{"$f":"IF(L808=\"\",\"\",IF(M808<Results!D$12,1,0))","v":0}]
[null,null,null,null,null,null,null,null,null,null,null,808,1.0347554754805137,{"$f":"IF(L809=\"\",\"\",IF(M809<Results!D$12,1,0))","v":1}]
[null,null,null,null,null,null,null,null,null,null,null,809,1.0405018348526223,{"$f":"IF(L810=\"\",\"\",IF(M810<Results!D$12,1,0))","v":0}]
[null,null,null,null,null,null,null,null,null,null,null,810,1.0420396264364264,{"$f":"IF(L811=\"\",\"\",IF(M811<Results!D$12,1,0))","v":0}]
[null,null,null,null,null,null,null,null,null,null,null,811,1.0349657034571451,{"$f":"IF(L812=\"\",\"\",IF(M812<Results!D$12,1,0))","v":1}]
[null,null,null,null,null,null,null,null,null,null,null,812,1.0567720210028717,{"$f":"IF(L813=\"\",\"\",IF(M813<Results!D$12,1,0))","v":0}]
[null,null,null,null,null,null,null,null,null,null,null,813,1.0482086766231968,{"$f":"IF(L814=\"\",\"\",IF(M814<Results!D$12,1,0))","v":0}]
[null,null,null,null,null,null,null,null,null,null,null,814,1.0485071072328582,{"$f":"IF(L815=\"\",\"\",IF(M815<Results!D$12,1,0))","v":0}]
[null,null,null,null,null,null,null,null,null,null,null,815,1.0395893543828272,{"$f":"IF(L816=\"\",\"\",IF(M816<Results!D$12,1,0))","v":0}]
[null,null,null,null,null,null,null,null,null,null,null,816,1.0380551941564837,{"$f":"IF(L817=\"\",\"\",IF(M817<Results!D$12,1,0))","v":0}]
[null,null,null,null,null,null,null,null,null,null,null,817,1.0430166934954075,{"$f":"IF(L818=\"\",\"\",IF(M818<Results!D$12,1,0))","v":0}]
[null,null,null,null,null,null,null,null,null,null,null,818,1.019439958267824,{"$f":"IF(L819=\"\",\"\",IF(M819<Results!D$12,1,0))","v":1}]
[null,null,null,null,null,null,null,null,null,null,null,819,1.0191880424287389,{"$f":"IF(L820=\"\",\"\",IF(M820<Results!D$12,1,0))","v":1}]
[null,null,null,null,null,null,null,null,null,null,null,820,1.0349635849571706,{"$f":"IF(L821=\"\",\"\",IF(M821<Results!D$12,1,0))","v":1}]
[null,null,null,null,null,null,null,null,null,null,null,821,1.0088590209090857,{"$f":"IF(L822=\"\",\"\",IF(M822<Results!D$12,1,0))","v":1}]
[null,null,null,null,null,null,null,null,null,null,null,822,1.0373316396286969,{"$f":"IF(L823=\"\",\"\",IF(M823<Results!D$12,1,0))","v":1}]
[null,null,null,null,null,null,null,null,null,null,null,823,1.0354938909335414,{"$f":"IF(L824=\"\",\"\",IF(M824<Results!D$12,1,0))","v":1}]
[null,null,null,null,null,null,null,null,null,null,null,824,1.0461247281281625,{"$f":"IF(L825=\"\",\"\",IF(M825<Results!D$12,1,0))","v":0}]
[null,null,null,null,null,null,null,null,null,null,null,825,1.0437508676983707,{"$f":"IF(L826=\"\",\"\",IF(M826<Results!D$12,1,0))","v":0}]
[null,null,null,null,null,null,null,null,null,null,null,826,1.0230444287780518,{"$f":"IF(L827=\"\",\"\",IF(M827<Results!D$12,1,0))","v":1}]
[null,null,null,null,null,null,null,null,null,null,null,827,1.0547555367856012,{"$f":"IF(L828=\"\",\"\",IF(M828<Results!D$12,1,0))","v":0}]
[null,null,null,null,null,null,null,null,null,null,null,828,1.0302949867116007,{"$f":"IF(L829=\"\",\"\",IF(M829<Results!D$12,1,0))","v":1}]
[null,null,null,null,null,null,null,null,null,null,null,829,1.0472431142067309,{"$f":"IF(L830=\"\",\"\",IF(M830<Results!D$12,1,0))","v":0}]
[null,null,null,null,null,null,null,null,null,null,null,830,1.0443808924113429,{"$f":"IF(L831=\"\",\"\",IF(M831<Results!D$12,1,0))","v":0}]
[null,null,null,null,null,null,null,null,null,null,null,831,1.0363776477863682,{"$f":"IF(L832=\"\",\"\",IF(M832<Results!D$12,1,0))","v":1}]
[null,null,null,null,null,null,null,null,null,null,null,832,1.0284113299319377,{"$f":"IF(L833=\"\",\"\",IF(M833<Results!D$12,1,0))","v":1}]
[null,null,null,null,null,null,null,null,null,null,null,833,1.0497120154512514,{"$f":"IF(L834=\"\",\"\",IF(M834<Results!D$12,1,0))","v":0}]
[null,null,null,null,null,null,null,null,null,null,null,{"$f":"IF(M835=\"\",\"\",ROW(L835)-1)","v":834},1.0388051203842374,{"$f":"IF(L835=\"\",\"\",IF(M835<Results!D$12,1,0))","v":0}]
[null,null,null,null,null,null,null,null,null,null,null,835,1.0270494952166842,{"$f":"IF(L836=\"\",\"\",IF(M836<Results!D$12,1,0))","v":1}]
[null,null,null,null,null,null,null,null,null,null,null,836,1.0300801054577333,{"$f":"IF(L837=\"\",\"\",IF(M837<Results!D$12,1,0))","v":1}]
[null,null,null,null,null,null,null,null,null,null,null,837,1.0647870824414674,{"$f":"IF(L838=\"\",\"\",IF(M838<Results!D$12,1,0))","v":0}]
[null,null,null,null,null,null,null,null,null,null,null,838,1.0233120450607873,{"$f":"IF(L839=\"\",\"\",IF(M839<Results!D$12,1,0))","v":1}]
[null,null,null,null,null,null,null,null,null,null,null,839,1.0343935037779426,{"$f":"IF(L840=\"\",\"\",IF(M840<Results!D$12,1,0))","v":1}]
[null,null,null,null,null,null,null,null,null,null,null,840,1.0474070105078219,{"$f":"IF(L841=\"\",\"\",IF(M841<Results!D$12,1,0))","v":0}]
[null,null,null,null,null,null,null,null,null,null,null,841,1.0418063035833136,{"$f":"IF(L842=\"\",\"\",IF(M842<Results!D$12,1,0))","v":0}]
[null,null,null,null,null,null,null,null,null,null,null,842,1.0265363059684156,{"$f":"IF(L843=\"\",\"\",IF(M843<Results!D$12,1,0))","v":1}]
[null,null,null,null,null,null,null,null,null,null,null,843,1.0467560734540089,{"$f":"IF(L844=\"\",\"\",IF(M844<Results!D$12,1,0))","v":0}]
[null,null,null,null,null,null,null,null,null,null,null,844,1.028732972069649,{"$f":"IF(L845=\"\",\"\",IF(M845<Results!D$12,1,0))","v":1}]
[null,null,null,null,null,null,null,null,null,null,null,845,1.0216823095212966,{"$f":"IF(L846=\"\",\"\",IF(M846<Results!D$12,1,0))","v":1}]
[null,null,null,null,null,null,null,null,null,null,null,846,1.0321514995601164,{"$f":"IF(L847=\"\",\"\",IF(M847<Results!D$12,1,0))","v":1}]
[null,null,null,null,null,null,null,null,null,null,null,847,1.0322936412228636,{"$f":"IF(L848=\"\",\"\",IF(M848<Results!D$12,1,0))","v":1}]
[null,null,null,null,null,null,null,null,null,null,null,848,1.0209048363040258,{"$f":"IF(L849=\"\",\"\",IF(M849<Results!D$12,1,0))","v":1}]
[null,null,null,null,null,null,null,null,null,null,null,849,1.0539826198600009,{"$f":"IF(L850=\"\",\"\",IF(M850<Results!D$12,1,0))","v":0}]
[null,null,null,null,null,null,null,null,null,null,null,850,1.0337304868828658,{"$f":"IF(L851=\"\",\"\",IF(M851<Results!D$12,1,0))","v":1}]
[null,null,null,null,null,null,null,null,null,null,null,851,1.0547699497838969,{"$f":"IF(L852=\"\",\"\",IF(M852<Results!D$12,1,0))","v":0}]
[null,null,null,null,null,null,null,null,null,null,null,852,1.032481913848043,{"$f":"IF(L853=\"\",\"\",IF(M853<Results!D$12,1,0))","v":1}]
[null,null,null,null,null,null,null,null,null,null,null,853,1.0563869950947247,{"$f":"IF(L854=\"\",\"\",IF(M854<Results!D$12,1,0))","v":0}]
[null,null,null,null,null,null,null,null,null,null,null,854,1.0397219380520117,{"$f":"IF(L855=\"\",\"\",IF(M855<Results!D$12,1,0))","v":0}]
[null,null,null,null,null,null,null,null,null,null,null,855,1.0506254987179808,{"$f":"IF(L856=\"\",\"\",IF(M856<Results!D$12,1,0))","v":0}]
[null,null,null,null,null,null,null,null,null,null,null,856,1.0214000618861718,{"$f":"IF(L857=\"\",\"\",IF(M857<Results!D$12,1,0))","v":1}]
[null,null,null,null,null,null,null,null,null,null,null,857,1.0296048520791046,{"$f":"IF(L858=\"\",\"\",IF(M858<Results!D$12,1,0))","v":1}]
[null,null,null,null,null,null,null,null,null,null,null,858,1.0639490777678005,{"$f":"IF(L859=\"\",\"\",IF(M859<Results!D$12,1,0))","v":0}]
[null,null,null,null,null,null,null,null,null,null,null,859,1.0509864930835675,{"$f":"IF(L860=\"\",\"\",IF(M860<Results!D$12,1,0))","v":0}]
[null,null,null,null,null,null,null,null,null,null,null,860,1.0215637255900394,{"$f":"IF(L861=\"\",\"\",IF(M861<Results!D$12,1,0))","v":1}]
[null,null,null,null,null,null,null,null,null,null,null,861,1.0062314491319453,{"$f":"IF(L862=\"\",\"\",IF(M862<Results!D$12,1,0))","v":1}]
[null,null,null,null,null,null,null,null,null,null,null,862,1.0692354796932011,{"$f":"IF(L863=\"\",\"\",IF(M863<Results!D$12,1,0))","v":0}]
[null,null,null,null,null,null,null,null,null,null,null,863,1.0251221406145705,{"$f":"IF(L864=\"\",\"\",IF(M864<Results!D$12,1,0))","v":1}]
[null,null,null,null,null,null,null,null,null,null,null,864,1.0399912602961949,{"$f":"IF(L865=\"\",\"\",IF(M865<Results!D$12,1,0))","v":0}]
[null,null,null,null,null,null,null,null,null,null,null,865,1.0212665183625955,{"$f":"IF(L866=\"\",\"\",IF(M866<Results!D$12,1,0))","v":1}]
[null,null,null,null,null,null,null,null,null,null,null,866,1.0204965168642337,{"$f":"IF(L867=\"\",\"\",IF(M867<Results!D$12,1,0))","v":1}]
[null,null,null,null,null,null,null,null,null,null,null,867,1.0329922467802168,{"$f":"IF(L868=\"\",\"\",IF(M868<Results!D$12,1,0))","v":1}]
[null,null,null,null,null,null,null,null,null,null,null,868,1.0494701414599996,{"$f":"IF(L869=\"\",\"\",IF(M869<Results!D$12,1,0))","v":0}]
[null,null,null,null,null,null,null,null,null,null,null,869,1.0257252272510875,{"$f":"IF(L870=\"\",\"\",IF(M870<Results!D$12,1,0))","v":1}]
[null,null,null,null,null,null,null,null,null,null,null,870,1.0576376787329091,{"$f":"IF(L871=\"\",\"\",IF(M871<Results!D$12,1,0))","v":0}]
[null,null,null,null,null,null,null,null,null,null,null,871,1.0322809108096735,{"$f":"IF(L872=\"\",\"\",IF(M872<Results!D$12,1,0))","v":1}]
[null,null,null,null,null,null,null,null,null,null,null,872,1.036687523287716,{"$f":"IF(L873=\"\",\"\",IF(M873<Results!D$12,1,0))","v":1}]
[null,null,null,null,null,null,null,null,null,null,null,873,1.0214130113060687,{"$f":"IF(L874=\"\",\"\",IF(M874<Results!D$12,1,0))","v":1}]
[null,null,null,null,null,null,null,null,null,null,null,874,1.0296630582504065,{"$f":"IF(L875=\"\",\"\",IF(M875<Results!D$12,1,0))","v":1}]
[null,null,null,null,null,null,null,null,null,null,null,875,1.037483088717585,{"$f":"IF(L876=\"\",\"\",IF(M876<Results!D$12,1,0))","v":0}]
[null,null,null,null,null,null,null,null,null,null,null,876,1.0227484955588395,{"$f":"IF(L877=\"\",\"\",IF(M877<Results!D$12,1,0))","v":1}]
[null,null,null,null,null,null,null,null,null,null,null,877,1.0354729421897331,{"$f":"IF(L878=\"\",\"\",IF(M878<Results!D$12,1,0))","v":1}]
[null,null,null,null,null,null,null,null,null,null,null,878,1.0631004024256037,{"$f":"IF(L879=\"\",\"\",IF(M879<Results!D$12,1,0))","v":0}]
[null,null,null,null,null,null,null,null,null,null,null,879,1.0349904246230222,{"$f":"IF(L880=\"\",\"\",IF(M880<Results!D$12,1,0))","v":1}]
[null,null,null,null,null,null,null,null,null,null,null,880,1.0169880148456611,{"$f":"IF(L881=\"\",\"\",IF(M881<Results!D$12,1,0))","v":1}]
[null,null,null,null,null,null,null,null,null,null,null,881,1.0280581162418234,{"$f":"IF(L882=\"\",\"\",IF(M882<Results!D$12,1,0))","v":1}]
[null,null,null,null,null,null,null,null,null,null,null,882,1.038623900265697,{"$f":"IF(L883=\"\",\"\",IF(M883<Results!D$12,1,0))","v":0}]
[null,null,null,null,null,null,null,null,null,null,null,883,1.0139295001300741,{"$f":"IF(L884=\"\",\"\",IF(M884<Results!D$12,1,0))","v":1}]
[null,null,null,null,null,null,null,null,null,null,null,884,1.0507027826334132,{"$f":"IF(L885=\"\",\"\",IF(M885<Results!D$12,1,0))","v":0}]
[null,null,null,null,null,null,null,null,null,null,null,885,1.0114885581473678,{"$f":"IF(L886=\"\",\"\",IF(M886<Results!D$12,1,0))","v":1}]
[null,null,null,null,null,null,null,null,null,null,null,886,1.0295972989296354,{"$f":"IF(L887=\"\",\"\",IF(M887<Results!D$12,1,0))","v":1}]
[null,null,null,null,null,null,null,null,null,null,null,887,1.0514735170561416,{"$f":"IF(L888=\"\",\"\",IF(M888<Results!D$12,1,0))","v":0}]
[null,null,null,null,null,null,null,null,null,null,null,888,1.0422772286887456,{"$f":"IF(L889=\"\",\"\",IF(M889<Results!D$12,1,0))","v":0}]
[null,null,null,null,null,null,null,null,null,null,null,889,1.0030639783169526,{"$f":"IF(L890=\"\",\"\",IF(M890<Results!D$12,1,0))","v":1}]
[null,null,null,null,null,null,null,null,null,null,null,890,1.0329129953821223,{"$f":"IF(L891=\"\",\"\",IF(M891<Results!D$12,1,0))","v":1}]
[null,null,null,null,null,null,null,null,null,null,null,891,1.0280237549264637,{"$f":"IF(L892=\"\",\"\",IF(M892<Results!D$12,1,0))","v":1}]
[null,null,null,null,null,null,null,null,null,null,null,892,1.070386624073878,{"$f":"IF(L893=\"\",\"\",IF(M893<Results!D$12,1,0))","v":0}]
[null,null,null,null,null,null,null,null,null,null,null,893,1.0351428658743616,{"$f":"IF(L894=\"\",\"\",IF(M894<Results!D$12,1,0))","v":1}]
[null,null,null,null,null,null,null,null,null,null,null,894,1.0101403111772276,{"$f":"IF(L895=\"\",\"\",IF(M895<Results!D$12,1,0))","v":1}]
[null,null,null,null,null,null,null,null,null,null,null,895,1.024436649982833,{"$f":"IF(L896=\"\",\"\",IF(M896<Results!D$12,1,0))","v":1}]
[null,null,null,null,null,null,null,null,null,null,null,896,1.0379326611765289,{"$f":"IF(L897=\"\",\"\",IF(M897<Results!D$12,1,0))","v":0}]
[null,null,null,null,null,null,null,null,null,null,null,897,1.0287952852461204,{"$f":"IF(L898=\"\",\"\",IF(M898<Results!D$12,1,0))","v":1}]
[null,null,null,null,null,null,null,null,null,null,null,{"$f":"IF(M899=\"\",\"\",ROW(L899)-1)","v":898},1.0458093068261076,{"$f":"IF(L899=\"\",\"\",IF(M899<Results!D$12,1,0))","v":0}]
[null,null,null,null,null,null,null,null,null,null,null,899,1.0440929040320677,{"$f":"IF(L900=\"\",\"\",IF(M900<Results!D$12,1,0))","v":0}]
[null,null,null,null,null,null,null,null,null,null,null,900,1.035982855111524,{"$f":"IF(L901=\"\",\"\",IF(M901<Results!D$12,1,0))","v":1}]
[null,null,null,null,null,null,null,null,null,null,null,901,1.0311043431504214,{"$f":"IF(L902=\"\",\"\",IF(M902<Results!D$12,1,0))","v":1}]
[null,null,null,null,null,null,null,null,null,null,null,902,1.0158914195127451,{"$f":"IF(L903=\"\",\"\",IF(M903<Results!D$12,1,0))","v":1}]
[null,null,null,null,null,null,null,null,null,null,null,903,1.0360214501184386,{"$f":"IF(L904=\"\",\"\",IF(M904<Results!D$12,1,0))","v":1}]
[null,null,null,null,null,null,null,null,null,null,null,904,1.0200175852278841,{"$f":"IF(L905=\"\",\"\",IF(M905<Results!D$12,1,0))","v":1}]
[null,null,null,null,null,null,null,null,null,null,null,905,1.0330176831139202,{"$f":"IF(L906=\"\",\"\",IF(M906<Results!D$12,1,0))","v":1}]
[null,null,null,null,null,null,null,null,null,null,null,906,1.0314931706892438,{"$f":"IF(L907=\"\",\"\",IF(M907<Results!D$12,1,0))","v":1}]
[null,null,null,null,null,null,null,null,null,null,null,907,1.0235320937031211,{"$f":"IF(L908=\"\",\"\",IF(M908<Results!D$12,1,0))","v":1}]
[null,null,null,null,null,null,null,null,null,null,null,908,1.0504456119841281,{"$f":"IF(L909=\"\",\"\",IF(M909<Results!D$12,1,0))","v":0}]
[null,null,null,null,null,null,null,null,null,null,null,909,1.0342190778485552,{"$f":"IF(L910=\"\",\"\",IF(M910<Results!D$12,1,0))","v":1}]
[null,null,null,null,null,null,null,null,null,null,null,910,1.0584758883785046,{"$f":"IF(L911=\"\",\"\",IF(M911<Results!D$12,1,0))","v":0}]
[null,null,null,null,null,null,null,null,null,null,null,911,1.035346795308079,{"$f":"IF(L912=\"\",\"\",IF(M912<Results!D$12,1,0))","v":1}]
[null,null,null,null,null,null,null,null,null,null,null,912,1.0385941645997738,{"$f":"IF(L913=\"\",\"\",IF(M913<Results!D$12,1,0))","v":0}]
[null,null,null,null,null,null,null,null,null,null,null,913,1.0284981490263003,{"$f":"IF(L914=\"\",\"\",IF(M914<Results!D$12,1,0))","v":1}]
[null,null,null,null,null,null,null,null,null,null,null,914,1.0325226521126485,{"$f":"IF(L915=\"\",\"\",IF(M915<Results!D$12,1,0))","v":1}]
[null,null,null,null,null,null,null,null,null,null,null,915,1.0625415205478606,{"$f":"IF(L916=\"\",\"\",IF(M916<Results!D$12,1,0))","v":0}]
[null,null,null,null,null,null,null,null,null,null,null,916,1.0616180555109609,{"$f":"IF(L917=\"\",\"\",IF(M917<Results!D$12,1,0))","v":0}]
[null,null,null,null,null,null,null,null,null,null,null,917,1.0306162744554119,{"$f":"IF(L918=\"\",\"\",IF(M918<Results!D$12,1,0))","v":1}]
[null,null,null,null,null,null,null,null,null,null,null,918,1.0463371724702784,{"$f":"IF(L919=\"\",\"\",IF(M919<Results!D$12,1,0))","v":0}]
[null,null,null,null,null,null,null,null,null,null,null,919,1.0800538542319491,{"$f":"IF(L920=\"\",\"\",IF(M920<Results!D$12,1,0))","v":0}]
[null,null,null,null,null,null,null,null,null,null,null,920,1.0678491637849601,{"$f":"IF(L921=\"\",\"\",IF(M921<Results!D$12,1,0))","v":0}]
[null,null,null,null,null,null,null,null,null,null,null,921,1.0533465878478783,{"$f":"IF(L922=\"\",\"\",IF(M922<Results!D$12,1,0))","v":0}]
[null,null,null,null,null,null,null,null,null,null,null,922,1.0170844548506828,{"$f":"IF(L923=\"\",\"\",IF(M923<Results!D$12,1,0))","v":1}]
[null,null,null,null,null,null,null,null,null,null,null,923,1.010393895312198,{"$f":"IF(L924=\"\",\"\",IF(M924<Results!D$12,1,0))","v":1}]
[null,null,null,null,null,null,null,null,null,null,null,924,1.009524169145219,{"$f":"IF(L925=\"\",\"\",IF(M925<Results!D$12,1,0))","v":1}]
[null,null,null,null,null,null,null,null,null,null,null,925,1.0357201022793658,{"$f":"IF(L926=\"\",\"\",IF(M926<Results!D$12,1,0))","v":1}]
[null,null,null,null,null,null,null,null,null,null,null,926,1.0431968717601887,{"$f":"IF(L927=\"\",\"\",IF(M927<Results!D$12,1,0))","v":0}]
[null,null,null,null,null,null,null,null,null,null,null,927,1.0453778356907522,{"$f":"IF(L928=\"\",\"\",IF(M928<Results!D$12,1,0))","v":0}]
[null,null,null,null,null,null,null,null,null,null,null,928,1.0464308119552577,{"$f":"IF(L929=\"\",\"\",IF(M929<Results!D$12,1,0))","v":0}]
[null,null,null,null,null,null,null,null,null,null,null,929,1.0380978185822818,{"$f":"IF(L930=\"\",\"\",IF(M930<Results!D$12,1,0))","v":0}]
[null,null,null,null,null,null,null,null,null,null,null,930,1.0464711711449153,{"$f":"IF(L931=\"\",\"\",IF(M931<Results!D$12,1,0))","v":0}]
[null,null,null,null,null,null,null,null,null,null,null,931,1.0356046041456481,{"$f":"IF(L932=\"\",\"\",IF(M932<Results!D$12,1,0))","v":1}]
[null,null,null,null,null,null,null,null,null,null,null,932,1.0358332193895694,{"$f":"IF(L933=\"\",\"\",IF(M933<Results!D$12,1,0))","v":1}]
[null,null,null,null,null,null,null,null,null,null,null,933,1.0348683839472692,{"$f":"IF(L934=\"\",\"\",IF(M934<Results!D$12,1,0))","v":1}]
[null,null,null,null,null,null,null,null,null,null,null,934,1.0352584711198183,{"$f":"IF(L935=\"\",\"\",IF(M935<Results!D$12,1,0))","v":1}]
[null,null,null,null,null,null,null,null,null,null,null,935,1.0672916678217581,{"$f":"IF(L936=\"\",\"\",IF(M936<Results!D$12,1,0))","v":0}]
[null,null,null,null,null,null,null,null,null,null,null,936,1.0397174851215769,{"$f":"IF(L937=\"\",\"\",IF(M937<Results!D$12,1,0))","v":0}]
[null,null,null,null,null,null,null,null,null,null,null,937,1.0318787219521588,{"$f":"IF(L938=\"\",\"\",IF(M938<Results!D$12,1,0))","v":1}]
[null,null,null,null,null,null,null,null,null,null,null,938,1.0345716056207082,{"$f":"IF(L939=\"\",\"\",IF(M939<Results!D$12,1,0))","v":1}]
[null,null,null,null,null,null,null,null,null,null,null,939,1.0071833976624032,{"$f":"IF(L940=\"\",\"\",IF(M940<Results!D$12,1,0))","v":1}]
[null,null,null,null,null,null,null,null,null,null,null,940,1.0413725128448046,{"$f":"IF(L941=\"\",\"\",IF(M941<Results!D$12,1,0))","v":0}]
[null,null,null,null,null,null,null,null,null,null,null,941,1.0182976069589997,{"$f":"IF(L942=\"\",\"\",IF(M942<Results!D$12,1,0))","v":1}]
[null,null,null,null,null,null,null,null,null,null,null,942,1.0499305288088225,{"$f":"IF(L943=\"\",\"\",IF(M943<Results!D$12,1,0))","v":0}]
[null,null,null,null,null,null,null,null,null,null,null,943,1.0311333077045861,{"$f":"IF(L944=\"\",\"\",IF(M944<Results!D$12,1,0))","v":1}]
[null,null,null,null,null,null,null,null,null,null,null,944,1.0336801938540821,{"$f":"IF(L945=\"\",\"\",IF(M945<Results!D$12,1,0))","v":1}]
[null,null,null,null,null,null,null,null,null,null,null,945,1.0359883245963442,{"$f":"IF(L946=\"\",\"\",IF(M946<Results!D$12,1,0))","v":1}]
[null,null,null,null,null,null,null,null,null,null,null,946,1.0394518714159675,{"$f":"IF(L947=\"\",\"\",IF(M947<Results!D$12,1,0))","v":0}]
[null,null,null,null,null,null,null,null,null,null,null,947,1.0414336293878612,{"$f":"IF(L948=\"\",\"\",IF(M948<Results!D$12,1,0))","v":0}]
[null,null,null,null,null,null,null,null,null,null,null,948,1.0307692465274931,{"$f":"IF(L949=\"\",\"\",IF(M949<Results!D$12,1,0))","v":1}]
[null,null,null,null,null,null,null,null,null,null,null,949,1.0651064023787469,{"$f":"IF(L950=\"\",\"\",IF(M950<Results!D$12,1,0))","v":0}]
[null,null,null,null,null,null,null,null,null,null,null,950,1.0331125251065112,{"$f":"IF(L951=\"\",\"\",IF(M951<Results!D$12,1,0))","v":1}]
[null,null,null,null,null,null,null,null,null,null,null,951,1.0367402653015392,{"$f":"IF(L952=\"\",\"\",IF(M952<Results!D$12,1,0))","v":1}]
[null,null,null,null,null,null,null,null,null,null,null,952,1.0229051827856468,{"$f":"IF(L953=\"\",\"\",IF(M953<Results!D$12,1,0))","v":1}]
[null,null,null,null,null,null,null,null,null,null,null,953,1.0473239667467704,{"$f":"IF(L954=\"\",\"\",IF(M954<Results!D$12,1,0))","v":0}]
[null,null,null,null,null,null,null,null,null,null,null,954,1.0307408557546591,{"$f":"IF(L955=\"\",\"\",IF(M955<Results!D$12,1,0))","v":1}]
[null,null,null,null,null,null,null,null,null,null,null,955,1.034821595091284,{"$f":"IF(L956=\"\",\"\",IF(M956<Results!D$12,1,0))","v":1}]
[null,null,null,null,null,null,null,null,null,null,null,956,1.0366328942121181,{"$f":"IF(L957=\"\",\"\",IF(M957<Results!D$12,1,0))","v":1}]
[null,null,null,null,null,null,null,null,null,null,null,957,1.0342913283291753,{"$f":"IF(L958=\"\",\"\",IF(M958<Results!D$12,1,0))","v":1}]
[null,null,null,null,null,null,null,null,null,null,null,958,1.0423909240016667,{"$f":"IF(L959=\"\",\"\",IF(M959<Results!D$12,1,0))","v":0}]
[null,null,null,null,null,null,null,null,null,null,null,959,1.0359561604393639,{"$f":"IF(L960=\"\",\"\",IF(M960<Results!D$12,1,0))","v":1}]
[null,null,null,null,null,null,null,null,null,null,null,960,1.0263407930991584,{"$f":"IF(L961=\"\",\"\",IF(M961<Results!D$12,1,0))","v":1}]
[null,null,null,null,null,null,null,null,null,null,null,961,1.0276313917609767,{"$f":"IF(L962=\"\",\"\",IF(M962<Results!D$12,1,0))","v":1}]
[null,null,null,null,null,null,null,null,null,null,null,{"$f":"IF(M963=\"\",\"\",ROW(L963)-1)","v":962},1.0237760488831216,{"$f":"IF(L963=\"\",\"\",IF(M963<Results!D$12,1,0))","v":1}]
[null,null,null,null,null,null,null,null,null,null,null,963,1.0414798417939886,{"$f":"IF(L964=\"\",\"\",IF(M964<Results!D$12,1,0))","v":0}]
[null,null,null,null,null,null,null,null,null,null,null,964,1.0444798143497485,{"$f":"IF(L965=\"\",\"\",IF(M965<Results!D$12,1,0))","v":0}]
[null,null,null,null,null,null,null,null,null,null,null,965,1.024402267946563,{"$f":"IF(L966=\"\",\"\",IF(M966<Results!D$12,1,0))","v":1}]
[null,null,null,null,null,null,null,null,null,null,null,966,1.034761255359812,{"$f":"IF(L967=\"\",\"\",IF(M967<Results!D$12,1,0))","v":1}]
[null,null,null,null,null,null,null,null,null,null,null,967,1.0292118480116175,{"$f":"IF(L968=\"\",\"\",IF(M968<Results!D$12,1,0))","v":1}]
[null,null,null,null,null,null,null,null,null,null,null,968,1.0456235751479519,{"$f":"IF(L969=\"\",\"\",IF(M969<Results!D$12,1,0))","v":0}]
[null,null,null,null,null,null,null,null,null,null,null,969,1.0387510476674529,{"$f":"IF(L970=\"\",\"\",IF(M970<Results!D$12,1,0))","v":0}]
[null,null,null,null,null,null,null,null,null,null,null,970,1.0257970926515418,{"$f":"IF(L971=\"\",\"\",IF(M971<Results!D$12,1,0))","v":1}]
[null,null,null,null,null,null,null,null,null,null,null,971,1.0185232284594958,{"$f":"IF(L972=\"\",\"\",IF(M972<Results!D$12,1,0))","v":1}]
[null,null,null,null,null,null,null,null,null,null,null,972,1.0316466399142907,{"$f":"IF(L973=\"\",\"\",IF(M973<Results!D$12,1,0))","v":1}]
[null,null,null,null,null,null,null,null,null,null,null,973,1.0242106712654306,{"$f":"IF(L974=\"\",\"\",IF(M974<Results!D$12,1,0))","v":1}]
[null,null,null,null,null,null,null,null,null,null,null,974,1.0102615329798679,{"$f":"IF(L975=\"\",\"\",IF(M975<Results!D$12,1,0))","v":1}]
[null,null,null,null,null,null,null,null,null,null,null,975,1.0078554358233325,{"$f":"IF(L976=\"\",\"\",IF(M976<Results!D$12,1,0))","v":1}]
[null,null,null,null,null,null,null,null,null,null,null,976,1.0442679290979842,{"$f":"IF(L977=\"\",\"\",IF(M977<Results!D$12,1,0))","v":0}]
[null,null,null,null,null,null,null,null,null,null,null,977,1.0033728873541949,{"$f":"IF(L978=\"\",\"\",IF(M978<Results!D$12,1,0))","v":1}]
[null,null,null,null,null,null,null,null,null,null,null,978,1.0490331161412716,{"$f":"IF(L979=\"\",\"\",IF(M979<Results!D$12,1,0))","v":0}]
[null,null,null,null,null,null,null,null,null,null,null,979,1.0453774098569917,{"$f":"IF(L980=\"\",\"\",IF(M980<Results!D$12,1,0))","v":0}]
[null,null,null,null,null,null,null,null,null,null,null,980,1.0462287522054134,{"$f":"IF(L981=\"\",\"\",IF(M981<Results!D$12,1,0))","v":0}]
[null,null,null,null,null,null,null,null,null,null,null,981,1.0461884893087634,{"$f":"IF(L982=\"\",\"\",IF(M982<Results!D$12,1,0))","v":0}]
[null,null,null,null,null,null,null,null,null,null,null,982,1.0490726018331038,{"$f":"IF(L983=\"\",\"\",IF(M983<Results!D$12,1,0))","v":0}]
[null,null,null,null,null,null,null,null,null,null,null,983,1.0378650188986382,{"$f":"IF(L984=\"\",\"\",IF(M984<Results!D$12,1,0))","v":0}]
[null,null,null,null,null,null,null,null,null,null,null,984,1.0605585486887412,{"$f":"IF(L985=\"\",\"\",IF(M985<Results!D$12,1,0))","v":0}]
[null,null,null,null,null,null,null,null,null,null,null,985,1.0399439133653008,{"$f":"IF(L986=\"\",\"\",IF(M986<Results!D$12,1,0))","v":0}]
[null,null,null,null,null,null,null,null,null,null,null,986,1.0302188459812887,{"$f":"IF(L987=\"\",\"\",IF(M987<Results!D$12,1,0))","v":1}]
[null,null,null,null,null,null,null,null,null,null,null,987,1.0295937983643615,{"$f":"IF(L988=\"\",\"\",IF(M988<Results!D$12,1,0))","v":1}]
[null,null,null,null,null,null,null,null,null,null,null,988,1.0348322166740547,{"$f":"IF(L989=\"\",\"\",IF(M989<Results!D$12,1,0))","v":1}]
[null,null,null,null,null,null,null,null,null,null,null,989,1.0201301652165597,{"$f":"IF(L990=\"\",\"\",IF(M990<Results!D$12,1,0))","v":1}]
[null,null,null,null,null,null,null,null,null,null,null,990,1.0398727290278245,{"$f":"IF(L991=\"\",\"\",IF(M991<Results!D$12,1,0))","v":0}]
[null,null,null,null,null,null,null,null,null,null,null,991,1.0544999600343445,{"$f":"IF(L992=\"\",\"\",IF(M992<Results!D$12,1,0))","v":0}]
[null,null,null,null,null,null,null,null,null,null,null,992,1.0215459296648717,{"$f":"IF(L993=\"\",\"\",IF(M993<Results!D$12,1,0))","v":1}]
[null,null,null,null,null,null,null,null,null,null,null,993,1.0437710713039747,{"$f":"IF(L994=\"\",\"\",IF(M994<Results!D$12,1,0))","v":0}]
[null,null,null,null,null,null,null,null,null,null,null,994,1.065840100592784,{"$f":"IF(L995=\"\",\"\",IF(M995<Results!D$12,1,0))","v":0}]
[null,null,null,null,null,null,null,null,null,null,null,995,1.021434407713729,{"$f":"IF(L996=\"\",\"\",IF(M996<Results!D$12,1,0))","v":1}]
[null,null,null,null,null,null,null,null,null,null,null,996,1.0308723203605039,{"$f":"IF(L997=\"\",\"\",IF(M997<Results!D$12,1,0))","v":1}]
[null,null,null,null,null,null,null,null,null,null,null,997,1.048379807102958,{"$f":"IF(L998=\"\",\"\",IF(M998<Results!D$12,1,0))","v":0}]
[null,null,null,null,null,null,null,null,null,null,null,998,1.0187064697855563,{"$f":"IF(L999=\"\",\"\",IF(M999<Results!D$12,1,0))","v":1}]
[null,null,null,null,null,null,null,null,null,null,null,999,1.032725220237424,{"$f":"IF(L1000=\"\",\"\",IF(M1000<Results!D$12,1,0))","v":1}]
[null,null,null,null,null,null,null,null,null,null,null,1000,1.0313891861100053,{"$f":"IF(L1001=\"\",\"\",IF(M1001<Results!D$12,1,0))","v":1}]
[null,null,null,null,null,null,null,null,null,null,null,1001,1.0370920945125301,{"$f":"IF(L1002=\"\",\"\",IF(M1002<Results!D$12,1,0))","v":1}]
[null,null,null,null,null,null,null,null,null,null,null,1002,1.0401810428064717,{"$f":"IF(L1003=\"\",\"\",IF(M1003<Results!D$12,1,0))","v":0}]
[null,null,null,null,null,null,null,null,null,null,null,1003,1.0415403868186699,{"$f":"IF(L1004=\"\",\"\",IF(M1004<Results!D$12,1,0))","v":0}]
[null,null,null,null,null,null,null,null,null,null,null,1004,1.0646379453606205,{"$f":"IF(L1005=\"\",\"\",IF(M1005<Results!D$12,1,0))","v":0}]
[null,null,null,null,null,null,null,null,null,null,null,1005,1.0488886726530198,{"$f":"IF(L1006=\"\",\"\",IF(M1006<Results!D$12,1,0))","v":0}]
[null,null,null,null,null,null,null,null,null,null,null,1006,1.0435862369381297,{"$f":"IF(L1007=\"\",\"\",IF(M1007<Results!D$12,1,0))","v":0}]
[null,null,null,null,null,null,null,null,null,null,null,1007,1.0395991693624707,{"$f":"IF(L1008=\"\",\"\",IF(M1008<Results!D$12,1,0))","v":0}]
[null,null,null,null,null,null,null,null,null,null,null,1008,1.0150359562670366,{"$f":"IF(L1009=\"\",\"\",IF(M1009<Results!D$12,1,0))","v":1}]
[null,null,null,null,null,null,null,null,null,null,null,1009,1.0211461758554117,{"$f":"IF(L1010=\"\",\"\",IF(M1010<Results!D$12,1,0))","v":1}]
[null,null,null,null,null,null,null,null,null,null,null,1010,1.052101788039812,{"$f":"IF(L1011=\"\",\"\",IF(M1011<Results!D$12,1,0))","v":0}]
[null,null,null,null,null,null,null,null,null,null,null,1011,1.0444961489554085,{"$f":"IF(L1012=\"\",\"\",IF(M1012<Results!D$12,1,0))","v":0}]
[null,null,null,null,null,null,null,null,null,null,null,1012,1.0422907066479343,{"$f":"IF(L1013=\"\",\"\",IF(M1013<Results!D$12,1,0))","v":0}]
[null,null,null,null,null,null,null,null,null,null,null,1013,1.0205416385789443,{"$f":"IF(L1014=\"\",\"\",IF(M1014<Results!D$12,1,0))","v":1}]
[null,null,null,null,null,null,null,null,null,null,null,1014,1.0277102428891209,{"$f":"IF(L1015=\"\",\"\",IF(M1015<Results!D$12,1,0))","v":1}]
[null,null,null,null,null,null,null,null,null,null,null,1015,1.0488593339588499,{"$f":"IF(L1016=\"\",\"\",IF(M1016<Results!D$12,1,0))","v":0}]
[null,null,null,null,null,null,null,null,null,null,null,1016,1.0355644001522613,{"$f":"IF(L1017=\"\",\"\",IF(M1017<Results!D$12,1,0))","v":1}]
[null,null,null,null,null,null,null,null,null,null,null,1017,1.0394480253431364,{"$f":"IF(L1018=\"\",\"\",IF(M1018<Results!D$12,1,0))","v":0}]
[null,null,null,null,null,null,null,null,null,null,null,1018,1.0654147506088765,{"$f":"IF(L1019=\"\",\"\",IF(M1019<Results!D$12,1,0))","v":0}]
[null,null,null,null,null,null,null,null,null,null,null,1019,1.0407912942981616,{"$f":"IF(L1020=\"\",\"\",IF(M1020<Results!D$12,1,0))","v":0}]
[null,null,null,null,null,null,null,null,null,null,null,1020,1.0225546754692576,{"$f":"IF(L1021=\"\",\"\",IF(M1021<Results!D$12,1,0))","v":1}]
[null,null,null,null,null,null,null,null,null,null,null,1021,1.0219400624408934,{"$f":"IF(L1022=\"\",\"\",IF(M1022<Results!D$12,1,0))","v":1}]
[null,null,null,null,null,null,null,null,null,null,null,1022,1.036623028332212,{"$f":"IF(L1023=\"\",\"\",IF(M1023<Results!D$12,1,0))","v":1}]
[null,null,null,null,null,null,null,null,null,null,null,1023,1.0231039211511546,{"$f":"IF(L1024=\"\",\"\",IF(M1024<Results!D$12,1,0))","v":1}]
[null,null,null,null,null,null,null,null,null,null,null,1024,1.033850007005511,{"$f":"IF(L1025=\"\",\"\",IF(M1025<Results!D$12,1,0))","v":1}]
[null,null,null,null,null,null,null,null,null,null,null,1025,1.0460253363048262,{"$f":"IF(L1026=\"\",\"\",IF(M1026<Results!D$12,1,0))","v":0}]
[null,null,null,null,null,null,null,null,null,null,null,{"$f":"IF(M1027=\"\",\"\",ROW(L1027)-1)","v":1026},1.0555535547583348,{"$f":"IF(L1027=\"\",\"\",IF(M1027<Results!D$12,1,0))","v":0}]
[null,null,null,null,null,null,null,null,null,null,null,1027,1.0319619550336843,{"$f":"IF(L1028=\"\",\"\",IF(M1028<Results!D$12,1,0))","v":1}]
[null,null,null,null,null,null,null,null,null,null,null,1028,1.0319718548193761,{"$f":"IF(L1029=\"\",\"\",IF(M1029<Results!D$12,1,0))","v":1}]
[null,null,null,null,null,null,null,null,null,null,null,1029,1.0258510623095816,{"$f":"IF(L1030=\"\",\"\",IF(M1030<Results!D$12,1,0))","v":1}]
[null,null,null,null,null,null,null,null,null,null,null,1030,1.0208472674023148,{"$f":"IF(L1031=\"\",\"\",IF(M1031<Results!D$12,1,0))","v":1}]
[null,null,null,null,null,null,null,null,null,null,null,1031,1.0204583393074211,{"$f":"IF(L1032=\"\",\"\",IF(M1032<Results!D$12,1,0))","v":1}]
[null,null,null,null,null,null,null,null,null,null,null,1032,1.0266636345498634,{"$f":"IF(L1033=\"\",\"\",IF(M1033<Results!D$12,1,0))","v":1}]
[null,null,null,null,null,null,null,null,null,null,null,1033,1.0406991283555893,{"$f":"IF(L1034=\"\",\"\",IF(M1034<Results!D$12,1,0))","v":0}]
[null,null,null,null,null,null,null,null,null,null,null,1034,1.0295102126782059,{"$f":"IF(L1035=\"\",\"\",IF(M1035<Results!D$12,1,0))","v":1}]
[null,null,null,null,null,null,null,null,null,null,null,1035,1.0277369647464083,{"$f":"IF(L1036=\"\",\"\",IF(M1036<Results!D$12,1,0))","v":1}]
[null,null,null,null,null,null,null,null,null,null,null,1036,1.0210109942998089,{"$f":"IF(L1037=\"\",\"\",IF(M1037<Results!D$12,1,0))","v":1}]
[null,null,null,null,null,null,null,null,null,null,null,1037,1.0411011302785238,{"$f":"IF(L1038=\"\",\"\",IF(M1038<Results!D$12,1,0))","v":0}]
[null,null,null,null,null,null,null,null,null,null,null,1038,1.0088998313422757,{"$f":"IF(L1039=\"\",\"\",IF(M1039<Results!D$12,1,0))","v":1}]
[null,null,null,null,null,null,null,null,null,null,null,1039,1.0647838231440743,{"$f":"IF(L1040=\"\",\"\",IF(M1040<Results!D$12,1,0))","v":0}]
[null,null,null,null,null,null,null,null,null,null,null,1040,1.0295627726919325,{"$f":"IF(L1041=\"\",\"\",IF(M1041<Results!D$12,1,0))","v":1}]
[null,null,null,null,null,null,null,null,null,null,null,1041,1.0503483850094735,{"$f":"IF(L1042=\"\",\"\",IF(M1042<Results!D$12,1,0))","v":0}]
[null,null,null,null,null,null,null,null,null,null,null,1042,1.0430967398943989,{"$f":"IF(L1043=\"\",\"\",IF(M1043<Results!D$12,1,0))","v":0}]
[null,null,null,null,null,null,null,null,null,null,null,1043,1.0305938587624663,{"$f":"IF(L1044=\"\",\"\",IF(M1044<Results!D$12,1,0))","v":1}]
[null,null,null,null,null,null,null,null,null,null,null,1044,1.0240151894264315,{"$f":"IF(L1045=\"\",\"\",IF(M1045<Results!D$12,1,0))","v":1}]
[null,null,null,null,null,null,null,null,null,null,null,1045,1.0601044414541636,{"$f":"IF(L1046=\"\",\"\",IF(M1046<Results!D$12,1,0))","v":0}]
[null,null,null,null,null,null,null,null,null,null,null,1046,1.0546603352018167,{"$f":"IF(L1047=\"\",\"\",IF(M1047<Results!D$12,1,0))","v":0}]
[null,null,null,null,null,null,null,null,null,null,null,1047,1.0318288944363772,{"$f":"IF(L1048=\"\",\"\",IF(M1048<Results!D$12,1,0))","v":1}]
[null,null,null,null,null,null,null,null,null,null,null,1048,1.0371483051771513,{"$f":"IF(L1049=\"\",\"\",IF(M1049<Results!D$12,1,0))","v":1}]
[null,null,null,null,null,null,null,null,null,null,null,1049,1.0114172134902748,{"$f":"IF(L1050=\"\",\"\",IF(M1050<Results!D$12,1,0))","v":1}]
[null,null,null,null,null,null,null,null,null,null,null,1050,1.0295455732611987,{"$f":"IF(L1051=\"\",\"\",IF(M1051<Results!D$12,1,0))","v":1}]
[null,null,null,null,null,null,null,null,null,null,null,1051,1.0359204955355246,{"$f":"IF(L1052=\"\",\"\",IF(M1052<Results!D$12,1,0))","v":1}]
[null,null,null,null,null,null,null,null,null,null,null,1052,1.0528052331145836,{"$f":"IF(L1053=\"\",\"\",IF(M1053<Results!D$12,1,0))","v":0}]
[null,null,null,null,null,null,null,null,null,null,null,1053,1.0469726705991425,{"$f":"IF(L1054=\"\",\"\",IF(M1054<Results!D$12,1,0))","v":0}]
[null,null,null,null,null,null,null,null,null,null,null,1054,1.0422540194137691,{"$f":"IF(L1055=\"\",\"\",IF(M1055<Results!D$12,1,0))","v":0}]
[null,null,null,null,null,null,null,null,null,null,null,1055,1.0506996499927521,{"$f":"IF(L1056=\"\",\"\",IF(M1056<Results!D$12,1,0))","v":0}]
[null,null,null,null,null,null,null,null,null,null,null,1056,1.048497689814013,{"$f":"IF(L1057=\"\",\"\",IF(M1057<Results!D$12,1,0))","v":0}]
[null,null,null,null,null,null,null,null,null,null,null,1057,1.0264255833895608,{"$f":"IF(L1058=\"\",\"\",IF(M1058<Results!D$12,1,0))","v":1}]
[null,null,null,null,null,null,null,null,null,null,null,1058,1.0781513778255434,{"$f":"IF(L1059=\"\",\"\",IF(M1059<Results!D$12,1,0))","v":0}]
[null,null,null,null,null,null,null,null,null,null,null,1059,1.0354746990286765,{"$f":"IF(L1060=\"\",\"\",IF(M1060<Results!D$12,1,0))","v":1}]
[null,null,null,null,null,null,null,null,null,null,null,1060,1.0286642882101746,{"$f":"IF(L1061=\"\",\"\",IF(M1061<Results!D$12,1,0))","v":1}]
[null,null,null,null,null,null,null,null,null,null,null,1061,1.031662525195977,{"$f":"IF(L1062=\"\",\"\",IF(M1062<Results!D$12,1,0))","v":1}]
[null,null,null,null,null,null,null,null,null,null,null,1062,1.0464646170713625,{"$f":"IF(L1063=\"\",\"\",IF(M1063<Results!D$12,1,0))","v":0}]
[null,null,null,null,null,null,null,null,null,null,null,1063,1.0410409949332107,{"$f":"IF(L1064=\"\",\"\",IF(M1064<Results!D$12,1,0))","v":0}]
[null,null,null,null,null,null,null,null,null,null,null,1064,1.0381102290083148,{"$f":"IF(L1065=\"\",\"\",IF(M1065<Results!D$12,1,0))","v":0}]
[null,null,null,null,null,null,null,null,null,null,null,1065,1.0367008426187174,{"$f":"IF(L1066=\"\",\"\",IF(M1066<Results!D$12,1,0))","v":1}]
[null,null,null,null,null,null,null,null,null,null,null,1066,1.0364864538910914,{"$f":"IF(L1067=\"\",\"\",IF(M1067<Results!D$12,1,0))","v":1}]
[null,null,null,null,null,null,null,null,null,null,null,1067,1.0433306842278767,{"$f":"IF(L1068=\"\",\"\",IF(M1068<Results!D$12,1,0))","v":0}]
[null,null,null,null,null,null,null,null,null,null,null,1068,1.0368843013469802,{"$f":"IF(L1069=\"\",\"\",IF(M1069<Results!D$12,1,0))","v":1}]
[null,null,null,null,null,null,null,null,null,null,null,1069,1.0207268675031735,{"$f":"IF(L1070=\"\",\"\",IF(M1070<Results!D$12,1,0))","v":1}]
[null,null,null,null,null,null,null,null,null,null,null,1070,1.0295746936001677,{"$f":"IF(L1071=\"\",\"\",IF(M1071<Results!D$12,1,0))","v":1}]
[null,null,null,null,null,null,null,null,null,null,null,1071,1.032040142941375,{"$f":"IF(L1072=\"\",\"\",IF(M1072<Results!D$12,1,0))","v":1}]
[null,null,null,null,null,null,null,null,null,null,null,1072,1.0205205390008916,{"$f":"IF(L1073=\"\",\"\",IF(M1073<Results!D$12,1,0))","v":1}]
[null,null,null,null,null,null,null,null,null,null,null,1073,1.0492947374908386,{"$f":"IF(L1074=\"\",\"\",IF(M1074<Results!D$12,1,0))","v":0}]
[null,null,null,null,null,null,null,null,null,null,null,1074,1.0239366727699051,{"$f":"IF(L1075=\"\",\"\",IF(M1075<Results!D$12,1,0))","v":1}]
[null,null,null,null,null,null,null,null,null,null,null,1075,1.0441541875279616,{"$f":"IF(L1076=\"\",\"\",IF(M1076<Results!D$12,1,0))","v":0}]
[null,null,null,null,null,null,null,null,null,null,null,1076,1.0234665297288148,{"$f":"IF(L1077=\"\",\"\",IF(M1077<Results!D$12,1,0))","v":1}]
[null,null,null,null,null,null,null,null,null,null,null,1077,1.0166556893859415,{"$f":"IF(L1078=\"\",\"\",IF(M1078<Results!D$12,1,0))","v":1}]
[null,null,null,null,null,null,null,null,null,null,null,1078,1.0391358654160576,{"$f":"IF(L1079=\"\",\"\",IF(M1079<Results!D$12,1,0))","v":0}]
[null,null,null,null,null,null,null,null,null,null,null,1079,1.0170708534006054,{"$f":"IF(L1080=\"\",\"\",IF(M1080<Results!D$12,1,0))","v":1}]
[null,null,null,null,null,null,null,null,null,null,null,1080,1.0645802865734164,{"$f":"IF(L1081=\"\",\"\",IF(M1081<Results!D$12,1,0))","v":0}]
[null,null,null,null,null,null,null,null,null,null,null,1081,1.0569963575901904,{"$f":"IF(L1082=\"\",\"\",IF(M1082<Results!D$12,1,0))","v":0}]
[null,null,null,null,null,null,null,null,null,null,null,1082,1.0407562042009761,{"$f":"IF(L1083=\"\",\"\",IF(M1083<Results!D$12,1,0))","v":0}]
[null,null,null,null,null,null,null,null,null,null,null,1083,1.0384251554446065,{"$f":"IF(L1084=\"\",\"\",IF(M1084<Results!D$12,1,0))","v":0}]
[null,null,null,null,null,null,null,null,null,null,null,1084,1.0306767887261818,{"$f":"IF(L1085=\"\",\"\",IF(M1085<Results!D$12,1,0))","v":1}]
[null,null,null,null,null,null,null,null,null,null,null,1085,1.0346348517612474,{"$f":"IF(L1086=\"\",\"\",IF(M1086<Results!D$12,1,0))","v":1}]
[null,null,null,null,null,null,null,null,null,null,null,1086,1.0326032640334002,{"$f":"IF(L1087=\"\",\"\",IF(M1087<Results!D$12,1,0))","v":1}]
[null,null,null,null,null,null,null,null,null,null,null,1087,1.0492684379226753,{"$f":"IF(L1088=\"\",\"\",IF(M1088<Results!D$12,1,0))","v":0}]
[null,null,null,null,null,null,null,null,null,null,null,1088,1.0284327691283499,{"$f":"IF(L1089=\"\",\"\",IF(M1089<Results!D$12,1,0))","v":1}]
[null,null,null,null,null,null,null,null,null,null,null,1089,1.0284419577548727,{"$f":"IF(L1090=\"\",\"\",IF(M1090<Results!D$12,1,0))","v":1}]
[null,null,null,null,null,null,null,null,null,null,null,{"$f":"IF(M1091=\"\",\"\",ROW(L1091)-1)","v":1090},1.0298047599624893,{"$f":"IF(L1091=\"\",\"\",IF(M1091<Results!D$12,1,0))","v":1}]
[null,null,null,null,null,null,null,null,null,null,null,1091,1.0292064564795771,{"$f":"IF(L1092=\"\",\"\",IF(M1092<Results!D$12,1,0))","v":1}]
[null,null,null,null,null,null,null,null,null,null,null,1092,1.0352395677289297,{"$f":"IF(L1093=\"\",\"\",IF(M1093<Results!D$12,1,0))","v":1}]
[null,null,null,null,null,null,null,null,null,null,null,1093,1.0265562384140847,{"$f":"IF(L1094=\"\",\"\",IF(M1094<Results!D$12,1,0))","v":1}]
[null,null,null,null,null,null,null,null,null,null,null,1094,1.0432073723429256,{"$f":"IF(L1095=\"\",\"\",IF(M1095<Results!D$12,1,0))","v":0}]
[null,null,null,null,null,null,null,null,null,null,null,1095,1.0459259973824662,{"$f":"IF(L1096=\"\",\"\",IF(M1096<Results!D$12,1,0))","v":0}]
[null,null,null,null,null,null,null,null,null,null,null,1096,1.0376637499498156,{"$f":"IF(L1097=\"\",\"\",IF(M1097<Results!D$12,1,0))","v":0}]
[null,null,null,null,null,null,null,null,null,null,null,1097,1.0416809998469843,{"$f":"IF(L1098=\"\",\"\",IF(M1098<Results!D$12,1,0))","v":0}]
[null,null,null,null,null,null,null,null,null,null,null,1098,1.0296358563250354,{"$f":"IF(L1099=\"\",\"\",IF(M1099<Results!D$12,1,0))","v":1}]
[null,null,null,null,null,null,null,null,null,null,null,1099,1.0408727232588126,{"$f":"IF(L1100=\"\",\"\",IF(M1100<Results!D$12,1,0))","v":0}]
[null,null,null,null,null,null,null,null,null,null,null,1100,1.054694997011693,{"$f":"IF(L1101=\"\",\"\",IF(M1101<Results!D$12,1,0))","v":0}]
[null,null,null,null,null,null,null,null,null,null,null,1101,1.0564798528545913,{"$f":"IF(L1102=\"\",\"\",IF(M1102<Results!D$12,1,0))","v":0}]
[null,null,null,null,null,null,null,null,null,null,null,1102,1.0532626116123649,{"$f":"IF(L1103=\"\",\"\",IF(M1103<Results!D$12,1,0))","v":0}]
[null,null,null,null,null,null,null,null,null,null,null,1103,1.0487651532097026,{"$f":"IF(L1104=\"\",\"\",IF(M1104<Results!D$12,1,0))","v":0}]
[null,null,null,null,null,null,null,null,null,null,null,1104,1.0254344224610574,{"$f":"IF(L1105=\"\",\"\",IF(M1105<Results!D$12,1,0))","v":1}]
[null,null,null,null,null,null,null,null,null,null,null,1105,1.065161353281338,{"$f":"IF(L1106=\"\",\"\",IF(M1106<Results!D$12,1,0))","v":0}]
[null,null,null,null,null,null,null,null,null,null,null,1106,1.0278586731520971,{"$f":"IF(L1107=\"\",\"\",IF(M1107<Results!D$12,1,0))","v":1}]
[null,null,null,null,null,null,null,null,null,null,null,1107,1.0349325344242153,{"$f":"IF(L1108=\"\",\"\",IF(M1108<Results!D$12,1,0))","v":1}]
[null,null,null,null,null,null,null,null,null,null,null,1108,1.0386199811685974,{"$f":"IF(L1109=\"\",\"\",IF(M1109<Results!D$12,1,0))","v":0}]
[null,null,null,null,null,null,null,null,null,null,null,1109,1.0394471333321798,{"$f":"IF(L1110=\"\",\"\",IF(M1110<Results!D$12,1,0))","v":0}]
[null,null,null,null,null,null,null,null,null,null,null,1110,1.0325132194707574,{"$f":"IF(L1111=\"\",\"\",IF(M1111<Results!D$12,1,0))","v":1}]
[null,null,null,null,null,null,null,null,null,null,null,1111,1.0320887298232007,{"$f":"IF(L1112=\"\",\"\",IF(M1112<Results!D$12,1,0))","v":1}]
[null,null,null,null,null,null,null,null,null,null,null,1112,1.0132619640173932,{"$f":"IF(L1113=\"\",\"\",IF(M1113<Results!D$12,1,0))","v":1}]
[null,null,null,null,null,null,null,null,null,null,null,1113,1.0204353774483488,{"$f":"IF(L1114=\"\",\"\",IF(M1114<Results!D$12,1,0))","v":1}]
[null,null,null,null,null,null,null,null,null,null,null,1114,1.0439452251667625,{"$f":"IF(L1115=\"\",\"\",IF(M1115<Results!D$12,1,0))","v":0}]
[null,null,null,null,null,null,null,null,null,null,null,1115,1.0588187278221493,{"$f":"IF(L1116=\"\",\"\",IF(M1116<Results!D$12,1,0))","v":0}]
[null,null,null,null,null,null,null,null,null,null,null,1116,1.0334064927528657,{"$f":"IF(L1117=\"\",\"\",IF(M1117<Results!D$12,1,0))","v":1}]
[null,null,null,null,null,null,null,null,null,null,null,1117,1.0281139510260804,{"$f":"IF(L1118=\"\",\"\",IF(M1118<Results!D$12,1,0))","v":1}]
[null,null,null,null,null,null,null,null,null,null,null,1118,1.0139425407232245,{"$f":"IF(L1119=\"\",\"\",IF(M1119<Results!D$12,1,0))","v":1}]
[null,null,null,null,null,null,null,null,null,null,null,1119,1.0522335323915242,{"$f":"IF(L1120=\"\",\"\",IF(M1120<Results!D$12,1,0))","v":0}]
[null,null,null,null,null,null,null,null,null,null,null,1120,1.0169167962476271,{"$f":"IF(L1121=\"\",\"\",IF(M1121<Results!D$12,1,0))","v":1}]
[null,null,null,null,null,null,null,null,null,null,null,1121,1.0384705844009035,{"$f":"IF(L1122=\"\",\"\",IF(M1122<Results!D$12,1,0))","v":0}]
[null,null,null,null,null,null,null,null,null,null,null,1122,1.0183330682679568,{"$f":"IF(L1123=\"\",\"\",IF(M1123<Results!D$12,1,0))","v":1}]
[null,null,null,null,null,null,null,null,null,null,null,1123,1.0221674679142621,{"$f":"IF(L1124=\"\",\"\",IF(M1124<Results!D$12,1,0))","v":1}]
[null,null,null,null,null,null,null,null,null,null,null,1124,1.0123878517090532,{"$f":"IF(L1125=\"\",\"\",IF(M1125<Results!D$12,1,0))","v":1}]
[null,null,null,null,null,null,null,null,null,null,null,1125,1.0375159273638477,{"$f":"IF(L1126=\"\",\"\",IF(M1126<Results!D$12,1,0))","v":0}]
[null,null,null,null,null,null,null,null,null,null,null,1126,1.0127753041843588,{"$f":"IF(L1127=\"\",\"\",IF(M1127<Results!D$12,1,0))","v":1}]
[null,null,null,null,null,null,null,null,null,null,null,1127,1.0227670111000473,{"$f":"IF(L1128=\"\",\"\",IF(M1128<Results!D$12,1,0))","v":1}]
[null,null,null,null,null,null,null,null,null,null,null,1128,1.0533978786052289,{"$f":"IF(L1129=\"\",\"\",IF(M1129<Results!D$12,1,0))","v":0}]
[null,null,null,null,null,null,null,null,null,null,null,1129,1.0288282704110927,{"$f":"IF(L1130=\"\",\"\",IF(M1130<Results!D$12,1,0))","v":1}]
[null,null,null,null,null,null,null,null,null,null,null,1130,1.0492833265378136,{"$f":"IF(L1131=\"\",\"\",IF(M1131<Results!D$12,1,0))","v":0}]
[null,null,null,null,null,null,null,null,null,null,null,1131,1.0195725299111849,{"$f":"IF(L1132=\"\",\"\",IF(M1132<Results!D$12,1,0))","v":1}]
[null,null,null,null,null,null,null,null,null,null,null,1132,1.0506254303499964,{"$f":"IF(L1133=\"\",\"\",IF(M1133<Results!D$12,1,0))","v":0}]
[null,null,null,null,null,null,null,null,null,null,null,1133,1.0268482496849551,{"$f":"IF(L1134=\"\",\"\",IF(M1134<Results!D$12,1,0))","v":1}]
[null,null,null,null,null,null,null,null,null,null,null,1134,1.0414877687895823,{"$f":"IF(L1135=\"\",\"\",IF(M1135<Results!D$12,1,0))","v":0}]
[null,null,null,null,null,null,null,null,null,null,null,1135,1.0317837219990427,{"$f":"IF(L1136=\"\",\"\",IF(M1136<Results!D$12,1,0))","v":1}]
[null,null,null,null,null,null,null,null,null,null,null,1136,1.049028462011413,{"$f":"IF(L1137=\"\",\"\",IF(M1137<Results!D$12,1,0))","v":0}]
[null,null,null,null,null,null,null,null,null,null,null,1137,1.0526634597958158,{"$f":"IF(L1138=\"\",\"\",IF(M1138<Results!D$12,1,0))","v":0}]
[null,null,null,null,null,null,null,null,null,null,null,1138,1.0579590894817881,{"$f":"IF(L1139=\"\",\"\",IF(M1139<Results!D$12,1,0))","v":0}]
[null,null,null,null,null,null,null,null,null,null,null,1139,1.0327477169437116,{"$f":"IF(L1140=\"\",\"\",IF(M1140<Results!D$12,1,0))","v":1}]
[null,null,null,null,null,null,null,null,null,null,null,1140,1.045314370948911,{"$f":"IF(L1141=\"\",\"\",IF(M1141<Results!D$12,1,0))","v":0}]
[null,null,null,null,null,null,null,null,null,null,null,1141,1.0220721089865352,{"$f":"IF(L1142=\"\",\"\",IF(M1142<Results!D$12,1,0))","v":1}]
[null,null,null,null,null,null,null,null,null,null,null,1142,1.0311645255739068,{"$f":"IF(L1143=\"\",\"\",IF(M1143<Results!D$12,1,0))","v":1}]
[null,null,null,null,null,null,null,null,null,null,null,1143,1.0487575097138668,{"$f":"IF(L1144=\"\",\"\",IF(M1144<Results!D$12,1,0))","v":0}]
[null,null,null,null,null,null,null,null,null,null,null,1144,1.0501946391579531,{"$f":"IF(L1145=\"\",\"\",IF(M1145<Results!D$12,1,0))","v":0}]
[null,null,null,null,null,null,null,null,null,null,null,1145,1.0148747415297017,{"$f":"IF(L1146=\"\",\"\",IF(M1146<Results!D$12,1,0))","v":1}]
[null,null,null,null,null,null,null,null,null,null,null,1146,1.0623637649491195,{"$f":"IF(L1147=\"\",\"\",IF(M1147<Results!D$12,1,0))","v":0}]
[null,null,null,null,null,null,null,null,null,null,null,1147,1.0304682457988885,{"$f":"IF(L1148=\"\",\"\",IF(M1148<Results!D$12,1,0))","v":1}]
[null,null,null,null,null,null,null,null,null,null,null,1148,1.0354966551353741,{"$f":"IF(L1149=\"\",\"\",IF(M1149<Results!D$12,1,0))","v":1}]
[null,null,null,null,null,null,null,null,null,null,null,1149,1.0243423659317239,{"$f":"IF(L1150=\"\",\"\",IF(M1150<Results!D$12,1,0))","v":1}]
[null,null,null,null,null,null,null,null,null,null,null,1150,1.0292544578533334,{"$f":"IF(L1151=\"\",\"\",IF(M1151<Results!D$12,1,0))","v":1}]
[null,null,null,null,null,null,null,null,null,null,null,1151,1.0308584548200077,{"$f":"IF(L1152=\"\",\"\",IF(M1152<Results!D$12,1,0))","v":1}]
[null,null,null,null,null,null,null,null,null,null,null,1152,1.0267801664257601,{"$f":"IF(L1153=\"\",\"\",IF(M1153<Results!D$12,1,0))","v":1}]
[null,null,null,null,null,null,null,null,null,null,null,1153,1.0498844390645288,{"$f":"IF(L1154=\"\",\"\",IF(M1154<Results!D$12,1,0))","v":0}]
[null,null,null,null,null,null,null,null,null,null,null,{"$f":"IF(M1155=\"\",\"\",ROW(L1155)-1)","v":1154},1.0251223804599605,{"$f":"IF(L1155=\"\",\"\",IF(M1155<Results!D$12,1,0))","v":1}]
[null,null,null,null,null,null,null,null,null,null,null,1155,1.0587943787896719,{"$f":"IF(L1156=\"\",\"\",IF(M1156<Results!D$12,1,0))","v":0}]
[null,null,null,null,null,null,null,null,null,null,null,1156,1.0529661816041167,{"$f":"IF(L1157=\"\",\"\",IF(M1157<Results!D$12,1,0))","v":0}]
[null,null,null,null,null,null,null,null,null,null,null,1157,1.0276993932710441,{"$f":"IF(L1158=\"\",\"\",IF(M1158<Results!D$12,1,0))","v":1}]
[null,null,null,null,null,null,null,null,null,null,null,1158,1.0444278924535055,{"$f":"IF(L1159=\"\",\"\",IF(M1159<Results!D$12,1,0))","v":0}]
[null,null,null,null,null,null,null,null,null,null,null,1159,1.0269563293920623,{"$f":"IF(L1160=\"\",\"\",IF(M1160<Results!D$12,1,0))","v":1}]
[null,null,null,null,null,null,null,null,null,null,null,1160,1.0434516042087572,{"$f":"IF(L1161=\"\",\"\",IF(M1161<Results!D$12,1,0))","v":0}]
[null,null,null,null,null,null,null,null,null,null,null,1161,1.0325252226674884,{"$f":"IF(L1162=\"\",\"\",IF(M1162<Results!D$12,1,0))","v":1}]
[null,null,null,null,null,null,null,null,null,null,null,1162,1.0194931039682342,{"$f":"IF(L1163=\"\",\"\",IF(M1163<Results!D$12,1,0))","v":1}]
[null,null,null,null,null,null,null,null,null,null,null,1163,1.0319956648591329,{"$f":"IF(L1164=\"\",\"\",IF(M1164<Results!D$12,1,0))","v":1}]
[null,null,null,null,null,null,null,null,null,null,null,1164,1.0403777985286915,{"$f":"IF(L1165=\"\",\"\",IF(M1165<Results!D$12,1,0))","v":0}]
[null,null,null,null,null,null,null,null,null,null,null,1165,1.0612244674953322,{"$f":"IF(L1166=\"\",\"\",IF(M1166<Results!D$12,1,0))","v":0}]
[null,null,null,null,null,null,null,null,null,null,null,1166,1.0250067161306669,{"$f":"IF(L1167=\"\",\"\",IF(M1167<Results!D$12,1,0))","v":1}]
[null,null,null,null,null,null,null,null,null,null,null,1167,1.0236304991666307,{"$f":"IF(L1168=\"\",\"\",IF(M1168<Results!D$12,1,0))","v":1}]
[null,null,null,null,null,null,null,null,null,null,null,1168,1.0333465879431996,{"$f":"IF(L1169=\"\",\"\",IF(M1169<Results!D$12,1,0))","v":1}]
[null,null,null,null,null,null,null,null,null,null,null,1169,1.043532541679226,{"$f":"IF(L1170=\"\",\"\",IF(M1170<Results!D$12,1,0))","v":0}]
[null,null,null,null,null,null,null,null,null,null,null,1170,1.0422039767687186,{"$f":"IF(L1171=\"\",\"\",IF(M1171<Results!D$12,1,0))","v":0}]
[null,null,null,null,null,null,null,null,null,null,null,1171,1.0339960704616322,{"$f":"IF(L1172=\"\",\"\",IF(M1172<Results!D$12,1,0))","v":1}]
[null,null,null,null,null,null,null,null,null,null,null,1172,1.0796469780536684,{"$f":"IF(L1173=\"\",\"\",IF(M1173<Results!D$12,1,0))","v":0}]
[null,null,null,null,null,null,null,null,null,null,null,1173,1.0509002647567975,{"$f":"IF(L1174=\"\",\"\",IF(M1174<Results!D$12,1,0))","v":0}]
[null,null,null,null,null,null,null,null,null,null,null,1174,1.0351502012727729,{"$f":"IF(L1175=\"\",\"\",IF(M1175<Results!D$12,1,0))","v":1}]
[null,null,null,null,null,null,null,null,null,null,null,1175,1.0362408899382543,{"$f":"IF(L1176=\"\",\"\",IF(M1176<Results!D$12,1,0))","v":1}]
[null,null,null,null,null,null,null,null,null,null,null,1176,1.0127531470120053,{"$f":"IF(L1177=\"\",\"\",IF(M1177<Results!D$12,1,0))","v":1}]
[null,null,null,null,null,null,null,null,null,null,null,1177,1.0188669258054943,{"$f":"IF(L1178=\"\",\"\",IF(M1178<Results!D$12,1,0))","v":1}]
[null,null,null,null,null,null,null,null,null,null,null,1178,1.059364451029212,{"$f":"IF(L1179=\"\",\"\",IF(M1179<Results!D$12,1,0))","v":0}]
[null,null,null,null,null,null,null,null,null,null,null,1179,1.0390169083888765,{"$f":"IF(L1180=\"\",\"\",IF(M1180<Results!D$12,1,0))","v":0}]
[null,null,null,null,null,null,null,null,null,null,null,1180,1.0625958657453438,{"$f":"IF(L1181=\"\",\"\",IF(M1181<Results!D$12,1,0))","v":0}]
[null,null,null,null,null,null,null,null,null,null,null,1181,1.0264209586794129,{"$f":"IF(L1182=\"\",\"\",IF(M1182<Results!D$12,1,0))","v":1}]
[null,null,null,null,null,null,null,null,null,null,null,1182,1.0256849964754209,{"$f":"IF(L1183=\"\",\"\",IF(M1183<Results!D$12,1,0))","v":1}]
[null,null,null,null,null,null,null,null,null,null,null,1183,1.0345388782216762,{"$f":"IF(L1184=\"\",\"\",IF(M1184<Results!D$12,1,0))","v":1}]
[null,null,null,null,null,null,null,null,null,null,null,1184,1.0401630201745442,{"$f":"IF(L1185=\"\",\"\",IF(M1185<Results!D$12,1,0))","v":0}]
[null,null,null,null,null,null,null,null,null,null,null,1185,1.0519884440685034,{"$f":"IF(L1186=\"\",\"\",IF(M1186<Results!D$12,1,0))","v":0}]
[null,null,null,null,null,null,null,null,null,null,null,1186,1.0286255366329731,{"$f":"IF(L1187=\"\",\"\",IF(M1187<Results!D$12,1,0))","v":1}]
[null,null,null,null,null,null,null,null,null,null,null,1187,1.0581890664340301,{"$f":"IF(L1188=\"\",\"\",IF(M1188<Results!D$12,1,0))","v":0}]
[null,null,null,null,null,null,null,null,null,null,null,1188,1.0419058493346067,{"$f":"IF(L1189=\"\",\"\",IF(M1189<Results!D$12,1,0))","v":0}]
[null,null,null,null,null,null,null,null,null,null,null,1189,1.0246097550148292,{"$f":"IF(L1190=\"\",\"\",IF(M1190<Results!D$12,1,0))","v":1}]
[null,null,null,null,null,null,null,null,null,null,null,1190,1.0243106133913968,{"$f":"IF(L1191=\"\",\"\",IF(M1191<Results!D$12,1,0))","v":1}]
[null,null,null,null,null,null,null,null,null,null,null,1191,1.0191165332236152,{"$f":"IF(L1192=\"\",\"\",IF(M1192<Results!D$12,1,0))","v":1}]
[null,null,null,null,null,null,null,null,null,null,null,1192,1.0238876205670913,{"$f":"IF(L1193=\"\",\"\",IF(M1193<Results!D$12,1,0))","v":1}]
[null,null,null,null,null,null,null,null,null,null,null,1193,1.0108255643880975,{"$f":"IF(L1194=\"\",\"\",IF(M1194<Results!D$12,1,0))","v":1}]
[null,null,null,null,null,null,null,null,null,null,null,1194,1.0255045813608796,{"$f":"IF(L1195=\"\",\"\",IF(M1195<Results!D$12,1,0))","v":1}]
[null,null,null,null,null,null,null,null,null,null,null,1195,1.0415241341450661,{"$f":"IF(L1196=\"\",\"\",IF(M1196<Results!D$12,1,0))","v":0}]
[null,null,null,null,null,null,null,null,null,null,null,1196,1.0185500801145084,{"$f":"IF(L1197=\"\",\"\",IF(M1197<Results!D$12,1,0))","v":1}]
[null,null,null,null,null,null,null,null,null,null,null,1197,1.0484339473106374,{"$f":"IF(L1198=\"\",\"\",IF(M1198<Results!D$12,1,0))","v":0}]
[null,null,null,null,null,null,null,null,null,null,null,1198,1.0546694067961291,{"$f":"IF(L1199=\"\",\"\",IF(M1199<Results!D$12,1,0))","v":0}]
[null,null,null,null,null,null,null,null,null,null,null,1199,1.0558409668632533,{"$f":"IF(L1200=\"\",\"\",IF(M1200<Results!D$12,1,0))","v":0}]
[null,null,null,null,null,null,null,null,null,null,null,1200,1.0348330514603872,{"$f":"IF(L1201=\"\",\"\",IF(M1201<Results!D$12,1,0))","v":1}]
[null,null,null,null,null,null,null,null,null,null,null,1201,1.0409125717813559,{"$f":"IF(L1202=\"\",\"\",IF(M1202<Results!D$12,1,0))","v":0}]
[null,null,null,null,null,null,null,null,null,null,null,1202,1.0689767215207568,{"$f":"IF(L1203=\"\",\"\",IF(M1203<Results!D$12,1,0))","v":0}]
[null,null,null,null,null,null,null,null,null,null,null,1203,1.0565818661718467,{"$f":"IF(L1204=\"\",\"\",IF(M1204<Results!D$12,1,0))","v":0}]
[null,null,null,null,null,null,null,null,null,null,null,1204,1.0272490599724065,{"$f":"IF(L1205=\"\",\"\",IF(M1205<Results!D$12,1,0))","v":1}]
[null,null,null,null,null,null,null,null,null,null,null,1205,1.0205584470198334,{"$f":"IF(L1206=\"\",\"\",IF(M1206<Results!D$12,1,0))","v":1}]
[null,null,null,null,null,null,null,null,null,null,null,1206,1.0251687672185703,{"$f":"IF(L1207=\"\",\"\",IF(M1207<Results!D$12,1,0))","v":1}]
[null,null,null,null,null,null,null,null,null,null,null,1207,1.0150055978031634,{"$f":"IF(L1208=\"\",\"\",IF(M1208<Results!D$12,1,0))","v":1}]
[null,null,null,null,null,null,null,null,null,null,null,1208,1.0222985401917337,{"$f":"IF(L1209=\"\",\"\",IF(M1209<Results!D$12,1,0))","v":1}]
[null,null,null,null,null,null,null,null,null,null,null,1209,1.0358313016232816,{"$f":"IF(L1210=\"\",\"\",IF(M1210<Results!D$12,1,0))","v":1}]
[null,null,null,null,null,null,null,null,null,null,null,1210,1.011426076614069,{"$f":"IF(L1211=\"\",\"\",IF(M1211<Results!D$12,1,0))","v":1}]
[null,null,null,null,null,null,null,null,null,null,null,1211,1.0378207459276554,{"$f":"IF(L1212=\"\",\"\",IF(M1212<Results!D$12,1,0))","v":0}]
[null,null,null,null,null,null,null,null,null,null,null,1212,1.0333258636785396,{"$f":"IF(L1213=\"\",\"\",IF(M1213<Results!D$12,1,0))","v":1}]
[null,null,null,null,null,null,null,null,null,null,null,1213,1.0541166827220456,{"$f":"IF(L1214=\"\",\"\",IF(M1214<Results!D$12,1,0))","v":0}]
[null,null,null,null,null,null,null,null,null,null,null,1214,1.0490338620909032,{"$f":"IF(L1215=\"\",\"\",IF(M1215<Results!D$12,1,0))","v":0}]
[null,null,null,null,null,null,null,null,null,null,null,1215,1.0233849918890825,{"$f":"IF(L1216=\"\",\"\",IF(M1216<Results!D$12,1,0))","v":1}]
[null,null,null,null,null,null,null,null,null,null,null,1216,1.0236380270878109,{"$f":"IF(L1217=\"\",\"\",IF(M1217<Results!D$12,1,0))","v":1}]
[null,null,null,null,null,null,null,null,null,null,null,1217,1.0514613157066206,{"$f":"IF(L1218=\"\",\"\",IF(M1218<Results!D$12,1,0))","v":0}]
[null,null,null,null,null,null,null,null,null,null,null,{"$f":"IF(M1219=\"\",\"\",ROW(L1219)-1)","v":1218},1.041560457495238,{"$f":"IF(L1219=\"\",\"\",IF(M1219<Results!D$12,1,0))","v":0}]
[null,null,null,null,null,null,null,null,null,null,null,1219,1.0362459065010181,{"$f":"IF(L1220=\"\",\"\",IF(M1220<Results!D$12,1,0))","v":1}]
[null,null,null,null,null,null,null,null,null,null,null,1220,1.044009411693809,{"$f":"IF(L1221=\"\",\"\",IF(M1221<Results!D$12,1,0))","v":0}]
[null,null,null,null,null,null,null,null,null,null,null,1221,1.0486233922755481,{"$f":"IF(L1222=\"\",\"\",IF(M1222<Results!D$12,1,0))","v":0}]
[null,null,null,null,null,null,null,null,null,null,null,1222,1.0396436724116296,{"$f":"IF(L1223=\"\",\"\",IF(M1223<Results!D$12,1,0))","v":0}]
[null,null,null,null,null,null,null,null,null,null,null,1223,1.0135401232246817,{"$f":"IF(L1224=\"\",\"\",IF(M1224<Results!D$12,1,0))","v":1}]
[null,null,null,null,null,null,null,null,null,null,null,1224,1.0352623697730046,{"$f":"IF(L1225=\"\",\"\",IF(M1225<Results!D$12,1,0))","v":1}]
[null,null,null,null,null,null,null,null,null,null,null,1225,1.0308271570209537,{"$f":"IF(L1226=\"\",\"\",IF(M1226<Results!D$12,1,0))","v":1}]
[null,null,null,null,null,null,null,null,null,null,null,1226,1.0373860466389908,{"$f":"IF(L1227=\"\",\"\",IF(M1227<Results!D$12,1,0))","v":1}]
[null,null,null,null,null,null,null,null,null,null,null,1227,1.0377004532548471,{"$f":"IF(L1228=\"\",\"\",IF(M1228<Results!D$12,1,0))","v":0}]
[null,null,null,null,null,null,null,null,null,null,null,1228,1.0461296108316327,{"$f":"IF(L1229=\"\",\"\",IF(M1229<Results!D$12,1,0))","v":0}]
[null,null,null,null,null,null,null,null,null,null,null,1229,1.0374076250729596,{"$f":"IF(L1230=\"\",\"\",IF(M1230<Results!D$12,1,0))","v":1}]
[null,null,null,null,null,null,null,null,null,null,null,1230,1.011556574219262,{"$f":"IF(L1231=\"\",\"\",IF(M1231<Results!D$12,1,0))","v":1}]
[null,null,null,null,null,null,null,null,null,null,null,1231,1.0386143558352903,{"$f":"IF(L1232=\"\",\"\",IF(M1232<Results!D$12,1,0))","v":0}]
[null,null,null,null,null,null,null,null,null,null,null,1232,1.0152821478826908,{"$f":"IF(L1233=\"\",\"\",IF(M1233<Results!D$12,1,0))","v":1}]
[null,null,null,null,null,null,null,null,null,null,null,1233,1.0488542950377786,{"$f":"IF(L1234=\"\",\"\",IF(M1234<Results!D$12,1,0))","v":0}]
[null,null,null,null,null,null,null,null,null,null,null,1234,1.0418714136285787,{"$f":"IF(L1235=\"\",\"\",IF(M1235<Results!D$12,1,0))","v":0}]
[null,null,null,null,null,null,null,null,null,null,null,1235,1.0550388545421134,{"$f":"IF(L1236=\"\",\"\",IF(M1236<Results!D$12,1,0))","v":0}]
[null,null,null,null,null,null,null,null,null,null,null,1236,1.0343944814046115,{"$f":"IF(L1237=\"\",\"\",IF(M1237<Results!D$12,1,0))","v":1}]
[null,null,null,null,null,null,null,null,null,null,null,1237,1.0517031564187365,{"$f":"IF(L1238=\"\",\"\",IF(M1238<Results!D$12,1,0))","v":0}]
[null,null,null,null,null,null,null,null,null,null,null,1238,1.0429612815927636,{"$f":"IF(L1239=\"\",\"\",IF(M1239<Results!D$12,1,0))","v":0}]
[null,null,null,null,null,null,null,null,null,null,null,1239,1.0709983537793488,{"$f":"IF(L1240=\"\",\"\",IF(M1240<Results!D$12,1,0))","v":0}]
[null,null,null,null,null,null,null,null,null,null,null,1240,1.04700967380981,{"$f":"IF(L1241=\"\",\"\",IF(M1241<Results!D$12,1,0))","v":0}]
[null,null,null,null,null,null,null,null,null,null,null,1241,1.0400405023132939,{"$f":"IF(L1242=\"\",\"\",IF(M1242<Results!D$12,1,0))","v":0}]
[null,null,null,null,null,null,null,null,null,null,null,1242,1.0117397315165966,{"$f":"IF(L1243=\"\",\"\",IF(M1243<Results!D$12,1,0))","v":1}]
[null,null,null,null,null,null,null,null,null,null,null,1243,1.0431679052682821,{"$f":"IF(L1244=\"\",\"\",IF(M1244<Results!D$12,1,0))","v":0}]
[null,null,null,null,null,null,null,null,null,null,null,1244,1.0250991267204779,{"$f":"IF(L1245=\"\",\"\",IF(M1245<Results!D$12,1,0))","v":1}]
[null,null,null,null,null,null,null,null,null,null,null,1245,1.0412168699868727,{"$f":"IF(L1246=\"\",\"\",IF(M1246<Results!D$12,1,0))","v":0}]
[null,null,null,null,null,null,null,null,null,null,null,1246,1.0205607839484903,{"$f":"IF(L1247=\"\",\"\",IF(M1247<Results!D$12,1,0))","v":1}]
[null,null,null,null,null,null,null,null,null,null,null,1247,1.0213907892366272,{"$f":"IF(L1248=\"\",\"\",IF(M1248<Results!D$12,1,0))","v":1}]
[null,null,null,null,null,null,null,null,null,null,null,1248,1.0511066446898296,{"$f":"IF(L1249=\"\",\"\",IF(M1249<Results!D$12,1,0))","v":0}]
[null,null,null,null,null,null,null,null,null,null,null,1249,1.0637748817184964,{"$f":"IF(L1250=\"\",\"\",IF(M1250<Results!D$12,1,0))","v":0}]
[null,null,null,null,null,null,null,null,null,null,null,1250,1.0259347320305476,{"$f":"IF(L1251=\"\",\"\",IF(M1251<Results!D$12,1,0))","v":1}]
[null,null,null,null,null,null,null,null,null,null,null,1251,1.037531467732568,{"$f":"IF(L1252=\"\",\"\",IF(M1252<Results!D$12,1,0))","v":0}]
[null,null,null,null,null,null,null,null,null,null,null,1252,1.064691558884177,{"$f":"IF(L1253=\"\",\"\",IF(M1253<Results!D$12,1,0))","v":0}]
[null,null,null,null,null,null,null,null,null,null,null,1253,1.0401010166410669,{"$f":"IF(L1254=\"\",\"\",IF(M1254<Results!D$12,1,0))","v":0}]
[null,null,null,null,null,null,null,null,null,null,null,1254,1.0466595425655916,{"$f":"IF(L1255=\"\",\"\",IF(M1255<Results!D$12,1,0))","v":0}]
[null,null,null,null,null,null,null,null,null,null,null,1255,1.0358112237055408,{"$f":"IF(L1256=\"\",\"\",IF(M1256<Results!D$12,1,0))","v":1}]
[null,null,null,null,null,null,null,null,null,null,null,1256,1.0455749096028542,{"$f":"IF(L1257=\"\",\"\",IF(M1257<Results!D$12,1,0))","v":0}]
[null,null,null,null,null,null,null,null,null,null,null,1257,1.0327757872432815,{"$f":"IF(L1258=\"\",\"\",IF(M1258<Results!D$12,1,0))","v":1}]
[null,null,null,null,null,null,null,null,null,null,null,1258,1.0160084492898149,{"$f":"IF(L1259=\"\",\"\",IF(M1259<Results!D$12,1,0))","v":1}]
[null,null,null,null,null,null,null,null,null,null,null,1259,1.0466467352111606,{"$f":"IF(L1260=\"\",\"\",IF(M1260<Results!D$12,1,0))","v":0}]
[null,null,null,null,null,null,null,null,null,null,null,1260,1.0272453323142601,{"$f":"IF(L1261=\"\",\"\",IF(M1261<Results!D$12,1,0))","v":1}]
[null,null,null,null,null,null,null,null,null,null,null,1261,1.0425441231068358,{"$f":"IF(L1262=\"\",\"\",IF(M1262<Results!D$12,1,0))","v":0}]
[null,null,null,null,null,null,null,null,null,null,null,1262,1.0153369803389947,{"$f":"IF(L1263=\"\",\"\",IF(M1263<Results!D$12,1,0))","v":1}]
[null,null,null,null,null,null,null,null,null,null,null,1263,1.0454381634603467,{"$f":"IF(L1264=\"\",\"\",IF(M1264<Results!D$12,1,0))","v":0}]
[null,null,null,null,null,null,null,null,null,null,null,1264,1.0323973776048072,{"$f":"IF(L1265=\"\",\"\",IF(M1265<Results!D$12,1,0))","v":1}]
[null,null,null,null,null,null,null,null,null,null,null,1265,1.0373535213537763,{"$f":"IF(L1266=\"\",\"\",IF(M1266<Results!D$12,1,0))","v":1}]
[null,null,null,null,null,null,null,null,null,null,null,1266,1.0594596884254268,{"$f":"IF(L1267=\"\",\"\",IF(M1267<Results!D$12,1,0))","v":0}]
[null,null,null,null,null,null,null,null,null,null,null,1267,1.0349452149684026,{"$f":"IF(L1268=\"\",\"\",IF(M1268<Results!D$12,1,0))","v":1}]
[null,null,null,null,null,null,null,null,null,null,null,1268,1.0399551494127901,{"$f":"IF(L1269=\"\",\"\",IF(M1269<Results!D$12,1,0))","v":0}]
[null,null,null,null,null,null,null,null,null,null,null,1269,1.0336286878936165,{"$f":"IF(L1270=\"\",\"\",IF(M1270<Results!D$12,1,0))","v":1}]
[null,null,null,null,null,null,null,null,null,null,null,1270,1.0632162173948791,{"$f":"IF(L1271=\"\",\"\",IF(M1271<Results!D$12,1,0))","v":0}]
[null,null,null,null,null,null,null,null,null,null,null,1271,1.0255672230153332,{"$f":"IF(L1272=\"\",\"\",IF(M1272<Results!D$12,1,0))","v":1}]
[null,null,null,null,null,null,null,null,null,null,null,1272,1.0202442569664172,{"$f":"IF(L1273=\"\",\"\",IF(M1273<Results!D$12,1,0))","v":1}]
[null,null,null,null,null,null,null,null,null,null,null,1273,1.0519695753833287,{"$f":"IF(L1274=\"\",\"\",IF(M1274<Results!D$12,1,0))","v":0}]
[null,null,null,null,null,null,null,null,null,null,null,1274,1.021125705958468,{"$f":"IF(L1275=\"\",\"\",IF(M1275<Results!D$12,1,0))","v":1}]
[null,null,null,null,null,null,null,null,null,null,null,1275,1.0433033359282726,{"$f":"IF(L1276=\"\",\"\",IF(M1276<Results!D$12,1,0))","v":0}]
[null,null,null,null,null,null,null,null,null,null,null,1276,1.0511584330234136,{"$f":"IF(L1277=\"\",\"\",IF(M1277<Results!D$12,1,0))","v":0}]
[null,null,null,null,null,null,null,null,null,null,null,1277,1.0553464054330506,{"$f":"IF(L1278=\"\",\"\",IF(M1278<Results!D$12,1,0))","v":0}]
[null,null,null,null,null,null,null,null,null,null,null,1278,1.0282342522770036,{"$f":"IF(L1279=\"\",\"\",IF(M1279<Results!D$12,1,0))","v":1}]
[null,null,null,null,null,null,null,null,null,null,null,1279,1.0505603025041088,{"$f":"IF(L1280=\"\",\"\",IF(M1280<Results!D$12,1,0))","v":0}]
[null,null,null,null,null,null,null,null,null,null,null,1280,1.0428010445401383,{"$f":"IF(L1281=\"\",\"\",IF(M1281<Results!D$12,1,0))","v":0}]
[null,null,null,null,null,null,null,null,null,null,null,1281,1.0254978685917646,{"$f":"IF(L1282=\"\",\"\",IF(M1282<Results!D$12,1,0))","v":1}]
[null,null,null,null,null,null,null,null,null,null,null,{"$f":"IF(M1283=\"\",\"\",ROW(L1283)-1)","v":1282},1.0401463696986386,{"$f":"IF(L1283=\"\",\"\",IF(M1283<Results!D$12,1,0))","v":0}]
[null,null,null,null,null,null,null,null,null,null,null,1283,1.053275893781995,{"$f":"IF(L1284=\"\",\"\",IF(M1284<Results!D$12,1,0))","v":0}]
[null,null,null,null,null,null,null,null,null,null,null,1284,1.0409014623858464,{"$f":"IF(L1285=\"\",\"\",IF(M1285<Results!D$12,1,0))","v":0}]
[null,null,null,null,null,null,null,null,null,null,null,1285,1.0237517602424722,{"$f":"IF(L1286=\"\",\"\",IF(M1286<Results!D$12,1,0))","v":1}]
[null,null,null,null,null,null,null,null,null,null,null,1286,1.0589122977048864,{"$f":"IF(L1287=\"\",\"\",IF(M1287<Results!D$12,1,0))","v":0}]
[null,null,null,null,null,null,null,null,null,null,null,1287,1.0480537942369692,{"$f":"IF(L1288=\"\",\"\",IF(M1288<Results!D$12,1,0))","v":0}]
[null,null,null,null,null,null,null,null,null,null,null,1288,1.0481444427467359,{"$f":"IF(L1289=\"\",\"\",IF(M1289<Results!D$12,1,0))","v":0}]
[null,null,null,null,null,null,null,null,null,null,null,1289,1.0380579516605764,{"$f":"IF(L1290=\"\",\"\",IF(M1290<Results!D$12,1,0))","v":0}]
[null,null,null,null,null,null,null,null,null,null,null,1290,1.0369444349217201,{"$f":"IF(L1291=\"\",\"\",IF(M1291<Results!D$12,1,0))","v":1}]
[null,null,null,null,null,null,null,null,null,null,null,1291,1.0209540166772755,{"$f":"IF(L1292=\"\",\"\",IF(M1292<Results!D$12,1,0))","v":1}]
[null,null,null,null,null,null,null,null,null,null,null,1292,1.052239962441553,{"$f":"IF(L1293=\"\",\"\",IF(M1293<Results!D$12,1,0))","v":0}]
[null,null,null,null,null,null,null,null,null,null,null,1293,1.0365905198920922,{"$f":"IF(L1294=\"\",\"\",IF(M1294<Results!D$12,1,0))","v":1}]
[null,null,null,null,null,null,null,null,null,null,null,1294,1.0268850860526273,{"$f":"IF(L1295=\"\",\"\",IF(M1295<Results!D$12,1,0))","v":1}]
[null,null,null,null,null,null,null,null,null,null,null,1295,1.0587026604863086,{"$f":"IF(L1296=\"\",\"\",IF(M1296<Results!D$12,1,0))","v":0}]
[null,null,null,null,null,null,null,null,null,null,null,1296,1.029859129054602,{"$f":"IF(L1297=\"\",\"\",IF(M1297<Results!D$12,1,0))","v":1}]
[null,null,null,null,null,null,null,null,null,null,null,1297,1.013021787814244,{"$f":"IF(L1298=\"\",\"\",IF(M1298<Results!D$12,1,0))","v":1}]
[null,null,null,null,null,null,null,null,null,null,null,1298,1.0319970481196199,{"$f":"IF(L1299=\"\",\"\",IF(M1299<Results!D$12,1,0))","v":1}]
[null,null,null,null,null,null,null,null,null,null,null,1299,1.0609141389752463,{"$f":"IF(L1300=\"\",\"\",IF(M1300<Results!D$12,1,0))","v":0}]
[null,null,null,null,null,null,null,null,null,null,null,1300,1.0543381037567086,{"$f":"IF(L1301=\"\",\"\",IF(M1301<Results!D$12,1,0))","v":0}]
[null,null,null,null,null,null,null,null,null,null,null,1301,1.0256292207763884,{"$f":"IF(L1302=\"\",\"\",IF(M1302<Results!D$12,1,0))","v":1}]
[null,null,null,null,null,null,null,null,null,null,null,1302,1.0561519227908045,{"$f":"IF(L1303=\"\",\"\",IF(M1303<Results!D$12,1,0))","v":0}]
[null,null,null,null,null,null,null,null,null,null,null,1303,1.0369835082899637,{"$f":"IF(L1304=\"\",\"\",IF(M1304<Results!D$12,1,0))","v":1}]
[null,null,null,null,null,null,null,null,null,null,null,1304,1.0503781415592004,{"$f":"IF(L1305=\"\",\"\",IF(M1305<Results!D$12,1,0))","v":0}]
[null,null,null,null,null,null,null,null,null,null,null,1305,1.0430241039440089,{"$f":"IF(L1306=\"\",\"\",IF(M1306<Results!D$12,1,0))","v":0}]
[null,null,null,null,null,null,null,null,null,null,null,1306,1.0590643039182828,{"$f":"IF(L1307=\"\",\"\",IF(M1307<Results!D$12,1,0))","v":0}]
[null,null,null,null,null,null,null,null,null,null,null,1307,1.019052730389189,{"$f":"IF(L1308=\"\",\"\",IF(M1308<Results!D$12,1,0))","v":1}]
[null,null,null,null,null,null,null,null,null,null,null,1308,1.0392103579147569,{"$f":"IF(L1309=\"\",\"\",IF(M1309<Results!D$12,1,0))","v":0}]
[null,null,null,null,null,null,null,null,null,null,null,1309,1.0401208612460264,{"$f":"IF(L1310=\"\",\"\",IF(M1310<Results!D$12,1,0))","v":0}]
[null,null,null,null,null,null,null,null,null,null,null,1310,1.0325173310461295,{"$f":"IF(L1311=\"\",\"\",IF(M1311<Results!D$12,1,0))","v":1}]
[null,null,null,null,null,null,null,null,null,null,null,1311,1.0199818892412853,{"$f":"IF(L1312=\"\",\"\",IF(M1312<Results!D$12,1,0))","v":1}]
[null,null,null,null,null,null,null,null,null,null,null,1312,1.0777399965963521,{"$f":"IF(L1313=\"\",\"\",IF(M1313<Results!D$12,1,0))","v":0}]
[null,null,null,null,null,null,null,null,null,null,null,1313,1.0872148770034096,{"$f":"IF(L1314=\"\",\"\",IF(M1314<Results!D$12,1,0))","v":0}]
[null,null,null,null,null,null,null,null,null,null,null,1314,1.0298094606410828,{"$f":"IF(L1315=\"\",\"\",IF(M1315<Results!D$12,1,0))","v":1}]
[null,null,null,null,null,null,null,null,null,null,null,1315,1.0403857970757877,{"$f":"IF(L1316=\"\",\"\",IF(M1316<Results!D$12,1,0))","v":0}]
[null,null,null,null,null,null,null,null,null,null,null,1316,1.0175378774023056,{"$f":"IF(L1317=\"\",\"\",IF(M1317<Results!D$12,1,0))","v":1}]
[null,null,null,null,null,null,null,null,null,null,null,1317,1.0311010258183495,{"$f":"IF(L1318=\"\",\"\",IF(M1318<Results!D$12,1,0))","v":1}]
[null,null,null,null,null,null,null,null,null,null,null,1318,1.0391614660996809,{"$f":"IF(L1319=\"\",\"\",IF(M1319<Results!D$12,1,0))","v":0}]
[null,null,null,null,null,null,null,null,null,null,null,1319,1.0101636485876728,{"$f":"IF(L1320=\"\",\"\",IF(M1320<Results!D$12,1,0))","v":1}]
[null,null,null,null,null,null,null,null,null,null,null,1320,1.0389138191467984,{"$f":"IF(L1321=\"\",\"\",IF(M1321<Results!D$12,1,0))","v":0}]
[null,null,null,null,null,null,null,null,null,null,null,1321,1.0087164487364331,{"$f":"IF(L1322=\"\",\"\",IF(M1322<Results!D$12,1,0))","v":1}]
[null,null,null,null,null,null,null,null,null,null,null,1322,1.0447779770271035,{"$f":"IF(L1323=\"\",\"\",IF(M1323<Results!D$12,1,0))","v":0}]
[null,null,null,null,null,null,null,null,null,null,null,1323,1.026552523337271,{"$f":"IF(L1324=\"\",\"\",IF(M1324<Results!D$12,1,0))","v":1}]
[null,null,null,null,null,null,null,null,null,null,null,1324,1.0311642137251151,{"$f":"IF(L1325=\"\",\"\",IF(M1325<Results!D$12,1,0))","v":1}]
[null,null,null,null,null,null,null,null,null,null,null,1325,1.034117051260999,{"$f":"IF(L1326=\"\",\"\",IF(M1326<Results!D$12,1,0))","v":1}]
[null,null,null,null,null,null,null,null,null,null,null,1326,1.0564270179847965,{"$f":"IF(L1327=\"\",\"\",IF(M1327<Results!D$12,1,0))","v":0}]
[null,null,null,null,null,null,null,null,null,null,null,1327,1.0668211784255297,{"$f":"IF(L1328=\"\",\"\",IF(M1328<Results!D$12,1,0))","v":0}]
[null,null,null,null,null,null,null,null,null,null,null,1328,1.0397055129331432,{"$f":"IF(L1329=\"\",\"\",IF(M1329<Results!D$12,1,0))","v":0}]
[null,null,null,null,null,null,null,null,null,null,null,1329,1.0469144009953757,{"$f":"IF(L1330=\"\",\"\",IF(M1330<Results!D$12,1,0))","v":0}]
[null,null,null,null,null,null,null,null,null,null,null,1330,1.0398735388104052,{"$f":"IF(L1331=\"\",\"\",IF(M1331<Results!D$12,1,0))","v":0}]
[null,null,null,null,null,null,null,null,null,null,null,1331,1.027764024693216,{"$f":"IF(L1332=\"\",\"\",IF(M1332<Results!D$12,1,0))","v":1}]
[null,null,null,null,null,null,null,null,null,null,null,1332,1.0225392075403421,{"$f":"IF(L1333=\"\",\"\",IF(M1333<Results!D$12,1,0))","v":1}]
[null,null,null,null,null,null,null,null,null,null,null,1333,1.0753537297033084,{"$f":"IF(L1334=\"\",\"\",IF(M1334<Results!D$12,1,0))","v":0}]
[null,null,null,null,null,null,null,null,null,null,null,1334,1.0329400163987519,{"$f":"IF(L1335=\"\",\"\",IF(M1335<Results!D$12,1,0))","v":1}]
[null,null,null,null,null,null,null,null,null,null,null,1335,1.0408439581561566,{"$f":"IF(L1336=\"\",\"\",IF(M1336<Results!D$12,1,0))","v":0}]
[null,null,null,null,null,null,null,null,null,null,null,1336,1.0414545978306793,{"$f":"IF(L1337=\"\",\"\",IF(M1337<Results!D$12,1,0))","v":0}]
[null,null,null,null,null,null,null,null,null,null,null,1337,1.0769857330972321,{"$f":"IF(L1338=\"\",\"\",IF(M1338<Results!D$12,1,0))","v":0}]
[null,null,null,null,null,null,null,null,null,null,null,1338,1.0488389916947158,{"$f":"IF(L1339=\"\",\"\",IF(M1339<Results!D$12,1,0))","v":0}]
[null,null,null,null,null,null,null,null,null,null,null,1339,1.0686232742271891,{"$f":"IF(L1340=\"\",\"\",IF(M1340<Results!D$12,1,0))","v":0}]
[null,null,null,null,null,null,null,null,null,null,null,1340,1.035554813349657,{"$f":"IF(L1341=\"\",\"\",IF(M1341<Results!D$12,1,0))","v":1}]
[null,null,null,null,null,null,null,null,null,null,null,1341,1.0564275507135839,{"$f":"IF(L1342=\"\",\"\",IF(M1342<Results!D$12,1,0))","v":0}]
[null,null,null,null,null,null,null,null,null,null,null,1342,1.0478839058462084,{"$f":"IF(L1343=\"\",\"\",IF(M1343<Results!D$12,1,0))","v":0}]
[null,null,null,null,null,null,null,null,null,null,null,1343,1.0212655006694435,{"$f":"IF(L1344=\"\",\"\",IF(M1344<Results!D$12,1,0))","v":1}]
[null,null,null,null,null,null,null,null,null,null,null,1344,1.0389205382303759,{"$f":"IF(L1345=\"\",\"\",IF(M1345<Results!D$12,1,0))","v":0}]
[null,null,null,null,null,null,null,null,null,null,null,1345,1.0254119491092306,{"$f":"IF(L1346=\"\",\"\",IF(M1346<Results!D$12,1,0))","v":1}]
[null,null,null,null,null,null,null,null,null,null,null,{"$f":"IF(M1347=\"\",\"\",ROW(L1347)-1)","v":1346},1.0294369922221989,{"$f":"IF(L1347=\"\",\"\",IF(M1347<Results!D$12,1,0))","v":1}]
[null,null,null,null,null,null,null,null,null,null,null,1347,1.0312144735835844,{"$f":"IF(L1348=\"\",\"\",IF(M1348<Results!D$12,1,0))","v":1}]
[null,null,null,null,null,null,null,null,null,null,null,1348,1.0333769554226611,{"$f":"IF(L1349=\"\",\"\",IF(M1349<Results!D$12,1,0))","v":1}]
[null,null,null,null,null,null,null,null,null,null,null,1349,1.0270296310135478,{"$f":"IF(L1350=\"\",\"\",IF(M1350<Results!D$12,1,0))","v":1}]
[null,null,null,null,null,null,null,null,null,null,null,1350,1.0645121056253746,{"$f":"IF(L1351=\"\",\"\",IF(M1351<Results!D$12,1,0))","v":0}]
[null,null,null,null,null,null,null,null,null,null,null,1351,1.0400843244638422,{"$f":"IF(L1352=\"\",\"\",IF(M1352<Results!D$12,1,0))","v":0}]
[null,null,null,null,null,null,null,null,null,null,null,1352,1.0290417895339408,{"$f":"IF(L1353=\"\",\"\",IF(M1353<Results!D$12,1,0))","v":1}]
[null,null,null,null,null,null,null,null,null,null,null,1353,1.0337023612411775,{"$f":"IF(L1354=\"\",\"\",IF(M1354<Results!D$12,1,0))","v":1}]
[null,null,null,null,null,null,null,null,null,null,null,1354,1.0743675671115622,{"$f":"IF(L1355=\"\",\"\",IF(M1355<Results!D$12,1,0))","v":0}]
[null,null,null,null,null,null,null,null,null,null,null,1355,1.0531997790826229,{"$f":"IF(L1356=\"\",\"\",IF(M1356<Results!D$12,1,0))","v":0}]
[null,null,null,null,null,null,null,null,null,null,null,1356,1.0401749997119361,{"$f":"IF(L1357=\"\",\"\",IF(M1357<Results!D$12,1,0))","v":0}]
[null,null,null,null,null,null,null,null,null,null,null,1357,1.0244952847981648,{"$f":"IF(L1358=\"\",\"\",IF(M1358<Results!D$12,1,0))","v":1}]
[null,null,null,null,null,null,null,null,null,null,null,1358,1.0021128223546147,{"$f":"IF(L1359=\"\",\"\",IF(M1359<Results!D$12,1,0))","v":1}]
[null,null,null,null,null,null,null,null,null,null,null,1359,1.0185932788894272,{"$f":"IF(L1360=\"\",\"\",IF(M1360<Results!D$12,1,0))","v":1}]
[null,null,null,null,null,null,null,null,null,null,null,1360,1.0525285696282614,{"$f":"IF(L1361=\"\",\"\",IF(M1361<Results!D$12,1,0))","v":0}]
[null,null,null,null,null,null,null,null,null,null,null,1361,1.012473862383851,{"$f":"IF(L1362=\"\",\"\",IF(M1362<Results!D$12,1,0))","v":1}]
[null,null,null,null,null,null,null,null,null,null,null,1362,1.0509313048681697,{"$f":"IF(L1363=\"\",\"\",IF(M1363<Results!D$12,1,0))","v":0}]
[null,null,null,null,null,null,null,null,null,null,null,1363,1.0483985682448957,{"$f":"IF(L1364=\"\",\"\",IF(M1364<Results!D$12,1,0))","v":0}]
[null,null,null,null,null,null,null,null,null,null,null,1364,1.0368324044141211,{"$f":"IF(L1365=\"\",\"\",IF(M1365<Results!D$12,1,0))","v":1}]
[null,null,null,null,null,null,null,null,null,null,null,1365,1.0316148996796346,{"$f":"IF(L1366=\"\",\"\",IF(M1366<Results!D$12,1,0))","v":1}]
[null,null,null,null,null,null,null,null,null,null,null,1366,1.0530855557778283,{"$f":"IF(L1367=\"\",\"\",IF(M1367<Results!D$12,1,0))","v":0}]
[null,null,null,null,null,null,null,null,null,null,null,1367,1.0185878801354487,{"$f":"IF(L1368=\"\",\"\",IF(M1368<Results!D$12,1,0))","v":1}]
[null,null,null,null,null,null,null,null,null,null,null,1368,1.0482286946080304,{"$f":"IF(L1369=\"\",\"\",IF(M1369<Results!D$12,1,0))","v":0}]
[null,null,null,null,null,null,null,null,null,null,null,1369,1.0207493995267145,{"$f":"IF(L1370=\"\",\"\",IF(M1370<Results!D$12,1,0))","v":1}]
[null,null,null,null,null,null,null,null,null,null,null,1370,1.0242541700590386,{"$f":"IF(L1371=\"\",\"\",IF(M1371<Results!D$12,1,0))","v":1}]
[null,null,null,null,null,null,null,null,null,null,null,1371,1.0405363809667909,{"$f":"IF(L1372=\"\",\"\",IF(M1372<Results!D$12,1,0))","v":0}]
[null,null,null,null,null,null,null,null,null,null,null,1372,1.0312453374192185,{"$f":"IF(L1373=\"\",\"\",IF(M1373<Results!D$12,1,0))","v":1}]
[null,null,null,null,null,null,null,null,null,null,null,1373,1.0096798149692763,{"$f":"IF(L1374=\"\",\"\",IF(M1374<Results!D$12,1,0))","v":1}]
[null,null,null,null,null,null,null,null,null,null,null,1374,1.0343112140218524,{"$f":"IF(L1375=\"\",\"\",IF(M1375<Results!D$12,1,0))","v":1}]
[null,null,null,null,null,null,null,null,null,null,null,1375,1.0161033682105172,{"$f":"IF(L1376=\"\",\"\",IF(M1376<Results!D$12,1,0))","v":1}]
[null,null,null,null,null,null,null,null,null,null,null,1376,1.0304760578988876,{"$f":"IF(L1377=\"\",\"\",IF(M1377<Results!D$12,1,0))","v":1}]
[null,null,null,null,null,null,null,null,null,null,null,1377,1.043008423417237,{"$f":"IF(L1378=\"\",\"\",IF(M1378<Results!D$12,1,0))","v":0}]
[null,null,null,null,null,null,null,null,null,null,null,1378,1.0280508680716278,{"$f":"IF(L1379=\"\",\"\",IF(M1379<Results!D$12,1,0))","v":1}]
[null,null,null,null,null,null,null,null,null,null,null,1379,1.0285890096025541,{"$f":"IF(L1380=\"\",\"\",IF(M1380<Results!D$12,1,0))","v":1}]
[null,null,null,null,null,null,null,null,null,null,null,1380,1.0395007430601808,{"$f":"IF(L1381=\"\",\"\",IF(M1381<Results!D$12,1,0))","v":0}]
[null,null,null,null,null,null,null,null,null,null,null,1381,1.0297690670044439,{"$f":"IF(L1382=\"\",\"\",IF(M1382<Results!D$12,1,0))","v":1}]
[null,null,null,null,null,null,null,null,null,null,null,1382,1.0396681908354686,{"$f":"IF(L1383=\"\",\"\",IF(M1383<Results!D$12,1,0))","v":0}]
[null,null,null,null,null,null,null,null,null,null,null,1383,1.0393169177617743,{"$f":"IF(L1384=\"\",\"\",IF(M1384<Results!D$12,1,0))","v":0}]
[null,null,null,null,null,null,null,null,null,null,null,1384,1.0425226619008758,{"$f":"IF(L1385=\"\",\"\",IF(M1385<Results!D$12,1,0))","v":0}]
[null,null,null,null,null,null,null,null,null,null,null,1385,1.0431219152213342,{"$f":"IF(L1386=\"\",\"\",IF(M1386<Results!D$12,1,0))","v":0}]
[null,null,null,null,null,null,null,null,null,null,null,1386,1.0419521063580071,{"$f":"IF(L1387=\"\",\"\",IF(M1387<Results!D$12,1,0))","v":0}]
[null,null,null,null,null,null,null,null,null,null,null,1387,1.0335926552043415,{"$f":"IF(L1388=\"\",\"\",IF(M1388<Results!D$12,1,0))","v":1}]
[null,null,null,null,null,null,null,null,null,null,null,1388,1.0346577594049911,{"$f":"IF(L1389=\"\",\"\",IF(M1389<Results!D$12,1,0))","v":1}]
[null,null,null,null,null,null,null,null,null,null,null,1389,1.0372957644513285,{"$f":"IF(L1390=\"\",\"\",IF(M1390<Results!D$12,1,0))","v":1}]
[null,null,null,null,null,null,null,null,null,null,null,1390,1.0439681487470509,{"$f":"IF(L1391=\"\",\"\",IF(M1391<Results!D$12,1,0))","v":0}]
[null,null,null,null,null,null,null,null,null,null,null,1391,1.0258938861221709,{"$f":"IF(L1392=\"\",\"\",IF(M1392<Results!D$12,1,0))","v":1}]
[null,null,null,null,null,null,null,null,null,null,null,1392,1.0174710071907587,{"$f":"IF(L1393=\"\",\"\",IF(M1393<Results!D$12,1,0))","v":1}]
[null,null,null,null,null,null,null,null,null,null,null,1393,1.076831140519154,{"$f":"IF(L1394=\"\",\"\",IF(M1394<Results!D$12,1,0))","v":0}]
[null,null,null,null,null,null,null,null,null,null,null,1394,1.0234116663771176,{"$f":"IF(L1395=\"\",\"\",IF(M1395<Results!D$12,1,0))","v":1}]
[null,null,null,null,null,null,null,null,null,null,null,1395,1.032631063697603,{"$f":"IF(L1396=\"\",\"\",IF(M1396<Results!D$12,1,0))","v":1}]
[null,null,null,null,null,null,null,null,null,null,null,1396,1.0744681134054423,{"$f":"IF(L1397=\"\",\"\",IF(M1397<Results!D$12,1,0))","v":0}]
[null,null,null,null,null,null,null,null,null,null,null,1397,1.0424225471461528,{"$f":"IF(L1398=\"\",\"\",IF(M1398<Results!D$12,1,0))","v":0}]
[null,null,null,null,null,null,null,null,null,null,null,1398,1.0102370121167223,{"$f":"IF(L1399=\"\",\"\",IF(M1399<Results!D$12,1,0))","v":1}]
[null,null,null,null,null,null,null,null,null,null,null,1399,1.0609881714195224,{"$f":"IF(L1400=\"\",\"\",IF(M1400<Results!D$12,1,0))","v":0}]
[null,null,null,null,null,null,null,null,null,null,null,1400,1.0644125039203698,{"$f":"IF(L1401=\"\",\"\",IF(M1401<Results!D$12,1,0))","v":0}]
[null,null,null,null,null,null,null,null,null,null,null,1401,1.0263098314153045,{"$f":"IF(L1402=\"\",\"\",IF(M1402<Results!D$12,1,0))","v":1}]
[null,null,null,null,null,null,null,null,null,null,null,1402,1.069693777606386,{"$f":"IF(L1403=\"\",\"\",IF(M1403<Results!D$12,1,0))","v":0}]
[null,null,null,null,null,null,null,null,null,null,null,1403,1.0443913238327256,{"$f":"IF(L1404=\"\",\"\",IF(M1404<Results!D$12,1,0))","v":0}]
[null,null,null,null,null,null,null,null,null,null,null,1404,1.0417200436631753,{"$f":"IF(L1405=\"\",\"\",IF(M1405<Results!D$12,1,0))","v":0}]
[null,null,null,null,null,null,null,null,null,null,null,1405,1.0286856318318232,{"$f":"IF(L1406=\"\",\"\",IF(M1406<Results!D$12,1,0))","v":1}]
[null,null,null,null,null,null,null,null,null,null,null,1406,1.0331151932547986,{"$f":"IF(L1407=\"\",\"\",IF(M1407<Results!D$12,1,0))","v":1}]
[null,null,null,null,null,null,null,null,null,null,null,1407,1.0530539366089409,{"$f":"IF(L1408=\"\",\"\",IF(M1408<Results!D$12,1,0))","v":0}]
[null,null,null,null,null,null,null,null,null,null,null,1408,1.020653583056331,{"$f":"IF(L1409=\"\",\"\",IF(M1409<Results!D$12,1,0))","v":1}]
[null,null,null,null,null,null,null,null,null,null,null,1409,1.0182580201542311,{"$f":"IF(L1410=\"\",\"\",IF(M1410<Results!D$12,1,0))","v":1}]
[null,null,null,null,null,null,null,null,null,null,null,{"$f":"IF(M1411=\"\",\"\",ROW(L1411)-1)","v":1410},1.0287881582620395,{"$f":"IF(L1411=\"\",\"\",IF(M1411<Results!D$12,1,0))","v":1}]
[null,null,null,null,null,null,null,null,null,null,null,1411,1.0509515315104854,{"$f":"IF(L1412=\"\",\"\",IF(M1412<Results!D$12,1,0))","v":0}]
[null,null,null,null,null,null,null,null,null,null,null,1412,1.0392846685824795,{"$f":"IF(L1413=\"\",\"\",IF(M1413<Results!D$12,1,0))","v":0}]
[null,null,null,null,null,null,null,null,null,null,null,1413,1.0161625345259959,{"$f":"IF(L1414=\"\",\"\",IF(M1414<Results!D$12,1,0))","v":1}]
[null,null,null,null,null,null,null,null,null,null,null,1414,1.0551003549262701,{"$f":"IF(L1415=\"\",\"\",IF(M1415<Results!D$12,1,0))","v":0}]
[null,null,null,null,null,null,null,null,null,null,null,1415,1.0280740563995943,{"$f":"IF(L1416=\"\",\"\",IF(M1416<Results!D$12,1,0))","v":1}]
[null,null,null,null,null,null,null,null,null,null,null,1416,1.0407259550061947,{"$f":"IF(L1417=\"\",\"\",IF(M1417<Results!D$12,1,0))","v":0}]
[null,null,null,null,null,null,null,null,null,null,null,1417,1.0478709836029083,{"$f":"IF(L1418=\"\",\"\",IF(M1418<Results!D$12,1,0))","v":0}]
[null,null,null,null,null,null,null,null,null,null,null,1418,1.0342849183749392,{"$f":"IF(L1419=\"\",\"\",IF(M1419<Results!D$12,1,0))","v":1}]
[null,null,null,null,null,null,null,null,null,null,null,1419,1.0378387011557375,{"$f":"IF(L1420=\"\",\"\",IF(M1420<Results!D$12,1,0))","v":0}]
[null,null,null,null,null,null,null,null,null,null,null,1420,1.0893852639349495,{"$f":"IF(L1421=\"\",\"\",IF(M1421<Results!D$12,1,0))","v":0}]
[null,null,null,null,null,null,null,null,null,null,null,1421,1.0233137336108213,{"$f":"IF(L1422=\"\",\"\",IF(M1422<Results!D$12,1,0))","v":1}]
[null,null,null,null,null,null,null,null,null,null,null,1422,1.0272351243239886,{"$f":"IF(L1423=\"\",\"\",IF(M1423<Results!D$12,1,0))","v":1}]
[null,null,null,null,null,null,null,null,null,null,null,1423,1.0263483372428206,{"$f":"IF(L1424=\"\",\"\",IF(M1424<Results!D$12,1,0))","v":1}]
[null,null,null,null,null,null,null,null,null,null,null,1424,1.0369825071692405,{"$f":"IF(L1425=\"\",\"\",IF(M1425<Results!D$12,1,0))","v":1}]
[null,null,null,null,null,null,null,null,null,null,null,1425,1.0344141521925263,{"$f":"IF(L1426=\"\",\"\",IF(M1426<Results!D$12,1,0))","v":1}]
[null,null,null,null,null,null,null,null,null,null,null,1426,1.0188996981661962,{"$f":"IF(L1427=\"\",\"\",IF(M1427<Results!D$12,1,0))","v":1}]
[null,null,null,null,null,null,null,null,null,null,null,1427,1.0199387240019773,{"$f":"IF(L1428=\"\",\"\",IF(M1428<Results!D$12,1,0))","v":1}]
[null,null,null,null,null,null,null,null,null,null,null,1428,1.0544722600682406,{"$f":"IF(L1429=\"\",\"\",IF(M1429<Results!D$12,1,0))","v":0}]
[null,null,null,null,null,null,null,null,null,null,null,1429,1.0311785490326451,{"$f":"IF(L1430=\"\",\"\",IF(M1430<Results!D$12,1,0))","v":1}]
[null,null,null,null,null,null,null,null,null,null,null,1430,1.0233078384267855,{"$f":"IF(L1431=\"\",\"\",IF(M1431<Results!D$12,1,0))","v":1}]
[null,null,null,null,null,null,null,null,null,null,null,1431,1.0236008671024719,{"$f":"IF(L1432=\"\",\"\",IF(M1432<Results!D$12,1,0))","v":1}]
[null,null,null,null,null,null,null,null,null,null,null,1432,1.0360512777806752,{"$f":"IF(L1433=\"\",\"\",IF(M1433<Results!D$12,1,0))","v":1}]
[null,null,null,null,null,null,null,null,null,null,null,1433,1.0294539718783713,{"$f":"IF(L1434=\"\",\"\",IF(M1434<Results!D$12,1,0))","v":1}]
[null,null,null,null,null,null,null,null,null,null,null,1434,1.0274038165385131,{"$f":"IF(L1435=\"\",\"\",IF(M1435<Results!D$12,1,0))","v":1}]
[null,null,null,null,null,null,null,null,null,null,null,1435,1.0464111395407816,{"$f":"IF(L1436=\"\",\"\",IF(M1436<Results!D$12,1,0))","v":0}]
[null,null,null,null,null,null,null,null,null,null,null,1436,1.0392504928492805,{"$f":"IF(L1437=\"\",\"\",IF(M1437<Results!D$12,1,0))","v":0}]
[null,null,null,null,null,null,null,null,null,null,null,1437,1.0350349898363918,{"$f":"IF(L1438=\"\",\"\",IF(M1438<Results!D$12,1,0))","v":1}]
[null,null,null,null,null,null,null,null,null,null,null,1438,1.0760537111890376,{"$f":"IF(L1439=\"\",\"\",IF(M1439<Results!D$12,1,0))","v":0}]
[null,null,null,null,null,null,null,null,null,null,null,1439,1.0214876727118876,{"$f":"IF(L1440=\"\",\"\",IF(M1440<Results!D$12,1,0))","v":1}]
[null,null,null,null,null,null,null,null,null,null,null,1440,1.0123058667403713,{"$f":"IF(L1441=\"\",\"\",IF(M1441<Results!D$12,1,0))","v":1}]
[null,null,null,null,null,null,null,null,null,null,null,1441,1.0258191047489826,{"$f":"IF(L1442=\"\",\"\",IF(M1442<Results!D$12,1,0))","v":1}]
[null,null,null,null,null,null,null,null,null,null,null,1442,1.035604170124701,{"$f":"IF(L1443=\"\",\"\",IF(M1443<Results!D$12,1,0))","v":1}]
[null,null,null,null,null,null,null,null,null,null,null,1443,1.0311521627478653,{"$f":"IF(L1444=\"\",\"\",IF(M1444<Results!D$12,1,0))","v":1}]
[null,null,null,null,null,null,null,null,null,null,null,1444,1.0412511192685596,{"$f":"IF(L1445=\"\",\"\",IF(M1445<Results!D$12,1,0))","v":0}]
[null,null,null,null,null,null,null,null,null,null,null,1445,1.0146186103623904,{"$f":"IF(L1446=\"\",\"\",IF(M1446<Results!D$12,1,0))","v":1}]
[null,null,null,null,null,null,null,null,null,null,null,1446,1.0364093997376789,{"$f":"IF(L1447=\"\",\"\",IF(M1447<Results!D$12,1,0))","v":1}]
[null,null,null,null,null,null,null,null,null,null,null,1447,1.033011058829683,{"$f":"IF(L1448=\"\",\"\",IF(M1448<Results!D$12,1,0))","v":1}]
[null,null,null,null,null,null,null,null,null,null,null,1448,1.0394899881339101,{"$f":"IF(L1449=\"\",\"\",IF(M1449<Results!D$12,1,0))","v":0}]
[null,null,null,null,null,null,null,null,null,null,null,1449,1.0410100295191995,{"$f":"IF(L1450=\"\",\"\",IF(M1450<Results!D$12,1,0))","v":0}]
[null,null,null,null,null,null,null,null,null,null,null,1450,1.0207692408164721,{"$f":"IF(L1451=\"\",\"\",IF(M1451<Results!D$12,1,0))","v":1}]
[null,null,null,null,null,null,null,null,null,null,null,1451,1.0566177656356166,{"$f":"IF(L1452=\"\",\"\",IF(M1452<Results!D$12,1,0))","v":0}]
[null,null,null,null,null,null,null,null,null,null,null,1452,1.0338015944488264,{"$f":"IF(L1453=\"\",\"\",IF(M1453<Results!D$12,1,0))","v":1}]
[null,null,null,null,null,null,null,null,null,null,null,1453,1.0758915581180717,{"$f":"IF(L1454=\"\",\"\",IF(M1454<Results!D$12,1,0))","v":0}]
[null,null,null,null,null,null,null,null,null,null,null,1454,1.0458383151499568,{"$f":"IF(L1455=\"\",\"\",IF(M1455<Results!D$12,1,0))","v":0}]
[null,null,null,null,null,null,null,null,null,null,null,1455,1.0523919235222106,{"$f":"IF(L1456=\"\",\"\",IF(M1456<Results!D$12,1,0))","v":0}]
[null,null,null,null,null,null,null,null,null,null,null,1456,1.0657021160349753,{"$f":"IF(L1457=\"\",\"\",IF(M1457<Results!D$12,1,0))","v":0}]
[null,null,null,null,null,null,null,null,null,null,null,1457,1.0007225715487253,{"$f":"IF(L1458=\"\",\"\",IF(M1458<Results!D$12,1,0))","v":1}]
[null,null,null,null,null,null,null,null,null,null,null,1458,1.02649050020198,{"$f":"IF(L1459=\"\",\"\",IF(M1459<Results!D$12,1,0))","v":1}]
[null,null,null,null,null,null,null,null,null,null,null,1459,1.031191078118348,{"$f":"IF(L1460=\"\",\"\",IF(M1460<Results!D$12,1,0))","v":1}]
[null,null,null,null,null,null,null,null,null,null,null,1460,1.0274229267928257,{"$f":"IF(L1461=\"\",\"\",IF(M1461<Results!D$12,1,0))","v":1}]
[null,null,null,null,null,null,null,null,null,null,null,1461,1.0429531840192952,{"$f":"IF(L1462=\"\",\"\",IF(M1462<Results!D$12,1,0))","v":0}]
[null,null,null,null,null,null,null,null,null,null,null,1462,1.0533637626780246,{"$f":"IF(L1463=\"\",\"\",IF(M1463<Results!D$12,1,0))","v":0}]
[null,null,null,null,null,null,null,null,null,null,null,1463,1.0565595718199527,{"$f":"IF(L1464=\"\",\"\",IF(M1464<Results!D$12,1,0))","v":0}]
[null,null,null,null,null,null,null,null,null,null,null,1464,1.0418633420931387,{"$f":"IF(L1465=\"\",\"\",IF(M1465<Results!D$12,1,0))","v":0}]
[null,null,null,null,null,null,null,null,null,null,null,1465,1.0370055304459636,{"$f":"IF(L1466=\"\",\"\",IF(M1466<Results!D$12,1,0))","v":1}]
[null,null,null,null,null,null,null,null,null,null,null,1466,1.046605803396232,{"$f":"IF(L1467=\"\",\"\",IF(M1467<Results!D$12,1,0))","v":0}]
[null,null,null,null,null,null,null,null,null,null,null,1467,1.061164535771935,{"$f":"IF(L1468=\"\",\"\",IF(M1468<Results!D$12,1,0))","v":0}]
[null,null,null,null,null,null,null,null,null,null,null,1468,1.011919283073087,{"$f":"IF(L1469=\"\",\"\",IF(M1469<Results!D$12,1,0))","v":1}]
[null,null,null,null,null,null,null,null,null,null,null,1469,1.0392624539791704,{"$f":"IF(L1470=\"\",\"\",IF(M1470<Results!D$12,1,0))","v":0}]
[null,null,null,null,null,null,null,null,null,null,null,1470,1.0345146750394847,{"$f":"IF(L1471=\"\",\"\",IF(M1471<Results!D$12,1,0))","v":1}]
[null,null,null,null,null,null,null,null,null,null,null,1471,1.0169672989622174,{"$f":"IF(L1472=\"\",\"\",IF(M1472<Results!D$12,1,0))","v":1}]
[null,null,null,null,null,null,null,null,null,null,null,1472,1.0571866709748632,{"$f":"IF(L1473=\"\",\"\",IF(M1473<Results!D$12,1,0))","v":0}]
[null,null,null,null,null,null,null,null,null,null,null,1473,1.0723086603031093,{"$f":"IF(L1474=\"\",\"\",IF(M1474<Results!D$12,1,0))","v":0}]
[null,null,null,null,null,null,null,null,null,null,null,{"$f":"IF(M1475=\"\",\"\",ROW(L1475)-1)","v":1474},1.0632018739410813,{"$f":"IF(L1475=\"\",\"\",IF(M1475<Results!D$12,1,0))","v":0}]
[null,null,null,null,null,null,null,null,null,null,null,1475,1.0085850033569173,{"$f":"IF(L1476=\"\",\"\",IF(M1476<Results!D$12,1,0))","v":1}]
[null,null,null,null,null,null,null,null,null,null,null,1476,1.0306168816792247,{"$f":"IF(L1477=\"\",\"\",IF(M1477<Results!D$12,1,0))","v":1}]
[null,null,null,null,null,null,null,null,null,null,null,1477,1.0440627478106352,{"$f":"IF(L1478=\"\",\"\",IF(M1478<Results!D$12,1,0))","v":0}]
[null,null,null,null,null,null,null,null,null,null,null,1478,1.0501910732862172,{"$f":"IF(L1479=\"\",\"\",IF(M1479<Results!D$12,1,0))","v":0}]
[null,null,null,null,null,null,null,null,null,null,null,1479,1.0553427823282862,{"$f":"IF(L1480=\"\",\"\",IF(M1480<Results!D$12,1,0))","v":0}]
[null,null,null,null,null,null,null,null,null,null,null,1480,1.0200868205713047,{"$f":"IF(L1481=\"\",\"\",IF(M1481<Results!D$12,1,0))","v":1}]
[null,null,null,null,null,null,null,null,null,null,null,1481,1.035623974449984,{"$f":"IF(L1482=\"\",\"\",IF(M1482<Results!D$12,1,0))","v":1}]
[null,null,null,null,null,null,null,null,null,null,null,1482,1.0126462821407649,{"$f":"IF(L1483=\"\",\"\",IF(M1483<Results!D$12,1,0))","v":1}]
[null,null,null,null,null,null,null,null,null,null,null,1483,1.029800761536938,{"$f":"IF(L1484=\"\",\"\",IF(M1484<Results!D$12,1,0))","v":1}]
[null,null,null,null,null,null,null,null,null,null,null,1484,1.0461033560024728,{"$f":"IF(L1485=\"\",\"\",IF(M1485<Results!D$12,1,0))","v":0}]
[null,null,null,null,null,null,null,null,null,null,null,1485,1.0466045124186081,{"$f":"IF(L1486=\"\",\"\",IF(M1486<Results!D$12,1,0))","v":0}]
[null,null,null,null,null,null,null,null,null,null,null,1486,1.0564004885385345,{"$f":"IF(L1487=\"\",\"\",IF(M1487<Results!D$12,1,0))","v":0}]
[null,null,null,null,null,null,null,null,null,null,null,1487,1.041742342587356,{"$f":"IF(L1488=\"\",\"\",IF(M1488<Results!D$12,1,0))","v":0}]
[null,null,null,null,null,null,null,null,null,null,null,1488,1.0416479611502321,{"$f":"IF(L1489=\"\",\"\",IF(M1489<Results!D$12,1,0))","v":0}]
[null,null,null,null,null,null,null,null,null,null,null,1489,1.0554372011479902,{"$f":"IF(L1490=\"\",\"\",IF(M1490<Results!D$12,1,0))","v":0}]
[null,null,null,null,null,null,null,null,null,null,null,1490,1.021877091885419,{"$f":"IF(L1491=\"\",\"\",IF(M1491<Results!D$12,1,0))","v":1}]
[null,null,null,null,null,null,null,null,null,null,null,1491,1.0471891331595871,{"$f":"IF(L1492=\"\",\"\",IF(M1492<Results!D$12,1,0))","v":0}]
[null,null,null,null,null,null,null,null,null,null,null,1492,1.0438097708352017,{"$f":"IF(L1493=\"\",\"\",IF(M1493<Results!D$12,1,0))","v":0}]
[null,null,null,null,null,null,null,null,null,null,null,1493,1.0356041309481201,{"$f":"IF(L1494=\"\",\"\",IF(M1494<Results!D$12,1,0))","v":1}]
[null,null,null,null,null,null,null,null,null,null,null,1494,1.046797888378129,{"$f":"IF(L1495=\"\",\"\",IF(M1495<Results!D$12,1,0))","v":0}]
[null,null,null,null,null,null,null,null,null,null,null,1495,1.0362118649561263,{"$f":"IF(L1496=\"\",\"\",IF(M1496<Results!D$12,1,0))","v":1}]
[null,null,null,null,null,null,null,null,null,null,null,1496,1.0299068844844805,{"$f":"IF(L1497=\"\",\"\",IF(M1497<Results!D$12,1,0))","v":1}]
[null,null,null,null,null,null,null,null,null,null,null,1497,1.0297037446287072,{"$f":"IF(L1498=\"\",\"\",IF(M1498<Results!D$12,1,0))","v":1}]
[null,null,null,null,null,null,null,null,null,null,null,1498,1.0433934869493999,{"$f":"IF(L1499=\"\",\"\",IF(M1499<Results!D$12,1,0))","v":0}]
[null,null,null,null,null,null,null,null,null,null,null,1499,1.0505966122276256,{"$f":"IF(L1500=\"\",\"\",IF(M1500<Results!D$12,1,0))","v":0}]
[null,null,null,null,null,null,null,null,null,null,null,1500,1.0467890190663995,{"$f":"IF(L1501=\"\",\"\",IF(M1501<Results!D$12,1,0))","v":0}]
[null,null,null,null,null,null,null,null,null,null,null,1501,1.0280902966795282,{"$f":"IF(L1502=\"\",\"\",IF(M1502<Results!D$12,1,0))","v":1}]
[null,null,null,null,null,null,null,null,null,null,null,1502,1.0390055615507967,{"$f":"IF(L1503=\"\",\"\",IF(M1503<Results!D$12,1,0))","v":0}]
[null,null,null,null,null,null,null,null,null,null,null,1503,1.0422358164229539,{"$f":"IF(L1504=\"\",\"\",IF(M1504<Results!D$12,1,0))","v":0}]
[null,null,null,null,null,null,null,null,null,null,null,1504,1.0505615338613652,{"$f":"IF(L1505=\"\",\"\",IF(M1505<Results!D$12,1,0))","v":0}]
[null,null,null,null,null,null,null,null,null,null,null,1505,1.0271942151852529,{"$f":"IF(L1506=\"\",\"\",IF(M1506<Results!D$12,1,0))","v":1}]
[null,null,null,null,null,null,null,null,null,null,null,1506,1.042161651609131,{"$f":"IF(L1507=\"\",\"\",IF(M1507<Results!D$12,1,0))","v":0}]
[null,null,null,null,null,null,null,null,null,null,null,1507,1.0304936853386002,{"$f":"IF(L1508=\"\",\"\",IF(M1508<Results!D$12,1,0))","v":1}]
[null,null,null,null,null,null,null,null,null,null,null,1508,1.066811042538697,{"$f":"IF(L1509=\"\",\"\",IF(M1509<Results!D$12,1,0))","v":0}]
[null,null,null,null,null,null,null,null,null,null,null,1509,1.0239531402017656,{"$f":"IF(L1510=\"\",\"\",IF(M1510<Results!D$12,1,0))","v":1}]
[null,null,null,null,null,null,null,null,null,null,null,1510,1.0336957969889364,{"$f":"IF(L1511=\"\",\"\",IF(M1511<Results!D$12,1,0))","v":1}]
[null,null,null,null,null,null,null,null,null,null,null,1511,1.021909792489456,{"$f":"IF(L1512=\"\",\"\",IF(M1512<Results!D$12,1,0))","v":1}]
[null,null,null,null,null,null,null,null,null,null,null,1512,1.0273119224368239,{"$f":"IF(L1513=\"\",\"\",IF(M1513<Results!D$12,1,0))","v":1}]
[null,null,null,null,null,null,null,null,null,null,null,1513,1.0406638329053912,{"$f":"IF(L1514=\"\",\"\",IF(M1514<Results!D$12,1,0))","v":0}]
[null,null,null,null,null,null,null,null,null,null,null,1514,1.0371626092571615,{"$f":"IF(L1515=\"\",\"\",IF(M1515<Results!D$12,1,0))","v":1}]
[null,null,null,null,null,null,null,null,null,null,null,1515,1.0479026225865806,{"$f":"IF(L1516=\"\",\"\",IF(M1516<Results!D$12,1,0))","v":0}]
[null,null,null,null,null,null,null,null,null,null,null,1516,1.0479333383795344,{"$f":"IF(L1517=\"\",\"\",IF(M1517<Results!D$12,1,0))","v":0}]
[null,null,null,null,null,null,null,null,null,null,null,1517,1.0285198184711659,{"$f":"IF(L1518=\"\",\"\",IF(M1518<Results!D$12,1,0))","v":1}]
[null,null,null,null,null,null,null,null,null,null,null,1518,1.0273491898857967,{"$f":"IF(L1519=\"\",\"\",IF(M1519<Results!D$12,1,0))","v":1}]
[null,null,null,null,null,null,null,null,null,null,null,1519,1.0559364383359715,{"$f":"IF(L1520=\"\",\"\",IF(M1520<Results!D$12,1,0))","v":0}]
[null,null,null,null,null,null,null,null,null,null,null,1520,1.0179357865786687,{"$f":"IF(L1521=\"\",\"\",IF(M1521<Results!D$12,1,0))","v":1}]
[null,null,null,null,null,null,null,null,null,null,null,1521,1.0396988174069408,{"$f":"IF(L1522=\"\",\"\",IF(M1522<Results!D$12,1,0))","v":0}]
[null,null,null,null,null,null,null,null,null,null,null,1522,1.0382332456793286,{"$f":"IF(L1523=\"\",\"\",IF(M1523<Results!D$12,1,0))","v":0}]
[null,null,null,null,null,null,null,null,null,null,null,1523,1.0081237024077525,{"$f":"IF(L1524=\"\",\"\",IF(M1524<Results!D$12,1,0))","v":1}]
[null,null,null,null,null,null,null,null,null,null,null,1524,1.0297902591107082,{"$f":"IF(L1525=\"\",\"\",IF(M1525<Results!D$12,1,0))","v":1}]
[null,null,null,null,null,null,null,null,null,null,null,1525,1.0251452596222619,{"$f":"IF(L1526=\"\",\"\",IF(M1526<Results!D$12,1,0))","v":1}]
[null,null,null,null,null,null,null,null,null,null,null,1526,1.0442246652754772,{"$f":"IF(L1527=\"\",\"\",IF(M1527<Results!D$12,1,0))","v":0}]
[null,null,null,null,null,null,null,null,null,null,null,1527,1.0552809803386172,{"$f":"IF(L1528=\"\",\"\",IF(M1528<Results!D$12,1,0))","v":0}]
[null,null,null,null,null,null,null,null,null,null,null,1528,1.0241418669315545,{"$f":"IF(L1529=\"\",\"\",IF(M1529<Results!D$12,1,0))","v":1}]
[null,null,null,null,null,null,null,null,null,null,null,1529,1.046265546717422,{"$f":"IF(L1530=\"\",\"\",IF(M1530<Results!D$12,1,0))","v":0}]
[null,null,null,null,null,null,null,null,null,null,null,1530,1.0612820606563234,{"$f":"IF(L1531=\"\",\"\",IF(M1531<Results!D$12,1,0))","v":0}]
[null,null,null,null,null,null,null,null,null,null,null,1531,1.0403706254587142,{"$f":"IF(L1532=\"\",\"\",IF(M1532<Results!D$12,1,0))","v":0}]
[null,null,null,null,null,null,null,null,null,null,null,1532,1.0155103727951622,{"$f":"IF(L1533=\"\",\"\",IF(M1533<Results!D$12,1,0))","v":1}]
[null,null,null,null,null,null,null,null,null,null,null,1533,1.0573218247518918,{"$f":"IF(L1534=\"\",\"\",IF(M1534<Results!D$12,1,0))","v":0}]
[null,null,null,null,null,null,null,null,null,null,null,1534,1.045734789379734,{"$f":"IF(L1535=\"\",\"\",IF(M1535<Results!D$12,1,0))","v":0}]
[null,null,null,null,null,null,null,null,null,null,null,1535,1.0250441560771555,{"$f":"IF(L1536=\"\",\"\",IF(M1536<Results!D$12,1,0))","v":1}]
[null,null,null,null,null,null,null,null,null,null,null,1536,1.0276651251287543,{"$f":"IF(L1537=\"\",\"\",IF(M1537<Results!D$12,1,0))","v":1}]
[null,null,null,null,null,null,null,null,null,null,null,1537,1.0288656696567464,{"$f":"IF(L1538=\"\",\"\",IF(M1538<Results!D$12,1,0))","v":1}]
[null,null,null,null,null,null,null,null,null,null,null,{"$f":"IF(M1539=\"\",\"\",ROW(L1539)-1)","v":1538},1.034536015773587,{"$f":"IF(L1539=\"\",\"\",IF(M1539<Results!D$12,1,0))","v":1}]
[null,null,null,null,null,null,null,null,null,null,null,1539,1.0294941237971431,{"$f":"IF(L1540=\"\",\"\",IF(M1540<Results!D$12,1,0))","v":1}]
[null,null,null,null,null,null,null,null,null,null,null,1540,1.0352415666773682,{"$f":"IF(L1541=\"\",\"\",IF(M1541<Results!D$12,1,0))","v":1}]
[null,null,null,null,null,null,null,null,null,null,null,1541,1.0319741770158046,{"$f":"IF(L1542=\"\",\"\",IF(M1542<Results!D$12,1,0))","v":1}]
[null,null,null,null,null,null,null,null,null,null,null,1542,1.0336262356189387,{"$f":"IF(L1543=\"\",\"\",IF(M1543<Results!D$12,1,0))","v":1}]
[null,null,null,null,null,null,null,null,null,null,null,1543,1.0516404440546587,{"$f":"IF(L1544=\"\",\"\",IF(M1544<Results!D$12,1,0))","v":0}]
[null,null,null,null,null,null,null,null,null,null,null,1544,1.0265988050326125,{"$f":"IF(L1545=\"\",\"\",IF(M1545<Results!D$12,1,0))","v":1}]
[null,null,null,null,null,null,null,null,null,null,null,1545,1.0379780920027613,{"$f":"IF(L1546=\"\",\"\",IF(M1546<Results!D$12,1,0))","v":0}]
[null,null,null,null,null,null,null,null,null,null,null,1546,1.0373807280442147,{"$f":"IF(L1547=\"\",\"\",IF(M1547<Results!D$12,1,0))","v":1}]
[null,null,null,null,null,null,null,null,null,null,null,1547,1.0290307394587537,{"$f":"IF(L1548=\"\",\"\",IF(M1548<Results!D$12,1,0))","v":1}]
[null,null,null,null,null,null,null,null,null,null,null,1548,1.0470493917309516,{"$f":"IF(L1549=\"\",\"\",IF(M1549<Results!D$12,1,0))","v":0}]
[null,null,null,null,null,null,null,null,null,null,null,1549,1.0253851309448678,{"$f":"IF(L1550=\"\",\"\",IF(M1550<Results!D$12,1,0))","v":1}]
[null,null,null,null,null,null,null,null,null,null,null,1550,1.042777528016293,{"$f":"IF(L1551=\"\",\"\",IF(M1551<Results!D$12,1,0))","v":0}]
[null,null,null,null,null,null,null,null,null,null,null,1551,1.0389714719802676,{"$f":"IF(L1552=\"\",\"\",IF(M1552<Results!D$12,1,0))","v":0}]
[null,null,null,null,null,null,null,null,null,null,null,1552,1.0384948590519074,{"$f":"IF(L1553=\"\",\"\",IF(M1553<Results!D$12,1,0))","v":0}]
[null,null,null,null,null,null,null,null,null,null,null,1553,1.0199266451819682,{"$f":"IF(L1554=\"\",\"\",IF(M1554<Results!D$12,1,0))","v":1}]
[null,null,null,null,null,null,null,null,null,null,null,1554,1.0407921119138477,{"$f":"IF(L1555=\"\",\"\",IF(M1555<Results!D$12,1,0))","v":0}]
[null,null,null,null,null,null,null,null,null,null,null,1555,1.0460442386080882,{"$f":"IF(L1556=\"\",\"\",IF(M1556<Results!D$12,1,0))","v":0}]
[null,null,null,null,null,null,null,null,null,null,null,1556,1.0206937811162078,{"$f":"IF(L1557=\"\",\"\",IF(M1557<Results!D$12,1,0))","v":1}]
[null,null,null,null,null,null,null,null,null,null,null,1557,1.0266793050211334,{"$f":"IF(L1558=\"\",\"\",IF(M1558<Results!D$12,1,0))","v":1}]
[null,null,null,null,null,null,null,null,null,null,null,1558,1.0342036679505735,{"$f":"IF(L1559=\"\",\"\",IF(M1559<Results!D$12,1,0))","v":1}]
[null,null,null,null,null,null,null,null,null,null,null,1559,1.0672657333951086,{"$f":"IF(L1560=\"\",\"\",IF(M1560<Results!D$12,1,0))","v":0}]
[null,null,null,null,null,null,null,null,null,null,null,1560,1.0308519310246727,{"$f":"IF(L1561=\"\",\"\",IF(M1561<Results!D$12,1,0))","v":1}]
[null,null,null,null,null,null,null,null,null,null,null,1561,1.0386719223583742,{"$f":"IF(L1562=\"\",\"\",IF(M1562<Results!D$12,1,0))","v":0}]
[null,null,null,null,null,null,null,null,null,null,null,1562,1.0320935348864486,{"$f":"IF(L1563=\"\",\"\",IF(M1563<Results!D$12,1,0))","v":1}]
[null,null,null,null,null,null,null,null,null,null,null,1563,1.044968465283914,{"$f":"IF(L1564=\"\",\"\",IF(M1564<Results!D$12,1,0))","v":0}]
[null,null,null,null,null,null,null,null,null,null,null,1564,1.0329055857475398,{"$f":"IF(L1565=\"\",\"\",IF(M1565<Results!D$12,1,0))","v":1}]
[null,null,null,null,null,null,null,null,null,null,null,1565,1.0458727288615544,{"$f":"IF(L1566=\"\",\"\",IF(M1566<Results!D$12,1,0))","v":0}]
[null,null,null,null,null,null,null,null,null,null,null,1566,1.0272923205781983,{"$f":"IF(L1567=\"\",\"\",IF(M1567<Results!D$12,1,0))","v":1}]
[null,null,null,null,null,null,null,null,null,null,null,1567,1.0180224279368097,{"$f":"IF(L1568=\"\",\"\",IF(M1568<Results!D$12,1,0))","v":1}]
[null,null,null,null,null,null,null,null,null,null,null,1568,1.0384635329380136,{"$f":"IF(L1569=\"\",\"\",IF(M1569<Results!D$12,1,0))","v":0}]
[null,null,null,null,null,null,null,null,null,null,null,1569,1.0344701135635281,{"$f":"IF(L1570=\"\",\"\",IF(M1570<Results!D$12,1,0))","v":1}]
[null,null,null,null,null,null,null,null,null,null,null,1570,1.0216167364444317,{"$f":"IF(L1571=\"\",\"\",IF(M1571<Results!D$12,1,0))","v":1}]
[null,null,null,null,null,null,null,null,null,null,null,1571,1.0247618458077365,{"$f":"IF(L1572=\"\",\"\",IF(M1572<Results!D$12,1,0))","v":1}]
[null,null,null,null,null,null,null,null,null,null,null,1572,1.0277909547758299,{"$f":"IF(L1573=\"\",\"\",IF(M1573<Results!D$12,1,0))","v":1}]
[null,null,null,null,null,null,null,null,null,null,null,1573,1.0654357608555787,{"$f":"IF(L1574=\"\",\"\",IF(M1574<Results!D$12,1,0))","v":0}]
[null,null,null,null,null,null,null,null,null,null,null,1574,1.0402617054156333,{"$f":"IF(L1575=\"\",\"\",IF(M1575<Results!D$12,1,0))","v":0}]
[null,null,null,null,null,null,null,null,null,null,null,1575,1.0420542355758795,{"$f":"IF(L1576=\"\",\"\",IF(M1576<Results!D$12,1,0))","v":0}]
[null,null,null,null,null,null,null,null,null,null,null,1576,1.047290192921795,{"$f":"IF(L1577=\"\",\"\",IF(M1577<Results!D$12,1,0))","v":0}]
[null,null,null,null,null,null,null,null,null,null,null,1577,1.0333160346524166,{"$f":"IF(L1578=\"\",\"\",IF(M1578<Results!D$12,1,0))","v":1}]
[null,null,null,null,null,null,null,null,null,null,null,1578,1.0548079729090905,{"$f":"IF(L1579=\"\",\"\",IF(M1579<Results!D$12,1,0))","v":0}]
[null,null,null,null,null,null,null,null,null,null,null,1579,1.060606613874929,{"$f":"IF(L1580=\"\",\"\",IF(M1580<Results!D$12,1,0))","v":0}]
[null,null,null,null,null,null,null,null,null,null,null,1580,1.0308280228904096,{"$f":"IF(L1581=\"\",\"\",IF(M1581<Results!D$12,1,0))","v":1}]
[null,null,null,null,null,null,null,null,null,null,null,1581,1.0295873623950995,{"$f":"IF(L1582=\"\",\"\",IF(M1582<Results!D$12,1,0))","v":1}]
[null,null,null,null,null,null,null,null,null,null,null,1582,1.0500957826455126,{"$f":"IF(L1583=\"\",\"\",IF(M1583<Results!D$12,1,0))","v":0}]
[null,null,null,null,null,null,null,null,null,null,null,1583,1.04301823784792,{"$f":"IF(L1584=\"\",\"\",IF(M1584<Results!D$12,1,0))","v":0}]
[null,null,null,null,null,null,null,null,null,null,null,1584,1.0164065730305927,{"$f":"IF(L1585=\"\",\"\",IF(M1585<Results!D$12,1,0))","v":1}]
[null,null,null,null,null,null,null,null,null,null,null,1585,1.0271231042535296,{"$f":"IF(L1586=\"\",\"\",IF(M1586<Results!D$12,1,0))","v":1}]
[null,null,null,null,null,null,null,null,null,null,null,1586,1.0204146699427012,{"$f":"IF(L1587=\"\",\"\",IF(M1587<Results!D$12,1,0))","v":1}]
[null,null,null,null,null,null,null,null,null,null,null,1587,1.0246982578506523,{"$f":"IF(L1588=\"\",\"\",IF(M1588<Results!D$12,1,0))","v":1}]
[null,null,null,null,null,null,null,null,null,null,null,1588,1.0211413949943011,{"$f":"IF(L1589=\"\",\"\",IF(M1589<Results!D$12,1,0))","v":1}]
[null,null,null,null,null,null,null,null,null,null,null,1589,1.0566363990207781,{"$f":"IF(L1590=\"\",\"\",IF(M1590<Results!D$12,1,0))","v":0}]
[null,null,null,null,null,null,null,null,null,null,null,1590,1.0564762873406486,{"$f":"IF(L1591=\"\",\"\",IF(M1591<Results!D$12,1,0))","v":0}]
[null,null,null,null,null,null,null,null,null,null,null,1591,1.0430533227519037,{"$f":"IF(L1592=\"\",\"\",IF(M1592<Results!D$12,1,0))","v":0}]
[null,null,null,null,null,null,null,null,null,null,null,1592,1.0205328389740809,{"$f":"IF(L1593=\"\",\"\",IF(M1593<Results!D$12,1,0))","v":1}]
[null,null,null,null,null,null,null,null,null,null,null,1593,1.0456240958838521,{"$f":"IF(L1594=\"\",\"\",IF(M1594<Results!D$12,1,0))","v":0}]
[null,null,null,null,null,null,null,null,null,null,null,1594,1.0671682004590031,{"$f":"IF(L1595=\"\",\"\",IF(M1595<Results!D$12,1,0))","v":0}]
[null,null,null,null,null,null,null,null,null,null,null,1595,1.0401701608161733,{"$f":"IF(L1596=\"\",\"\",IF(M1596<Results!D$12,1,0))","v":0}]
[null,null,null,null,null,null,null,null,null,null,null,1596,1.0129003336069984,{"$f":"IF(L1597=\"\",\"\",IF(M1597<Results!D$12,1,0))","v":1}]
[null,null,null,null,null,null,null,null,null,null,null,1597,1.0440575898395217,{"$f":"IF(L1598=\"\",\"\",IF(M1598<Results!D$12,1,0))","v":0}]
[null,null,null,null,null,null,null,null,null,null,null,1598,1.0266546230340472,{"$f":"IF(L1599=\"\",\"\",IF(M1599<Results!D$12,1,0))","v":1}]
[null,null,null,null,null,null,null,null,null,null,null,1599,1.0425322154893721,{"$f":"IF(L1600=\"\",\"\",IF(M1600<Results!D$12,1,0))","v":0}]
[null,null,null,null,null,null,null,null,null,null,null,1600,1.0416444540203094,{"$f":"IF(L1601=\"\",\"\",IF(M1601<Results!D$12,1,0))","v":0}]
[null,null,null,null,null,null,null,null,null,null,null,1601,1.0244135861451451,{"$f":"IF(L1602=\"\",\"\",IF(M1602<Results!D$12,1,0))","v":1}]
[null,null,null,null,null,null,null,null,null,null,null,{"$f":"IF(M1603=\"\",\"\",ROW(L1603)-1)","v":1602},1.0610974079300797,{"$f":"IF(L1603=\"\",\"\",IF(M1603<Results!D$12,1,0))","v":0}]
[null,null,null,null,null,null,null,null,null,null,null,1603,1.0496493343804305,{"$f":"IF(L1604=\"\",\"\",IF(M1604<Results!D$12,1,0))","v":0}]
[null,null,null,null,null,null,null,null,null,null,null,1604,1.0108842431300975,{"$f":"IF(L1605=\"\",\"\",IF(M1605<Results!D$12,1,0))","v":1}]
[null,null,null,null,null,null,null,null,null,null,null,1605,1.0510987263562352,{"$f":"IF(L1606=\"\",\"\",IF(M1606<Results!D$12,1,0))","v":0}]
[null,null,null,null,null,null,null,null,null,null,null,1606,1.0164151591710222,{"$f":"IF(L1607=\"\",\"\",IF(M1607<Results!D$12,1,0))","v":1}]
[null,null,null,null,null,null,null,null,null,null,null,1607,1.024604206260066,{"$f":"IF(L1608=\"\",\"\",IF(M1608<Results!D$12,1,0))","v":1}]
[null,null,null,null,null,null,null,null,null,null,null,1608,1.0060235656225511,{"$f":"IF(L1609=\"\",\"\",IF(M1609<Results!D$12,1,0))","v":1}]
[null,null,null,null,null,null,null,null,null,null,null,1609,1.0435158552924637,{"$f":"IF(L1610=\"\",\"\",IF(M1610<Results!D$12,1,0))","v":0}]
[null,null,null,null,null,null,null,null,null,null,null,1610,1.0369845173645833,{"$f":"IF(L1611=\"\",\"\",IF(M1611<Results!D$12,1,0))","v":1}]
[null,null,null,null,null,null,null,null,null,null,null,1611,1.0426282189673421,{"$f":"IF(L1612=\"\",\"\",IF(M1612<Results!D$12,1,0))","v":0}]
[null,null,null,null,null,null,null,null,null,null,null,1612,1.0247577416022258,{"$f":"IF(L1613=\"\",\"\",IF(M1613<Results!D$12,1,0))","v":1}]
[null,null,null,null,null,null,null,null,null,null,null,1613,1.0621512350127038,{"$f":"IF(L1614=\"\",\"\",IF(M1614<Results!D$12,1,0))","v":0}]
[null,null,null,null,null,null,null,null,null,null,null,1614,1.0347369989620612,{"$f":"IF(L1615=\"\",\"\",IF(M1615<Results!D$12,1,0))","v":1}]
[null,null,null,null,null,null,null,null,null,null,null,1615,1.0510005620939948,{"$f":"IF(L1616=\"\",\"\",IF(M1616<Results!D$12,1,0))","v":0}]
[null,null,null,null,null,null,null,null,null,null,null,1616,1.0101645986871406,{"$f":"IF(L1617=\"\",\"\",IF(M1617<Results!D$12,1,0))","v":1}]
[null,null,null,null,null,null,null,null,null,null,null,1617,1.0178196901858159,{"$f":"IF(L1618=\"\",\"\",IF(M1618<Results!D$12,1,0))","v":1}]
[null,null,null,null,null,null,null,null,null,null,null,1618,1.0457874495458486,{"$f":"IF(L1619=\"\",\"\",IF(M1619<Results!D$12,1,0))","v":0}]
[null,null,null,null,null,null,null,null,null,null,null,1619,1.0242141853710234,{"$f":"IF(L1620=\"\",\"\",IF(M1620<Results!D$12,1,0))","v":1}]
[null,null,null,null,null,null,null,null,null,null,null,1620,1.0250216332583677,{"$f":"IF(L1621=\"\",\"\",IF(M1621<Results!D$12,1,0))","v":1}]
[null,null,null,null,null,null,null,null,null,null,null,1621,1.0478532559266818,{"$f":"IF(L1622=\"\",\"\",IF(M1622<Results!D$12,1,0))","v":0}]
[null,null,null,null,null,null,null,null,null,null,null,1622,1.0348237287302002,{"$f":"IF(L1623=\"\",\"\",IF(M1623<Results!D$12,1,0))","v":1}]
[null,null,null,null,null,null,null,null,null,null,null,1623,1.0649491406541742,{"$f":"IF(L1624=\"\",\"\",IF(M1624<Results!D$12,1,0))","v":0}]
[null,null,null,null,null,null,null,null,null,null,null,1624,1.0309954047759775,{"$f":"IF(L1625=\"\",\"\",IF(M1625<Results!D$12,1,0))","v":1}]
[null,null,null,null,null,null,null,null,null,null,null,1625,1.0509325993111416,{"$f":"IF(L1626=\"\",\"\",IF(M1626<Results!D$12,1,0))","v":0}]
[null,null,null,null,null,null,null,null,null,null,null,1626,1.0290725392643869,{"$f":"IF(L1627=\"\",\"\",IF(M1627<Results!D$12,1,0))","v":1}]
[null,null,null,null,null,null,null,null,null,null,null,1627,1.0417700398419458,{"$f":"IF(L1628=\"\",\"\",IF(M1628<Results!D$12,1,0))","v":0}]
[null,null,null,null,null,null,null,null,null,null,null,1628,1.0421190815630785,{"$f":"IF(L1629=\"\",\"\",IF(M1629<Results!D$12,1,0))","v":0}]
[null,null,null,null,null,null,null,null,null,null,null,1629,1.0065813593555459,{"$f":"IF(L1630=\"\",\"\",IF(M1630<Results!D$12,1,0))","v":1}]
[null,null,null,null,null,null,null,null,null,null,null,1630,1.0402635002097738,{"$f":"IF(L1631=\"\",\"\",IF(M1631<Results!D$12,1,0))","v":0}]
[null,null,null,null,null,null,null,null,null,null,null,1631,1.0207041431435748,{"$f":"IF(L1632=\"\",\"\",IF(M1632<Results!D$12,1,0))","v":1}]
[null,null,null,null,null,null,null,null,null,null,null,1632,1.0275751430408295,{"$f":"IF(L1633=\"\",\"\",IF(M1633<Results!D$12,1,0))","v":1}]
[null,null,null,null,null,null,null,null,null,null,null,1633,1.0221675483820456,{"$f":"IF(L1634=\"\",\"\",IF(M1634<Results!D$12,1,0))","v":1}]
[null,null,null,null,null,null,null,null,null,null,null,1634,1.035693216860305,{"$f":"IF(L1635=\"\",\"\",IF(M1635<Results!D$12,1,0))","v":1}]
[null,null,null,null,null,null,null,null,null,null,null,1635,1.0293672924950155,{"$f":"IF(L1636=\"\",\"\",IF(M1636<Results!D$12,1,0))","v":1}]
[null,null,null,null,null,null,null,null,null,null,null,1636,1.0513024204755137,{"$f":"IF(L1637=\"\",\"\",IF(M1637<Results!D$12,1,0))","v":0}]
[null,null,null,null,null,null,null,null,null,null,null,1637,1.0444374061873245,{"$f":"IF(L1638=\"\",\"\",IF(M1638<Results!D$12,1,0))","v":0}]
[null,null,null,null,null,null,null,null,null,null,null,1638,1.0387447284037519,{"$f":"IF(L1639=\"\",\"\",IF(M1639<Results!D$12,1,0))","v":0}]
[null,null,null,null,null,null,null,null,null,null,null,1639,1.0220358524627569,{"$f":"IF(L1640=\"\",\"\",IF(M1640<Results!D$12,1,0))","v":1}]
[null,null,null,null,null,null,null,null,null,null,null,1640,1.0461623916686023,{"$f":"IF(L1641=\"\",\"\",IF(M1641<Results!D$12,1,0))","v":0}]
[null,null,null,null,null,null,null,null,null,null,null,1641,1.0267226517230605,{"$f":"IF(L1642=\"\",\"\",IF(M1642<Results!D$12,1,0))","v":1}]
[null,null,null,null,null,null,null,null,null,null,null,1642,1.0248530158876097,{"$f":"IF(L1643=\"\",\"\",IF(M1643<Results!D$12,1,0))","v":1}]
[null,null,null,null,null,null,null,null,null,null,null,1643,1.0103431480587095,{"$f":"IF(L1644=\"\",\"\",IF(M1644<Results!D$12,1,0))","v":1}]
[null,null,null,null,null,null,null,null,null,null,null,1644,1.0270451011058943,{"$f":"IF(L1645=\"\",\"\",IF(M1645<Results!D$12,1,0))","v":1}]
[null,null,null,null,null,null,null,null,null,null,null,1645,1.0444259986106543,{"$f":"IF(L1646=\"\",\"\",IF(M1646<Results!D$12,1,0))","v":0}]
[null,null,null,null,null,null,null,null,null,null,null,1646,1.0551870463180162,{"$f":"IF(L1647=\"\",\"\",IF(M1647<Results!D$12,1,0))","v":0}]
[null,null,null,null,null,null,null,null,null,null,null,1647,1.0234169390602263,{"$f":"IF(L1648=\"\",\"\",IF(M1648<Results!D$12,1,0))","v":1}]
[null,null,null,null,null,null,null,null,null,null,null,1648,1.0268995659763001,{"$f":"IF(L1649=\"\",\"\",IF(M1649<Results!D$12,1,0))","v":1}]
[null,null,null,null,null,null,null,null,null,null,null,1649,1.0089217749267299,{"$f":"IF(L1650=\"\",\"\",IF(M1650<Results!D$12,1,0))","v":1}]
[null,null,null,null,null,null,null,null,null,null,null,1650,1.0415048793235486,{"$f":"IF(L1651=\"\",\"\",IF(M1651<Results!D$12,1,0))","v":0}]
[null,null,null,null,null,null,null,null,null,null,null,1651,1.0161408257676476,{"$f":"IF(L1652=\"\",\"\",IF(M1652<Results!D$12,1,0))","v":1}]
[null,null,null,null,null,null,null,null,null,null,null,1652,1.0360499345664318,{"$f":"IF(L1653=\"\",\"\",IF(M1653<Results!D$12,1,0))","v":1}]
[null,null,null,null,null,null,null,null,null,null,null,1653,1.0471199259334383,{"$f":"IF(L1654=\"\",\"\",IF(M1654<Results!D$12,1,0))","v":0}]
[null,null,null,null,null,null,null,null,null,null,null,1654,1.0413200128876743,{"$f":"IF(L1655=\"\",\"\",IF(M1655<Results!D$12,1,0))","v":0}]
[null,null,null,null,null,null,null,null,null,null,null,1655,1.0430368797804472,{"$f":"IF(L1656=\"\",\"\",IF(M1656<Results!D$12,1,0))","v":0}]
[null,null,null,null,null,null,null,null,null,null,null,1656,1.034484790796953,{"$f":"IF(L1657=\"\",\"\",IF(M1657<Results!D$12,1,0))","v":1}]
[null,null,null,null,null,null,null,null,null,null,null,1657,1.0329037038028199,{"$f":"IF(L1658=\"\",\"\",IF(M1658<Results!D$12,1,0))","v":1}]
[null,null,null,null,null,null,null,null,null,null,null,1658,1.0265677290915955,{"$f":"IF(L1659=\"\",\"\",IF(M1659<Results!D$12,1,0))","v":1}]
[null,null,null,null,null,null,null,null,null,null,null,1659,1.0123296471372165,{"$f":"IF(L1660=\"\",\"\",IF(M1660<Results!D$12,1,0))","v":1}]
[null,null,null,null,null,null,null,null,null,null,null,1660,1.0369641329822528,{"$f":"IF(L1661=\"\",\"\",IF(M1661<Results!D$12,1,0))","v":1}]
[null,null,null,null,null,null,null,null,null,null,null,1661,1.0224681042594426,{"$f":"IF(L1662=\"\",\"\",IF(M1662<Results!D$12,1,0))","v":1}]
[null,null,null,null,null,null,null,null,null,null,null,1662,1.0443101039496105,{"$f":"IF(L1663=\"\",\"\",IF(M1663<Results!D$12,1,0))","v":0}]
[null,null,null,null,null,null,null,null,null,null,null,1663,1.0239733444122312,{"$f":"IF(L1664=\"\",\"\",IF(M1664<Results!D$12,1,0))","v":1}]
[null,null,null,null,null,null,null,null,null,null,null,1664,1.0654119999967453,{"$f":"IF(L1665=\"\",\"\",IF(M1665<Results!D$12,1,0))","v":0}]
[null,null,null,null,null,null,null,null,null,null,null,1665,1.0342095319962405,{"$f":"IF(L1666=\"\",\"\",IF(M1666<Results!D$12,1,0))","v":1}]
[null,null,null,null,null,null,null,null,null,null,null,{"$f":"IF(M1667=\"\",\"\",ROW(L1667)-1)","v":1666},1.0412869979923607,{"$f":"IF(L1667=\"\",\"\",IF(M1667<Results!D$12,1,0))","v":0}]
[null,null,null,null,null,null,null,null,null,null,null,1667,1.0646206230203537,{"$f":"IF(L1668=\"\",\"\",IF(M1668<Results!D$12,1,0))","v":0}]
[null,null,null,null,null,null,null,null,null,null,null,1668,1.0529840848200771,{"$f":"IF(L1669=\"\",\"\",IF(M1669<Results!D$12,1,0))","v":0}]
[null,null,null,null,null,null,null,null,null,null,null,1669,1.0433031799841528,{"$f":"IF(L1670=\"\",\"\",IF(M1670<Results!D$12,1,0))","v":0}]
[null,null,null,null,null,null,null,null,null,null,null,1670,1.0202934723440482,{"$f":"IF(L1671=\"\",\"\",IF(M1671<Results!D$12,1,0))","v":1}]
[null,null,null,null,null,null,null,null,null,null,null,1671,1.0199104549476656,{"$f":"IF(L1672=\"\",\"\",IF(M1672<Results!D$12,1,0))","v":1}]
[null,null,null,null,null,null,null,null,null,null,null,1672,1.0297644433373321,{"$f":"IF(L1673=\"\",\"\",IF(M1673<Results!D$12,1,0))","v":1}]
[null,null,null,null,null,null,null,null,null,null,null,1673,1.0350556709450935,{"$f":"IF(L1674=\"\",\"\",IF(M1674<Results!D$12,1,0))","v":1}]
[null,null,null,null,null,null,null,null,null,null,null,1674,1.0360256012105487,{"$f":"IF(L1675=\"\",\"\",IF(M1675<Results!D$12,1,0))","v":1}]
[null,null,null,null,null,null,null,null,null,null,null,1675,1.0240294036732582,{"$f":"IF(L1676=\"\",\"\",IF(M1676<Results!D$12,1,0))","v":1}]
[null,null,null,null,null,null,null,null,null,null,null,1676,1.0385686286128606,{"$f":"IF(L1677=\"\",\"\",IF(M1677<Results!D$12,1,0))","v":0}]
[null,null,null,null,null,null,null,null,null,null,null,1677,1.0466814306145453,{"$f":"IF(L1678=\"\",\"\",IF(M1678<Results!D$12,1,0))","v":0}]
[null,null,null,null,null,null,null,null,null,null,null,1678,1.0256930302295184,{"$f":"IF(L1679=\"\",\"\",IF(M1679<Results!D$12,1,0))","v":1}]
[null,null,null,null,null,null,null,null,null,null,null,1679,1.0297159684210468,{"$f":"IF(L1680=\"\",\"\",IF(M1680<Results!D$12,1,0))","v":1}]
[null,null,null,null,null,null,null,null,null,null,null,1680,1.0300471233683406,{"$f":"IF(L1681=\"\",\"\",IF(M1681<Results!D$12,1,0))","v":1}]
[null,null,null,null,null,null,null,null,null,null,null,1681,1.0186241120984449,{"$f":"IF(L1682=\"\",\"\",IF(M1682<Results!D$12,1,0))","v":1}]
[null,null,null,null,null,null,null,null,null,null,null,1682,1.029552432815162,{"$f":"IF(L1683=\"\",\"\",IF(M1683<Results!D$12,1,0))","v":1}]
[null,null,null,null,null,null,null,null,null,null,null,1683,1.0358815952094742,{"$f":"IF(L1684=\"\",\"\",IF(M1684<Results!D$12,1,0))","v":1}]
[null,null,null,null,null,null,null,null,null,null,null,1684,1.0241037043370553,{"$f":"IF(L1685=\"\",\"\",IF(M1685<Results!D$12,1,0))","v":1}]
[null,null,null,null,null,null,null,null,null,null,null,1685,1.0279772168038297,{"$f":"IF(L1686=\"\",\"\",IF(M1686<Results!D$12,1,0))","v":1}]
[null,null,null,null,null,null,null,null,null,null,null,1686,1.0420314545937246,{"$f":"IF(L1687=\"\",\"\",IF(M1687<Results!D$12,1,0))","v":0}]
[null,null,null,null,null,null,null,null,null,null,null,1687,1.0250330489382216,{"$f":"IF(L1688=\"\",\"\",IF(M1688<Results!D$12,1,0))","v":1}]
[null,null,null,null,null,null,null,null,null,null,null,1688,1.0423686714443441,{"$f":"IF(L1689=\"\",\"\",IF(M1689<Results!D$12,1,0))","v":0}]
[null,null,null,null,null,null,null,null,null,null,null,1689,1.0431982323422744,{"$f":"IF(L1690=\"\",\"\",IF(M1690<Results!D$12,1,0))","v":0}]
[null,null,null,null,null,null,null,null,null,null,null,1690,1.0590514656734438,{"$f":"IF(L1691=\"\",\"\",IF(M1691<Results!D$12,1,0))","v":0}]
[null,null,null,null,null,null,null,null,null,null,null,1691,1.0528786117842037,{"$f":"IF(L1692=\"\",\"\",IF(M1692<Results!D$12,1,0))","v":0}]
[null,null,null,null,null,null,null,null,null,null,null,1692,1.017531801760424,{"$f":"IF(L1693=\"\",\"\",IF(M1693<Results!D$12,1,0))","v":1}]
[null,null,null,null,null,null,null,null,null,null,null,1693,1.0181661634509847,{"$f":"IF(L1694=\"\",\"\",IF(M1694<Results!D$12,1,0))","v":1}]
[null,null,null,null,null,null,null,null,null,null,null,1694,1.0538926670437592,{"$f":"IF(L1695=\"\",\"\",IF(M1695<Results!D$12,1,0))","v":0}]
[null,null,null,null,null,null,null,null,null,null,null,1695,1.031350508773289,{"$f":"IF(L1696=\"\",\"\",IF(M1696<Results!D$12,1,0))","v":1}]
[null,null,null,null,null,null,null,null,null,null,null,1696,1.0302303020846553,{"$f":"IF(L1697=\"\",\"\",IF(M1697<Results!D$12,1,0))","v":1}]
[null,null,null,null,null,null,null,null,null,null,null,1697,1.0306430894664045,{"$f":"IF(L1698=\"\",\"\",IF(M1698<Results!D$12,1,0))","v":1}]
[null,null,null,null,null,null,null,null,null,null,null,1698,1.0631615708050763,{"$f":"IF(L1699=\"\",\"\",IF(M1699<Results!D$12,1,0))","v":0}]
[null,null,null,null,null,null,null,null,null,null,null,1699,1.0507400894716949,{"$f":"IF(L1700=\"\",\"\",IF(M1700<Results!D$12,1,0))","v":0}]
[null,null,null,null,null,null,null,null,null,null,null,1700,1.0450632455775137,{"$f":"IF(L1701=\"\",\"\",IF(M1701<Results!D$12,1,0))","v":0}]
[null,null,null,null,null,null,null,null,null,null,null,1701,1.0365204840706488,{"$f":"IF(L1702=\"\",\"\",IF(M1702<Results!D$12,1,0))","v":1}]
[null,null,null,null,null,null,null,null,null,null,null,1702,1.0245265603296569,{"$f":"IF(L1703=\"\",\"\",IF(M1703<Results!D$12,1,0))","v":1}]
[null,null,null,null,null,null,null,null,null,null,null,1703,1.0291317172909027,{"$f":"IF(L1704=\"\",\"\",IF(M1704<Results!D$12,1,0))","v":1}]
[null,null,null,null,null,null,null,null,null,null,null,1704,1.0240806561296343,{"$f":"IF(L1705=\"\",\"\",IF(M1705<Results!D$12,1,0))","v":1}]
[null,null,null,null,null,null,null,null,null,null,null,1705,1.0252954418374791,{"$f":"IF(L1706=\"\",\"\",IF(M1706<Results!D$12,1,0))","v":1}]
[null,null,null,null,null,null,null,null,null,null,null,1706,1.0457190909240541,{"$f":"IF(L1707=\"\",\"\",IF(M1707<Results!D$12,1,0))","v":0}]
[null,null,null,null,null,null,null,null,null,null,null,1707,1.0434798646006826,{"$f":"IF(L1708=\"\",\"\",IF(M1708<Results!D$12,1,0))","v":0}]
[null,null,null,null,null,null,null,null,null,null,null,1708,1.0543930162193071,{"$f":"IF(L1709=\"\",\"\",IF(M1709<Results!D$12,1,0))","v":0}]
[null,null,null,null,null,null,null,null,null,null,null,1709,1.030988212433692,{"$f":"IF(L1710=\"\",\"\",IF(M1710<Results!D$12,1,0))","v":1}]
[null,null,null,null,null,null,null,null,null,null,null,1710,1.0344890264854134,{"$f":"IF(L1711=\"\",\"\",IF(M1711<Results!D$12,1,0))","v":1}]
[null,null,null,null,null,null,null,null,null,null,null,1711,1.01097845528008,{"$f":"IF(L1712=\"\",\"\",IF(M1712<Results!D$12,1,0))","v":1}]
[null,null,null,null,null,null,null,null,null,null,null,1712,1.0150749903331153,{"$f":"IF(L1713=\"\",\"\",IF(M1713<Results!D$12,1,0))","v":1}]
[null,null,null,null,null,null,null,null,null,null,null,1713,1.0479867447963263,{"$f":"IF(L1714=\"\",\"\",IF(M1714<Results!D$12,1,0))","v":0}]
[null,null,null,null,null,null,null,null,null,null,null,1714,1.0422876604050519,{"$f":"IF(L1715=\"\",\"\",IF(M1715<Results!D$12,1,0))","v":0}]
[null,null,null,null,null,null,null,null,null,null,null,1715,1.0157476792803333,{"$f":"IF(L1716=\"\",\"\",IF(M1716<Results!D$12,1,0))","v":1}]
[null,null,null,null,null,null,null,null,null,null,null,1716,1.0330499094858601,{"$f":"IF(L1717=\"\",\"\",IF(M1717<Results!D$12,1,0))","v":1}]
[null,null,null,null,null,null,null,null,null,null,null,1717,1.0018975720777452,{"$f":"IF(L1718=\"\",\"\",IF(M1718<Results!D$12,1,0))","v":1}]
[null,null,null,null,null,null,null,null,null,null,null,1718,1.0251262749760668,{"$f":"IF(L1719=\"\",\"\",IF(M1719<Results!D$12,1,0))","v":1}]
[null,null,null,null,null,null,null,null,null,null,null,1719,1.0483851921248395,{"$f":"IF(L1720=\"\",\"\",IF(M1720<Results!D$12,1,0))","v":0}]
[null,null,null,null,null,null,null,null,null,null,null,1720,1.0332151617888745,{"$f":"IF(L1721=\"\",\"\",IF(M1721<Results!D$12,1,0))","v":1}]
[null,null,null,null,null,null,null,null,null,null,null,1721,1.0466149592544969,{"$f":"IF(L1722=\"\",\"\",IF(M1722<Results!D$12,1,0))","v":0}]
[null,null,null,null,null,null,null,null,null,null,null,1722,1.051216353500378,{"$f":"IF(L1723=\"\",\"\",IF(M1723<Results!D$12,1,0))","v":0}]
[null,null,null,null,null,null,null,null,null,null,null,1723,1.048454518827175,{"$f":"IF(L1724=\"\",\"\",IF(M1724<Results!D$12,1,0))","v":0}]
[null,null,null,null,null,null,null,null,null,null,null,1724,1.0156840701920611,{"$f":"IF(L1725=\"\",\"\",IF(M1725<Results!D$12,1,0))","v":1}]
[null,null,null,null,null,null,null,null,null,null,null,1725,1.0250474387139525,{"$f":"IF(L1726=\"\",\"\",IF(M1726<Results!D$12,1,0))","v":1}]
[null,null,null,null,null,null,null,null,null,null,null,1726,1.05745510864624,{"$f":"IF(L1727=\"\",\"\",IF(M1727<Results!D$12,1,0))","v":0}]
[null,null,null,null,null,null,null,null,null,null,null,1727,1.0407177762872952,{"$f":"IF(L1728=\"\",\"\",IF(M1728<Results!D$12,1,0))","v":0}]
[null,null,null,null,null,null,null,null,null,null,null,1728,1.0540098238887399,{"$f":"IF(L1729=\"\",\"\",IF(M1729<Results!D$12,1,0))","v":0}]
[null,null,null,null,null,null,null,null,null,null,null,1729,1.0124110975303815,{"$f":"IF(L1730=\"\",\"\",IF(M1730<Results!D$12,1,0))","v":1}]
[null,null,null,null,null,null,null,null,null,null,null,{"$f":"IF(M1731=\"\",\"\",ROW(L1731)-1)","v":1730},1.0418347252950666,{"$f":"IF(L1731=\"\",\"\",IF(M1731<Results!D$12,1,0))","v":0}]
[null,null,null,null,null,null,null,null,null,null,null,1731,1.0421742663380322,{"$f":"IF(L1732=\"\",\"\",IF(M1732<Results!D$12,1,0))","v":0}]
[null,null,null,null,null,null,null,null,null,null,null,1732,1.0299941232371725,{"$f":"IF(L1733=\"\",\"\",IF(M1733<Results!D$12,1,0))","v":1}]
[null,null,null,null,null,null,null,null,null,null,null,1733,1.0379135184045583,{"$f":"IF(L1734=\"\",\"\",IF(M1734<Results!D$12,1,0))","v":0}]
[null,null,null,null,null,null,null,null,null,null,null,1734,1.0351379129776528,{"$f":"IF(L1735=\"\",\"\",IF(M1735<Results!D$12,1,0))","v":1}]
[null,null,null,null,null,null,null,null,null,null,null,1735,1.0521555526514612,{"$f":"IF(L1736=\"\",\"\",IF(M1736<Results!D$12,1,0))","v":0}]
[null,null,null,null,null,null,null,null,null,null,null,1736,1.0421064840831489,{"$f":"IF(L1737=\"\",\"\",IF(M1737<Results!D$12,1,0))","v":0}]
[null,null,null,null,null,null,null,null,null,null,null,1737,1.0286930468647248,{"$f":"IF(L1738=\"\",\"\",IF(M1738<Results!D$12,1,0))","v":1}]
[null,null,null,null,null,null,null,null,null,null,null,1738,1.0448536633152619,{"$f":"IF(L1739=\"\",\"\",IF(M1739<Results!D$12,1,0))","v":0}]
[null,null,null,null,null,null,null,null,null,null,null,1739,1.0521786035598581,{"$f":"IF(L1740=\"\",\"\",IF(M1740<Results!D$12,1,0))","v":0}]
[null,null,null,null,null,null,null,null,null,null,null,1740,1.0236995011974517,{"$f":"IF(L1741=\"\",\"\",IF(M1741<Results!D$12,1,0))","v":1}]
[null,null,null,null,null,null,null,null,null,null,null,1741,1.0459053976990027,{"$f":"IF(L1742=\"\",\"\",IF(M1742<Results!D$12,1,0))","v":0}]
[null,null,null,null,null,null,null,null,null,null,null,1742,1.0226980788355977,{"$f":"IF(L1743=\"\",\"\",IF(M1743<Results!D$12,1,0))","v":1}]
[null,null,null,null,null,null,null,null,null,null,null,1743,1.058501923019735,{"$f":"IF(L1744=\"\",\"\",IF(M1744<Results!D$12,1,0))","v":0}]
[null,null,null,null,null,null,null,null,null,null,null,1744,1.03177523910326,{"$f":"IF(L1745=\"\",\"\",IF(M1745<Results!D$12,1,0))","v":1}]
[null,null,null,null,null,null,null,null,null,null,null,1745,1.0519588611828825,{"$f":"IF(L1746=\"\",\"\",IF(M1746<Results!D$12,1,0))","v":0}]
[null,null,null,null,null,null,null,null,null,null,null,1746,1.0484410488265201,{"$f":"IF(L1747=\"\",\"\",IF(M1747<Results!D$12,1,0))","v":0}]
[null,null,null,null,null,null,null,null,null,null,null,1747,1.0188325959821685,{"$f":"IF(L1748=\"\",\"\",IF(M1748<Results!D$12,1,0))","v":1}]
[null,null,null,null,null,null,null,null,null,null,null,1748,1.0624318078886694,{"$f":"IF(L1749=\"\",\"\",IF(M1749<Results!D$12,1,0))","v":0}]
[null,null,null,null,null,null,null,null,null,null,null,1749,1.019609960668042,{"$f":"IF(L1750=\"\",\"\",IF(M1750<Results!D$12,1,0))","v":1}]
[null,null,null,null,null,null,null,null,null,null,null,1750,1.0444525120845616,{"$f":"IF(L1751=\"\",\"\",IF(M1751<Results!D$12,1,0))","v":0}]
[null,null,null,null,null,null,null,null,null,null,null,1751,1.0165736577156985,{"$f":"IF(L1752=\"\",\"\",IF(M1752<Results!D$12,1,0))","v":1}]
[null,null,null,null,null,null,null,null,null,null,null,1752,1.0174096774499048,{"$f":"IF(L1753=\"\",\"\",IF(M1753<Results!D$12,1,0))","v":1}]
[null,null,null,null,null,null,null,null,null,null,null,1753,1.0293345071022031,{"$f":"IF(L1754=\"\",\"\",IF(M1754<Results!D$12,1,0))","v":1}]
[null,null,null,null,null,null,null,null,null,null,null,1754,1.0402806197158181,{"$f":"IF(L1755=\"\",\"\",IF(M1755<Results!D$12,1,0))","v":0}]
[null,null,null,null,null,null,null,null,null,null,null,1755,1.0238605236398,{"$f":"IF(L1756=\"\",\"\",IF(M1756<Results!D$12,1,0))","v":1}]
[null,null,null,null,null,null,null,null,null,null,null,1756,1.0320099412932413,{"$f":"IF(L1757=\"\",\"\",IF(M1757<Results!D$12,1,0))","v":1}]
[null,null,null,null,null,null,null,null,null,null,null,1757,1.0402551368298465,{"$f":"IF(L1758=\"\",\"\",IF(M1758<Results!D$12,1,0))","v":0}]
[null,null,null,null,null,null,null,null,null,null,null,1758,1.0340436732497424,{"$f":"IF(L1759=\"\",\"\",IF(M1759<Results!D$12,1,0))","v":1}]
[null,null,null,null,null,null,null,null,null,null,null,1759,1.0310478136153185,{"$f":"IF(L1760=\"\",\"\",IF(M1760<Results!D$12,1,0))","v":1}]
[null,null,null,null,null,null,null,null,null,null,null,1760,1.0303216239731425,{"$f":"IF(L1761=\"\",\"\",IF(M1761<Results!D$12,1,0))","v":1}]
[null,null,null,null,null,null,null,null,null,null,null,1761,1.0773072935080696,{"$f":"IF(L1762=\"\",\"\",IF(M1762<Results!D$12,1,0))","v":0}]
[null,null,null,null,null,null,null,null,null,null,null,1762,1.0467908336658467,{"$f":"IF(L1763=\"\",\"\",IF(M1763<Results!D$12,1,0))","v":0}]
[null,null,null,null,null,null,null,null,null,null,null,1763,1.0648633372763103,{"$f":"IF(L1764=\"\",\"\",IF(M1764<Results!D$12,1,0))","v":0}]
[null,null,null,null,null,null,null,null,null,null,null,1764,1.051707328613247,{"$f":"IF(L1765=\"\",\"\",IF(M1765<Results!D$12,1,0))","v":0}]
[null,null,null,null,null,null,null,null,null,null,null,1765,1.0289657320419205,{"$f":"IF(L1766=\"\",\"\",IF(M1766<Results!D$12,1,0))","v":1}]
[null,null,null,null,null,null,null,null,null,null,null,1766,1.0305420003061103,{"$f":"IF(L1767=\"\",\"\",IF(M1767<Results!D$12,1,0))","v":1}]
[null,null,null,null,null,null,null,null,null,null,null,1767,1.0457922460220241,{"$f":"IF(L1768=\"\",\"\",IF(M1768<Results!D$12,1,0))","v":0}]
[null,null,null,null,null,null,null,null,null,null,null,1768,1.041206738135678,{"$f":"IF(L1769=\"\",\"\",IF(M1769<Results!D$12,1,0))","v":0}]
[null,null,null,null,null,null,null,null,null,null,null,1769,1.0033522812450091,{"$f":"IF(L1770=\"\",\"\",IF(M1770<Results!D$12,1,0))","v":1}]
[null,null,null,null,null,null,null,null,null,null,null,1770,1.031557673108193,{"$f":"IF(L1771=\"\",\"\",IF(M1771<Results!D$12,1,0))","v":1}]
[null,null,null,null,null,null,null,null,null,null,null,1771,1.0525873607315437,{"$f":"IF(L1772=\"\",\"\",IF(M1772<Results!D$12,1,0))","v":0}]
[null,null,null,null,null,null,null,null,null,null,null,1772,1.0359168932942404,{"$f":"IF(L1773=\"\",\"\",IF(M1773<Results!D$12,1,0))","v":1}]
[null,null,null,null,null,null,null,null,null,null,null,1773,1.0335172214690969,{"$f":"IF(L1774=\"\",\"\",IF(M1774<Results!D$12,1,0))","v":1}]
[null,null,null,null,null,null,null,null,null,null,null,1774,1.0656051604454642,{"$f":"IF(L1775=\"\",\"\",IF(M1775<Results!D$12,1,0))","v":0}]
[null,null,null,null,null,null,null,null,null,null,null,1775,1.0395509788055151,{"$f":"IF(L1776=\"\",\"\",IF(M1776<Results!D$12,1,0))","v":0}]
[null,null,null,null,null,null,null,null,null,null,null,1776,1.0146138385416501,{"$f":"IF(L1777=\"\",\"\",IF(M1777<Results!D$12,1,0))","v":1}]
[null,null,null,null,null,null,null,null,null,null,null,1777,1.0318016661438969,{"$f":"IF(L1778=\"\",\"\",IF(M1778<Results!D$12,1,0))","v":1}]
[null,null,null,null,null,null,null,null,null,null,null,1778,1.0193716305089273,{"$f":"IF(L1779=\"\",\"\",IF(M1779<Results!D$12,1,0))","v":1}]
[null,null,null,null,null,null,null,null,null,null,null,1779,1.042565096802571,{"$f":"IF(L1780=\"\",\"\",IF(M1780<Results!D$12,1,0))","v":0}]
[null,null,null,null,null,null,null,null,null,null,null,1780,1.0342294989594132,{"$f":"IF(L1781=\"\",\"\",IF(M1781<Results!D$12,1,0))","v":1}]
[null,null,null,null,null,null,null,null,null,null,null,1781,1.0337379529360007,{"$f":"IF(L1782=\"\",\"\",IF(M1782<Results!D$12,1,0))","v":1}]
[null,null,null,null,null,null,null,null,null,null,null,1782,1.0406893272547932,{"$f":"IF(L1783=\"\",\"\",IF(M1783<Results!D$12,1,0))","v":0}]
[null,null,null,null,null,null,null,null,null,null,null,1783,1.022431275037464,{"$f":"IF(L1784=\"\",\"\",IF(M1784<Results!D$12,1,0))","v":1}]
[null,null,null,null,null,null,null,null,null,null,null,1784,1.0437566254327502,{"$f":"IF(L1785=\"\",\"\",IF(M1785<Results!D$12,1,0))","v":0}]
[null,null,null,null,null,null,null,null,null,null,null,1785,1.0482353382191498,{"$f":"IF(L1786=\"\",\"\",IF(M1786<Results!D$12,1,0))","v":0}]
[null,null,null,null,null,null,null,null,null,null,null,1786,1.0531701951698507,{"$f":"IF(L1787=\"\",\"\",IF(M1787<Results!D$12,1,0))","v":0}]
[null,null,null,null,null,null,null,null,null,null,null,1787,1.0384024541209549,{"$f":"IF(L1788=\"\",\"\",IF(M1788<Results!D$12,1,0))","v":0}]
[null,null,null,null,null,null,null,null,null,null,null,1788,1.0213396733038858,{"$f":"IF(L1789=\"\",\"\",IF(M1789<Results!D$12,1,0))","v":1}]
[null,null,null,null,null,null,null,null,null,null,null,1789,1.0354932885411356,{"$f":"IF(L1790=\"\",\"\",IF(M1790<Results!D$12,1,0))","v":1}]
[null,null,null,null,null,null,null,null,null,null,null,1790,1.0254670648309201,{"$f":"IF(L1791=\"\",\"\",IF(M1791<Results!D$12,1,0))","v":1}]
[null,null,null,null,null,null,null,null,null,null,null,1791,1.0429229367772834,{"$f":"IF(L1792=\"\",\"\",IF(M1792<Results!D$12,1,0))","v":0}]
[null,null,null,null,null,null,null,null,null,null,null,1792,1.0284539966037791,{"$f":"IF(L1793=\"\",\"\",IF(M1793<Results!D$12,1,0))","v":1}]
[null,null,null,null,null,null,null,null,null,null,null,1793,1.01057964132352,{"$f":"IF(L1794=\"\",\"\",IF(M1794<Results!D$12,1,0))","v":1}]
[null,null,null,null,null,null,null,null,null,null,null,{"$f":"IF(M1795=\"\",\"\",ROW(L1795)-1)","v":1794},1.0390705888167875,{"$f":"IF(L1795=\"\",\"\",IF(M1795<Results!D$12,1,0))","v":0}]
[null,null,null,null,null,null,null,null,null,null,null,1795,1.0187061004520896,{"$f":"IF(L1796=\"\",\"\",IF(M1796<Results!D$12,1,0))","v":1}]
[null,null,null,null,null,null,null,null,null,null,null,1796,1.054598943480719,{"$f":"IF(L1797=\"\",\"\",IF(M1797<Results!D$12,1,0))","v":0}]
[null,null,null,null,null,null,null,null,null,null,null,1797,1.0528476318118005,{"$f":"IF(L1798=\"\",\"\",IF(M1798<Results!D$12,1,0))","v":0}]
[null,null,null,null,null,null,null,null,null,null,null,1798,1.0634508289458591,{"$f":"IF(L1799=\"\",\"\",IF(M1799<Results!D$12,1,0))","v":0}]
[null,null,null,null,null,null,null,null,null,null,null,1799,1.0365663320639844,{"$f":"IF(L1800=\"\",\"\",IF(M1800<Results!D$12,1,0))","v":1}]
[null,null,null,null,null,null,null,null,null,null,null,1800,1.0410397814245003,{"$f":"IF(L1801=\"\",\"\",IF(M1801<Results!D$12,1,0))","v":0}]
[null,null,null,null,null,null,null,null,null,null,null,1801,1.0424449702285294,{"$f":"IF(L1802=\"\",\"\",IF(M1802<Results!D$12,1,0))","v":0}]
[null,null,null,null,null,null,null,null,null,null,null,1802,1.0296070181791654,{"$f":"IF(L1803=\"\",\"\",IF(M1803<Results!D$12,1,0))","v":1}]
[null,null,null,null,null,null,null,null,null,null,null,1803,1.0434853492669272,{"$f":"IF(L1804=\"\",\"\",IF(M1804<Results!D$12,1,0))","v":0}]
[null,null,null,null,null,null,null,null,null,null,null,1804,1.0402766294080341,{"$f":"IF(L1805=\"\",\"\",IF(M1805<Results!D$12,1,0))","v":0}]
[null,null,null,null,null,null,null,null,null,null,null,1805,1.0270628127069832,{"$f":"IF(L1806=\"\",\"\",IF(M1806<Results!D$12,1,0))","v":1}]
[null,null,null,null,null,null,null,null,null,null,null,1806,1.0448068880394563,{"$f":"IF(L1807=\"\",\"\",IF(M1807<Results!D$12,1,0))","v":0}]
[null,null,null,null,null,null,null,null,null,null,null,1807,1.0290143277082549,{"$f":"IF(L1808=\"\",\"\",IF(M1808<Results!D$12,1,0))","v":1}]
[null,null,null,null,null,null,null,null,null,null,null,1808,1.0458154485312892,{"$f":"IF(L1809=\"\",\"\",IF(M1809<Results!D$12,1,0))","v":0}]
[null,null,null,null,null,null,null,null,null,null,null,1809,1.0459453405708943,{"$f":"IF(L1810=\"\",\"\",IF(M1810<Results!D$12,1,0))","v":0}]
[null,null,null,null,null,null,null,null,null,null,null,1810,1.0698273769734281,{"$f":"IF(L1811=\"\",\"\",IF(M1811<Results!D$12,1,0))","v":0}]
[null,null,null,null,null,null,null,null,null,null,null,1811,1.049718614762986,{"$f":"IF(L1812=\"\",\"\",IF(M1812<Results!D$12,1,0))","v":0}]
[null,null,null,null,null,null,null,null,null,null,null,1812,1.0613270005785589,{"$f":"IF(L1813=\"\",\"\",IF(M1813<Results!D$12,1,0))","v":0}]
[null,null,null,null,null,null,null,null,null,null,null,1813,1.0393229523713314,{"$f":"IF(L1814=\"\",\"\",IF(M1814<Results!D$12,1,0))","v":0}]
[null,null,null,null,null,null,null,null,null,null,null,1814,1.0404634554487893,{"$f":"IF(L1815=\"\",\"\",IF(M1815<Results!D$12,1,0))","v":0}]
[null,null,null,null,null,null,null,null,null,null,null,1815,1.0629249051950056,{"$f":"IF(L1816=\"\",\"\",IF(M1816<Results!D$12,1,0))","v":0}]
[null,null,null,null,null,null,null,null,null,null,null,1816,1.0475055072891799,{"$f":"IF(L1817=\"\",\"\",IF(M1817<Results!D$12,1,0))","v":0}]
[null,null,null,null,null,null,null,null,null,null,null,1817,1.047038458929382,{"$f":"IF(L1818=\"\",\"\",IF(M1818<Results!D$12,1,0))","v":0}]
[null,null,null,null,null,null,null,null,null,null,null,1818,1.0334173245884575,{"$f":"IF(L1819=\"\",\"\",IF(M1819<Results!D$12,1,0))","v":1}]
[null,null,null,null,null,null,null,null,null,null,null,1819,1.0642928971181265,{"$f":"IF(L1820=\"\",\"\",IF(M1820<Results!D$12,1,0))","v":0}]
[null,null,null,null,null,null,null,null,null,null,null,1820,1.0597166222644692,{"$f":"IF(L1821=\"\",\"\",IF(M1821<Results!D$12,1,0))","v":0}]
[null,null,null,null,null,null,null,null,null,null,null,1821,1.0552532744763263,{"$f":"IF(L1822=\"\",\"\",IF(M1822<Results!D$12,1,0))","v":0}]
[null,null,null,null,null,null,null,null,null,null,null,1822,1.0636758020918824,{"$f":"IF(L1823=\"\",\"\",IF(M1823<Results!D$12,1,0))","v":0}]
[null,null,null,null,null,null,null,null,null,null,null,1823,1.025370031834562,{"$f":"IF(L1824=\"\",\"\",IF(M1824<Results!D$12,1,0))","v":1}]
[null,null,null,null,null,null,null,null,null,null,null,1824,1.0619636838430606,{"$f":"IF(L1825=\"\",\"\",IF(M1825<Results!D$12,1,0))","v":0}]
[null,null,null,null,null,null,null,null,null,null,null,1825,1.015303884463135,{"$f":"IF(L1826=\"\",\"\",IF(M1826<Results!D$12,1,0))","v":1}]
[null,null,null,null,null,null,null,null,null,null,null,1826,1.0261562654420857,{"$f":"IF(L1827=\"\",\"\",IF(M1827<Results!D$12,1,0))","v":1}]
[null,null,null,null,null,null,null,null,null,null,null,1827,1.0581126922744906,{"$f":"IF(L1828=\"\",\"\",IF(M1828<Results!D$12,1,0))","v":0}]
[null,null,null,null,null,null,null,null,null,null,null,1828,1.023943553888131,{"$f":"IF(L1829=\"\",\"\",IF(M1829<Results!D$12,1,0))","v":1}]
[null,null,null,null,null,null,null,null,null,null,null,1829,1.0583712107174421,{"$f":"IF(L1830=\"\",\"\",IF(M1830<Results!D$12,1,0))","v":0}]
[null,null,null,null,null,null,null,null,null,null,null,1830,1.0567877398516377,{"$f":"IF(L1831=\"\",\"\",IF(M1831<Results!D$12,1,0))","v":0}]
[null,null,null,null,null,null,null,null,null,null,null,1831,1.0509184672227212,{"$f":"IF(L1832=\"\",\"\",IF(M1832<Results!D$12,1,0))","v":0}]
[null,null,null,null,null,null,null,null,null,null,null,1832,1.0142160120530201,{"$f":"IF(L1833=\"\",\"\",IF(M1833<Results!D$12,1,0))","v":1}]
[null,null,null,null,null,null,null,null,null,null,null,1833,1.0540869692379897,{"$f":"IF(L1834=\"\",\"\",IF(M1834<Results!D$12,1,0))","v":0}]
[null,null,null,null,null,null,null,null,null,null,null,1834,1.01859618671831,{"$f":"IF(L1835=\"\",\"\",IF(M1835<Results!D$12,1,0))","v":1}]
[null,null,null,null,null,null,null,null,null,null,null,1835,1.0313702537700387,{"$f":"IF(L1836=\"\",\"\",IF(M1836<Results!D$12,1,0))","v":1}]
[null,null,null,null,null,null,null,null,null,null,null,1836,1.0603545722511785,{"$f":"IF(L1837=\"\",\"\",IF(M1837<Results!D$12,1,0))","v":0}]
[null,null,null,null,null,null,null,null,null,null,null,1837,1.0582472545835166,{"$f":"IF(L1838=\"\",\"\",IF(M1838<Results!D$12,1,0))","v":0}]
[null,null,null,null,null,null,null,null,null,null,null,1838,1.0361502625488934,{"$f":"IF(L1839=\"\",\"\",IF(M1839<Results!D$12,1,0))","v":1}]
[null,null,null,null,null,null,null,null,null,null,null,1839,1.0592727907939745,{"$f":"IF(L1840=\"\",\"\",IF(M1840<Results!D$12,1,0))","v":0}]
[null,null,null,null,null,null,null,null,null,null,null,1840,1.0551731760276535,{"$f":"IF(L1841=\"\",\"\",IF(M1841<Results!D$12,1,0))","v":0}]
[null,null,null,null,null,null,null,null,null,null,null,1841,1.0306918353812939,{"$f":"IF(L1842=\"\",\"\",IF(M1842<Results!D$12,1,0))","v":1}]
[null,null,null,null,null,null,null,null,null,null,null,1842,1.0432790944879515,{"$f":"IF(L1843=\"\",\"\",IF(M1843<Results!D$12,1,0))","v":0}]
[null,null,null,null,null,null,null,null,null,null,null,1843,1.0304019892332414,{"$f":"IF(L1844=\"\",\"\",IF(M1844<Results!D$12,1,0))","v":1}]
[null,null,null,null,null,null,null,null,null,null,null,1844,1.0334008574968687,{"$f":"IF(L1845=\"\",\"\",IF(M1845<Results!D$12,1,0))","v":1}]
[null,null,null,null,null,null,null,null,null,null,null,1845,1.0479795773424487,{"$f":"IF(L1846=\"\",\"\",IF(M1846<Results!D$12,1,0))","v":0}]
[null,null,null,null,null,null,null,null,null,null,null,1846,1.0179459759431784,{"$f":"IF(L1847=\"\",\"\",IF(M1847<Results!D$12,1,0))","v":1}]
[null,null,null,null,null,null,null,null,null,null,null,1847,1.0460037530423985,{"$f":"IF(L1848=\"\",\"\",IF(M1848<Results!D$12,1,0))","v":0}]
[null,null,null,null,null,null,null,null,null,null,null,1848,1.0546630096669241,{"$f":"IF(L1849=\"\",\"\",IF(M1849<Results!D$12,1,0))","v":0}]
[null,null,null,null,null,null,null,null,null,null,null,1849,1.041368658841811,{"$f":"IF(L1850=\"\",\"\",IF(M1850<Results!D$12,1,0))","v":0}]
[null,null,null,null,null,null,null,null,null,null,null,1850,1.0562065596172086,{"$f":"IF(L1851=\"\",\"\",IF(M1851<Results!D$12,1,0))","v":0}]
[null,null,null,null,null,null,null,null,null,null,null,1851,1.0400024377768065,{"$f":"IF(L1852=\"\",\"\",IF(M1852<Results!D$12,1,0))","v":0}]
[null,null,null,null,null,null,null,null,null,null,null,1852,1.0577079450676976,{"$f":"IF(L1853=\"\",\"\",IF(M1853<Results!D$12,1,0))","v":0}]
[null,null,null,null,null,null,null,null,null,null,null,1853,1.0293220227932474,{"$f":"IF(L1854=\"\",\"\",IF(M1854<Results!D$12,1,0))","v":1}]
[null,null,null,null,null,null,null,null,null,null,null,1854,1.0397119407304498,{"$f":"IF(L1855=\"\",\"\",IF(M1855<Results!D$12,1,0))","v":0}]
[null,null,null,null,null,null,null,null,null,null,null,1855,1.0768933446005657,{"$f":"IF(L1856=\"\",\"\",IF(M1856<Results!D$12,1,0))","v":0}]
[null,null,null,null,null,null,null,null,null,null,null,1856,1.0382121388146439,{"$f":"IF(L1857=\"\",\"\",IF(M1857<Results!D$12,1,0))","v":0}]
[null,null,null,null,null,null,null,null,null,null,null,1857,1.011878418215979,{"$f":"IF(L1858=\"\",\"\",IF(M1858<Results!D$12,1,0))","v":1}]
[null,null,null,null,null,null,null,null,null,null,null,{"$f":"IF(M1859=\"\",\"\",ROW(L1859)-1)","v":1858},1.0065221587013076,{"$f":"IF(L1859=\"\",\"\",IF(M1859<Results!D$12,1,0))","v":1}]
[null,null,null,null,null,null,null,null,null,null,null,1859,1.0135664507751934,{"$f":"IF(L1860=\"\",\"\",IF(M1860<Results!D$12,1,0))","v":1}]
[null,null,null,null,null,null,null,null,null,null,null,1860,1.0492540135056154,{"$f":"IF(L1861=\"\",\"\",IF(M1861<Results!D$12,1,0))","v":0}]
[null,null,null,null,null,null,null,null,null,null,null,1861,1.0315428018652484,{"$f":"IF(L1862=\"\",\"\",IF(M1862<Results!D$12,1,0))","v":1}]
[null,null,null,null,null,null,null,null,null,null,null,1862,1.041893664464973,{"$f":"IF(L1863=\"\",\"\",IF(M1863<Results!D$12,1,0))","v":0}]
[null,null,null,null,null,null,null,null,null,null,null,1863,1.066982549294974,{"$f":"IF(L1864=\"\",\"\",IF(M1864<Results!D$12,1,0))","v":0}]
[null,null,null,null,null,null,null,null,null,null,null,1864,1.0180643880811091,{"$f":"IF(L1865=\"\",\"\",IF(M1865<Results!D$12,1,0))","v":1}]
[null,null,null,null,null,null,null,null,null,null,null,1865,1.0302479114886536,{"$f":"IF(L1866=\"\",\"\",IF(M1866<Results!D$12,1,0))","v":1}]
[null,null,null,null,null,null,null,null,null,null,null,1866,1.0244376483541304,{"$f":"IF(L1867=\"\",\"\",IF(M1867<Results!D$12,1,0))","v":1}]
[null,null,null,null,null,null,null,null,null,null,null,1867,1.0424605654334334,{"$f":"IF(L1868=\"\",\"\",IF(M1868<Results!D$12,1,0))","v":0}]
[null,null,null,null,null,null,null,null,null,null,null,1868,1.0266286024810436,{"$f":"IF(L1869=\"\",\"\",IF(M1869<Results!D$12,1,0))","v":1}]
[null,null,null,null,null,null,null,null,null,null,null,1869,1.035292374121225,{"$f":"IF(L1870=\"\",\"\",IF(M1870<Results!D$12,1,0))","v":1}]
[null,null,null,null,null,null,null,null,null,null,null,1870,1.0608956855651728,{"$f":"IF(L1871=\"\",\"\",IF(M1871<Results!D$12,1,0))","v":0}]
[null,null,null,null,null,null,null,null,null,null,null,1871,1.0428058896510459,{"$f":"IF(L1872=\"\",\"\",IF(M1872<Results!D$12,1,0))","v":0}]
[null,null,null,null,null,null,null,null,null,null,null,1872,1.0457553562385249,{"$f":"IF(L1873=\"\",\"\",IF(M1873<Results!D$12,1,0))","v":0}]
[null,null,null,null,null,null,null,null,null,null,null,1873,1.0395019769205391,{"$f":"IF(L1874=\"\",\"\",IF(M1874<Results!D$12,1,0))","v":0}]
[null,null,null,null,null,null,null,null,null,null,null,1874,1.0325197936594013,{"$f":"IF(L1875=\"\",\"\",IF(M1875<Results!D$12,1,0))","v":1}]
[null,null,null,null,null,null,null,null,null,null,null,1875,1.0316345440794898,{"$f":"IF(L1876=\"\",\"\",IF(M1876<Results!D$12,1,0))","v":1}]
[null,null,null,null,null,null,null,null,null,null,null,1876,1.060084726685868,{"$f":"IF(L1877=\"\",\"\",IF(M1877<Results!D$12,1,0))","v":0}]
[null,null,null,null,null,null,null,null,null,null,null,1877,1.0470877818636319,{"$f":"IF(L1878=\"\",\"\",IF(M1878<Results!D$12,1,0))","v":0}]
[null,null,null,null,null,null,null,null,null,null,null,1878,1.0356636314386636,{"$f":"IF(L1879=\"\",\"\",IF(M1879<Results!D$12,1,0))","v":1}]
[null,null,null,null,null,null,null,null,null,null,null,1879,1.0415646742192028,{"$f":"IF(L1880=\"\",\"\",IF(M1880<Results!D$12,1,0))","v":0}]
[null,null,null,null,null,null,null,null,null,null,null,1880,1.0654109454106837,{"$f":"IF(L1881=\"\",\"\",IF(M1881<Results!D$12,1,0))","v":0}]
[null,null,null,null,null,null,null,null,null,null,null,1881,1.0300241584322232,{"$f":"IF(L1882=\"\",\"\",IF(M1882<Results!D$12,1,0))","v":1}]
[null,null,null,null,null,null,null,null,null,null,null,1882,1.0477361421399112,{"$f":"IF(L1883=\"\",\"\",IF(M1883<Results!D$12,1,0))","v":0}]
[null,null,null,null,null,null,null,null,null,null,null,1883,1.0320698690167118,{"$f":"IF(L1884=\"\",\"\",IF(M1884<Results!D$12,1,0))","v":1}]
[null,null,null,null,null,null,null,null,null,null,null,1884,1.0342572900658242,{"$f":"IF(L1885=\"\",\"\",IF(M1885<Results!D$12,1,0))","v":1}]
[null,null,null,null,null,null,null,null,null,null,null,1885,1.0280706742703376,{"$f":"IF(L1886=\"\",\"\",IF(M1886<Results!D$12,1,0))","v":1}]
[null,null,null,null,null,null,null,null,null,null,null,1886,1.037965401287126,{"$f":"IF(L1887=\"\",\"\",IF(M1887<Results!D$12,1,0))","v":0}]
[null,null,null,null,null,null,null,null,null,null,null,1887,1.0229134550424943,{"$f":"IF(L1888=\"\",\"\",IF(M1888<Results!D$12,1,0))","v":1}]
[null,null,null,null,null,null,null,null,null,null,null,1888,1.0524799087914753,{"$f":"IF(L1889=\"\",\"\",IF(M1889<Results!D$12,1,0))","v":0}]
[null,null,null,null,null,null,null,null,null,null,null,1889,1.0172293402848107,{"$f":"IF(L1890=\"\",\"\",IF(M1890<Results!D$12,1,0))","v":1}]
[null,null,null,null,null,null,null,null,null,null,null,1890,1.045216278148863,{"$f":"IF(L1891=\"\",\"\",IF(M1891<Results!D$12,1,0))","v":0}]
[null,null,null,null,null,null,null,null,null,null,null,1891,1.0401353822017285,{"$f":"IF(L1892=\"\",\"\",IF(M1892<Results!D$12,1,0))","v":0}]
[null,null,null,null,null,null,null,null,null,null,null,1892,1.058086799261303,{"$f":"IF(L1893=\"\",\"\",IF(M1893<Results!D$12,1,0))","v":0}]
[null,null,null,null,null,null,null,null,null,null,null,1893,1.042398853132068,{"$f":"IF(L1894=\"\",\"\",IF(M1894<Results!D$12,1,0))","v":0}]
[null,null,null,null,null,null,null,null,null,null,null,1894,1.0276938307761934,{"$f":"IF(L1895=\"\",\"\",IF(M1895<Results!D$12,1,0))","v":1}]
[null,null,null,null,null,null,null,null,null,null,null,1895,1.0386781829274603,{"$f":"IF(L1896=\"\",\"\",IF(M1896<Results!D$12,1,0))","v":0}]
[null,null,null,null,null,null,null,null,null,null,null,1896,1.05638702166167,{"$f":"IF(L1897=\"\",\"\",IF(M1897<Results!D$12,1,0))","v":0}]
[null,null,null,null,null,null,null,null,null,null,null,1897,1.0506641417659748,{"$f":"IF(L1898=\"\",\"\",IF(M1898<Results!D$12,1,0))","v":0}]
[null,null,null,null,null,null,null,null,null,null,null,1898,1.0433194988924523,{"$f":"IF(L1899=\"\",\"\",IF(M1899<Results!D$12,1,0))","v":0}]
[null,null,null,null,null,null,null,null,null,null,null,1899,1.0261954673489291,{"$f":"IF(L1900=\"\",\"\",IF(M1900<Results!D$12,1,0))","v":1}]
[null,null,null,null,null,null,null,null,null,null,null,1900,1.0341072271312741,{"$f":"IF(L1901=\"\",\"\",IF(M1901<Results!D$12,1,0))","v":1}]
[null,null,null,null,null,null,null,null,null,null,null,1901,1.0284169785904442,{"$f":"IF(L1902=\"\",\"\",IF(M1902<Results!D$12,1,0))","v":1}]
[null,null,null,null,null,null,null,null,null,null,null,1902,1.0371759447344844,{"$f":"IF(L1903=\"\",\"\",IF(M1903<Results!D$12,1,0))","v":1}]
[null,null,null,null,null,null,null,null,null,null,null,1903,1.0397054004273325,{"$f":"IF(L1904=\"\",\"\",IF(M1904<Results!D$12,1,0))","v":0}]
[null,null,null,null,null,null,null,null,null,null,null,1904,1.0509388195710638,{"$f":"IF(L1905=\"\",\"\",IF(M1905<Results!D$12,1,0))","v":0}]
[null,null,null,null,null,null,null,null,null,null,null,1905,1.0300100414488056,{"$f":"IF(L1906=\"\",\"\",IF(M1906<Results!D$12,1,0))","v":1}]
[null,null,null,null,null,null,null,null,null,null,null,1906,1.0339450015348037,{"$f":"IF(L1907=\"\",\"\",IF(M1907<Results!D$12,1,0))","v":1}]
[null,null,null,null,null,null,null,null,null,null,null,1907,1.0373684171656987,{"$f":"IF(L1908=\"\",\"\",IF(M1908<Results!D$12,1,0))","v":1}]
[null,null,null,null,null,null,null,null,null,null,null,1908,1.0349515123721842,{"$f":"IF(L1909=\"\",\"\",IF(M1909<Results!D$12,1,0))","v":1}]
[null,null,null,null,null,null,null,null,null,null,null,1909,1.0259269249099918,{"$f":"IF(L1910=\"\",\"\",IF(M1910<Results!D$12,1,0))","v":1}]
[null,null,null,null,null,null,null,null,null,null,null,1910,1.0560818232535056,{"$f":"IF(L1911=\"\",\"\",IF(M1911<Results!D$12,1,0))","v":0}]
[null,null,null,null,null,null,null,null,null,null,null,1911,1.0379456325442025,{"$f":"IF(L1912=\"\",\"\",IF(M1912<Results!D$12,1,0))","v":0}]
[null,null,null,null,null,null,null,null,null,null,null,1912,1.0579239551258877,{"$f":"IF(L1913=\"\",\"\",IF(M1913<Results!D$12,1,0))","v":0}]
[null,null,null,null,null,null,null,null,null,null,null,1913,1.0304916021326354,{"$f":"IF(L1914=\"\",\"\",IF(M1914<Results!D$12,1,0))","v":1}]
[null,null,null,null,null,null,null,null,null,null,null,1914,1.024886079976953,{"$f":"IF(L1915=\"\",\"\",IF(M1915<Results!D$12,1,0))","v":1}]
[null,null,null,null,null,null,null,null,null,null,null,1915,1.0355558419930988,{"$f":"IF(L1916=\"\",\"\",IF(M1916<Results!D$12,1,0))","v":1}]
[null,null,null,null,null,null,null,null,null,null,null,1916,1.0467303790212406,{"$f":"IF(L1917=\"\",\"\",IF(M1917<Results!D$12,1,0))","v":0}]
[null,null,null,null,null,null,null,null,null,null,null,1917,1.0261532406245197,{"$f":"IF(L1918=\"\",\"\",IF(M1918<Results!D$12,1,0))","v":1}]
[null,null,null,null,null,null,null,null,null,null,null,1918,1.0587089076817069,{"$f":"IF(L1919=\"\",\"\",IF(M1919<Results!D$12,1,0))","v":0}]
[null,null,null,null,null,null,null,null,null,null,null,1919,1.0494343959134551,{"$f":"IF(L1920=\"\",\"\",IF(M1920<Results!D$12,1,0))","v":0}]
[null,null,null,null,null,null,null,null,null,null,null,1920,1.0390921487153379,{"$f":"IF(L1921=\"\",\"\",IF(M1921<Results!D$12,1,0))","v":0}]
[null,null,null,null,null,null,null,null,null,null,null,1921,1.0208425967500374,{"$f":"IF(L1922=\"\",\"\",IF(M1922<Results!D$12,1,0))","v":1}]
[null,null,null,null,null,null,null,null,null,null,null,{"$f":"IF(M1923=\"\",\"\",ROW(L1923)-1)","v":1922},1.0363724575453459,{"$f":"IF(L1923=\"\",\"\",IF(M1923<Results!D$12,1,0))","v":1}]
[null,null,null,null,null,null,null,null,null,null,null,1923,1.0444125422903285,{"$f":"IF(L1924=\"\",\"\",IF(M1924<Results!D$12,1,0))","v":0}]
[null,null,null,null,null,null,null,null,null,null,null,1924,1.04472401535489,{"$f":"IF(L1925=\"\",\"\",IF(M1925<Results!D$12,1,0))","v":0}]
[null,null,null,null,null,null,null,null,null,null,null,1925,1.0564358028581406,{"$f":"IF(L1926=\"\",\"\",IF(M1926<Results!D$12,1,0))","v":0}]
[null,null,null,null,null,null,null,null,null,null,null,1926,1.0444791762453467,{"$f":"IF(L1927=\"\",\"\",IF(M1927<Results!D$12,1,0))","v":0}]
[null,null,null,null,null,null,null,null,null,null,null,1927,1.0368279939574805,{"$f":"IF(L1928=\"\",\"\",IF(M1928<Results!D$12,1,0))","v":1}]
[null,null,null,null,null,null,null,null,null,null,null,1928,1.0126199618030365,{"$f":"IF(L1929=\"\",\"\",IF(M1929<Results!D$12,1,0))","v":1}]
[null,null,null,null,null,null,null,null,null,null,null,1929,1.0291807350750202,{"$f":"IF(L1930=\"\",\"\",IF(M1930<Results!D$12,1,0))","v":1}]
[null,null,null,null,null,null,null,null,null,null,null,1930,1.0331722246323256,{"$f":"IF(L1931=\"\",\"\",IF(M1931<Results!D$12,1,0))","v":1}]
[null,null,null,null,null,null,null,null,null,null,null,1931,1.0266793266505934,{"$f":"IF(L1932=\"\",\"\",IF(M1932<Results!D$12,1,0))","v":1}]
[null,null,null,null,null,null,null,null,null,null,null,1932,1.0243590350611766,{"$f":"IF(L1933=\"\",\"\",IF(M1933<Results!D$12,1,0))","v":1}]
[null,null,null,null,null,null,null,null,null,null,null,1933,1.0278921155600198,{"$f":"IF(L1934=\"\",\"\",IF(M1934<Results!D$12,1,0))","v":1}]
[null,null,null,null,null,null,null,null,null,null,null,1934,1.0626978892762213,{"$f":"IF(L1935=\"\",\"\",IF(M1935<Results!D$12,1,0))","v":0}]
[null,null,null,null,null,null,null,null,null,null,null,1935,1.0520948810992437,{"$f":"IF(L1936=\"\",\"\",IF(M1936<Results!D$12,1,0))","v":0}]
[null,null,null,null,null,null,null,null,null,null,null,1936,1.0381992119124472,{"$f":"IF(L1937=\"\",\"\",IF(M1937<Results!D$12,1,0))","v":0}]
[null,null,null,null,null,null,null,null,null,null,null,1937,1.0395976982391715,{"$f":"IF(L1938=\"\",\"\",IF(M1938<Results!D$12,1,0))","v":0}]
[null,null,null,null,null,null,null,null,null,null,null,1938,1.0402136778059849,{"$f":"IF(L1939=\"\",\"\",IF(M1939<Results!D$12,1,0))","v":0}]
[null,null,null,null,null,null,null,null,null,null,null,1939,1.0378431285623222,{"$f":"IF(L1940=\"\",\"\",IF(M1940<Results!D$12,1,0))","v":0}]
[null,null,null,null,null,null,null,null,null,null,null,1940,1.0161898135648617,{"$f":"IF(L1941=\"\",\"\",IF(M1941<Results!D$12,1,0))","v":1}]
[null,null,null,null,null,null,null,null,null,null,null,1941,1.0505713029581782,{"$f":"IF(L1942=\"\",\"\",IF(M1942<Results!D$12,1,0))","v":0}]
[null,null,null,null,null,null,null,null,null,null,null,1942,1.0163864745131976,{"$f":"IF(L1943=\"\",\"\",IF(M1943<Results!D$12,1,0))","v":1}]
[null,null,null,null,null,null,null,null,null,null,null,1943,1.0436719772307488,{"$f":"IF(L1944=\"\",\"\",IF(M1944<Results!D$12,1,0))","v":0}]
[null,null,null,null,null,null,null,null,null,null,null,1944,1.045822883062876,{"$f":"IF(L1945=\"\",\"\",IF(M1945<Results!D$12,1,0))","v":0}]
[null,null,null,null,null,null,null,null,null,null,null,1945,1.0533988409140849,{"$f":"IF(L1946=\"\",\"\",IF(M1946<Results!D$12,1,0))","v":0}]
[null,null,null,null,null,null,null,null,null,null,null,1946,1.0336219039018766,{"$f":"IF(L1947=\"\",\"\",IF(M1947<Results!D$12,1,0))","v":1}]
[null,null,null,null,null,null,null,null,null,null,null,1947,1.0297328401573167,{"$f":"IF(L1948=\"\",\"\",IF(M1948<Results!D$12,1,0))","v":1}]
[null,null,null,null,null,null,null,null,null,null,null,1948,1.0389965148592757,{"$f":"IF(L1949=\"\",\"\",IF(M1949<Results!D$12,1,0))","v":0}]
[null,null,null,null,null,null,null,null,null,null,null,1949,1.0342070637158267,{"$f":"IF(L1950=\"\",\"\",IF(M1950<Results!D$12,1,0))","v":1}]
[null,null,null,null,null,null,null,null,null,null,null,1950,1.0384568719971494,{"$f":"IF(L1951=\"\",\"\",IF(M1951<Results!D$12,1,0))","v":0}]
[null,null,null,null,null,null,null,null,null,null,null,1951,1.0565087742801573,{"$f":"IF(L1952=\"\",\"\",IF(M1952<Results!D$12,1,0))","v":0}]
[null,null,null,null,null,null,null,null,null,null,null,1952,1.0385581008645874,{"$f":"IF(L1953=\"\",\"\",IF(M1953<Results!D$12,1,0))","v":0}]
[null,null,null,null,null,null,null,null,null,null,null,1953,1.0904430845988704,{"$f":"IF(L1954=\"\",\"\",IF(M1954<Results!D$12,1,0))","v":0}]
[null,null,null,null,null,null,null,null,null,null,null,1954,1.0514898844000464,{"$f":"IF(L1955=\"\",\"\",IF(M1955<Results!D$12,1,0))","v":0}]
[null,null,null,null,null,null,null,null,null,null,null,1955,1.0435079890417962,{"$f":"IF(L1956=\"\",\"\",IF(M1956<Results!D$12,1,0))","v":0}]
[null,null,null,null,null,null,null,null,null,null,null,1956,1.0410051052082141,{"$f":"IF(L1957=\"\",\"\",IF(M1957<Results!D$12,1,0))","v":0}]
[null,null,null,null,null,null,null,null,null,null,null,1957,1.0309936759079597,{"$f":"IF(L1958=\"\",\"\",IF(M1958<Results!D$12,1,0))","v":1}]
[null,null,null,null,null,null,null,null,null,null,null,1958,1.0364160216219684,{"$f":"IF(L1959=\"\",\"\",IF(M1959<Results!D$12,1,0))","v":1}]
[null,null,null,null,null,null,null,null,null,null,null,1959,1.0517882797935889,{"$f":"IF(L1960=\"\",\"\",IF(M1960<Results!D$12,1,0))","v":0}]
[null,null,null,null,null,null,null,null,null,null,null,1960,1.0232323324029222,{"$f":"IF(L1961=\"\",\"\",IF(M1961<Results!D$12,1,0))","v":1}]
[null,null,null,null,null,null,null,null,null,null,null,1961,1.0206102132224453,{"$f":"IF(L1962=\"\",\"\",IF(M1962<Results!D$12,1,0))","v":1}]
[null,null,null,null,null,null,null,null,null,null,null,1962,1.0404943819605015,{"$f":"IF(L1963=\"\",\"\",IF(M1963<Results!D$12,1,0))","v":0}]
[null,null,null,null,null,null,null,null,null,null,null,1963,1.03567485656894,{"$f":"IF(L1964=\"\",\"\",IF(M1964<Results!D$12,1,0))","v":1}]
[null,null,null,null,null,null,null,null,null,null,null,1964,1.0306506646657272,{"$f":"IF(L1965=\"\",\"\",IF(M1965<Results!D$12,1,0))","v":1}]
[null,null,null,null,null,null,null,null,null,null,null,1965,1.0503269337933638,{"$f":"IF(L1966=\"\",\"\",IF(M1966<Results!D$12,1,0))","v":0}]
[null,null,null,null,null,null,null,null,null,null,null,1966,1.0393069576583467,{"$f":"IF(L1967=\"\",\"\",IF(M1967<Results!D$12,1,0))","v":0}]
[null,null,null,null,null,null,null,null,null,null,null,1967,1.0328815441321975,{"$f":"IF(L1968=\"\",\"\",IF(M1968<Results!D$12,1,0))","v":1}]
[null,null,null,null,null,null,null,null,null,null,null,1968,1.0321725277388081,{"$f":"IF(L1969=\"\",\"\",IF(M1969<Results!D$12,1,0))","v":1}]
[null,null,null,null,null,null,null,null,null,null,null,1969,1.0500704473946407,{"$f":"IF(L1970=\"\",\"\",IF(M1970<Results!D$12,1,0))","v":0}]
[null,null,null,null,null,null,null,null,null,null,null,1970,1.026789672711075,{"$f":"IF(L1971=\"\",\"\",IF(M1971<Results!D$12,1,0))","v":1}]
[null,null,null,null,null,null,null,null,null,null,null,1971,1.04430292949571,{"$f":"IF(L1972=\"\",\"\",IF(M1972<Results!D$12,1,0))","v":0}]
[null,null,null,null,null,null,null,null,null,null,null,1972,1.0776997596299209,{"$f":"IF(L1973=\"\",\"\",IF(M1973<Results!D$12,1,0))","v":0}]
[null,null,null,null,null,null,null,null,null,null,null,1973,1.0269031544091494,{"$f":"IF(L1974=\"\",\"\",IF(M1974<Results!D$12,1,0))","v":1}]
[null,null,null,null,null,null,null,null,null,null,null,1974,1.0352043442240262,{"$f":"IF(L1975=\"\",\"\",IF(M1975<Results!D$12,1,0))","v":1}]
[null,null,null,null,null,null,null,null,null,null,null,1975,1.0350475907188306,{"$f":"IF(L1976=\"\",\"\",IF(M1976<Results!D$12,1,0))","v":1}]
[null,null,null,null,null,null,null,null,null,null,null,1976,1.0390547846749647,{"$f":"IF(L1977=\"\",\"\",IF(M1977<Results!D$12,1,0))","v":0}]
[null,null,null,null,null,null,null,null,null,null,null,1977,1.0249100069286159,{"$f":"IF(L1978=\"\",\"\",IF(M1978<Results!D$12,1,0))","v":1}]
[null,null,null,null,null,null,null,null,null,null,null,1978,1.0332816143593997,{"$f":"IF(L1979=\"\",\"\",IF(M1979<Results!D$12,1,0))","v":1}]
[null,null,null,null,null,null,null,null,null,null,null,1979,1.0356424108745919,{"$f":"IF(L1980=\"\",\"\",IF(M1980<Results!D$12,1,0))","v":1}]
[null,null,null,null,null,null,null,null,null,null,null,1980,1.0077638282378447,{"$f":"IF(L1981=\"\",\"\",IF(M1981<Results!D$12,1,0))","v":1}]
[null,null,null,null,null,null,null,null,null,null,null,1981,1.0237497737655463,{"$f":"IF(L1982=\"\",\"\",IF(M1982<Results!D$12,1,0))","v":1}]
[null,null,null,null,null,null,null,null,null,null,null,1982,1.0275679355119767,{"$f":"IF(L1983=\"\",\"\",IF(M1983<Results!D$12,1,0))","v":1}]
[null,null,null,null,null,null,null,null,null,null,null,1983,1.0054869979346923,{"$f":"IF(L1984=\"\",\"\",IF(M1984<Results!D$12,1,0))","v":1}]
[null,null,null,null,null,null,null,null,null,null,null,1984,1.0531510922630556,{"$f":"IF(L1985=\"\",\"\",IF(M1985<Results!D$12,1,0))","v":0}]
[null,null,null,null,null,null,null,null,null,null,null,1985,1.062260827803875,{"$f":"IF(L1986=\"\",\"\",IF(M1986<Results!D$12,1,0))","v":0}]
[null,null,null,null,null,null,null,null,null,null,null,{"$f":"IF(M1987=\"\",\"\",ROW(L1987)-1)","v":1986},1.0353299150920834,{"$f":"IF(L1987=\"\",\"\",IF(M1987<Results!D$12,1,0))","v":1}]
[null,null,null,null,null,null,null,null,null,null,null,1987,1.0428304483941948,{"$f":"IF(L1988=\"\",\"\",IF(M1988<Results!D$12,1,0))","v":0}]
[null,null,null,null,null,null,null,null,null,null,null,1988,1.0554326240897607,{"$f":"IF(L1989=\"\",\"\",IF(M1989<Results!D$12,1,0))","v":0}]
[null,null,null,null,null,null,null,null,null,null,null,1989,1.0283865464315753,{"$f":"IF(L1990=\"\",\"\",IF(M1990<Results!D$12,1,0))","v":1}]
[null,null,null,null,null,null,null,null,null,null,null,1990,1.0171050558996946,{"$f":"IF(L1991=\"\",\"\",IF(M1991<Results!D$12,1,0))","v":1}]
[null,null,null,null,null,null,null,null,null,null,null,1991,1.0242587606971831,{"$f":"IF(L1992=\"\",\"\",IF(M1992<Results!D$12,1,0))","v":1}]
[null,null,null,null,null,null,null,null,null,null,null,1992,1.0488199903604831,{"$f":"IF(L1993=\"\",\"\",IF(M1993<Results!D$12,1,0))","v":0}]
[null,null,null,null,null,null,null,null,null,null,null,1993,1.043611799774472,{"$f":"IF(L1994=\"\",\"\",IF(M1994<Results!D$12,1,0))","v":0}]
[null,null,null,null,null,null,null,null,null,null,null,1994,1.0644471889257987,{"$f":"IF(L1995=\"\",\"\",IF(M1995<Results!D$12,1,0))","v":0}]
[null,null,null,null,null,null,null,null,null,null,null,1995,1.0309461613741902,{"$f":"IF(L1996=\"\",\"\",IF(M1996<Results!D$12,1,0))","v":1}]
[null,null,null,null,null,null,null,null,null,null,null,1996,1.0294221036701756,{"$f":"IF(L1997=\"\",\"\",IF(M1997<Results!D$12,1,0))","v":1}]
[null,null,null,null,null,null,null,null,null,null,null,1997,1.0441774125172718,{"$f":"IF(L1998=\"\",\"\",IF(M1998<Results!D$12,1,0))","v":0}]
[null,null,null,null,null,null,null,null,null,null,null,1998,1.0263150307101276,{"$f":"IF(L1999=\"\",\"\",IF(M1999<Results!D$12,1,0))","v":1}]
[null,null,null,null,null,null,null,null,null,null,null,1999,1.0305633932975491,{"$f":"IF(L2000=\"\",\"\",IF(M2000<Results!D$12,1,0))","v":1}]
[null,null,null,null,null,null,null,null,null,null,null,2017,1.017191893326773,{"$f":"IF(L2018=\"\",\"\",IF(M2018<Results!D$12,1,0))","v":1}]
[null,null,null,null,null,null,null,null,null,null,null,2033,1.0401600365732691,{"$f":"IF(L2034=\"\",\"\",IF(M2034<Results!D$12,1,0))","v":0}]
[null,null,null,null,null,null,null,null,null,null,null,2066,1.0572006471349984,{"$f":"IF(L2067=\"\",\"\",IF(M2067<Results!D$12,1,0))","v":0}]
[null,null,null,null,null,null,null,null,null,null,null,2091,1.0459607572607961,{"$f":"IF(L2092=\"\",\"\",IF(M2092<Results!D$12,1,0))","v":0}]
[null,null,null,null,null,null,null,null,null,null,null,2109,1.0224038181708766,{"$f":"IF(L2110=\"\",\"\",IF(M2110<Results!D$12,1,0))","v":1}]
[null,null,null,null,null,null,null,null,null,null,null,2132,1.034337014746374,{"$f":"IF(L2133=\"\",\"\",IF(M2133<Results!D$12,1,0))","v":1}]
[null,null,null,null,null,null,null,null,null,null,null,2157,1.016362571513336,{"$f":"IF(L2158=\"\",\"\",IF(M2158<Results!D$12,1,0))","v":1}]
[null,null,null,null,null,null,null,null,null,null,null,2166,1.0473475795377818,{"$f":"IF(L2167=\"\",\"\",IF(M2167<Results!D$12,1,0))","v":0}]
[null,null,null,null,null,null,null,null,null,null,null,2201,1.0661291106444002,{"$f":"IF(L2202=\"\",\"\",IF(M2202<Results!D$12,1,0))","v":0}]
[null,null,null,null,null,null,null,null,null,null,null,2223,1.0294139666626476,{"$f":"IF(L2224=\"\",\"\",IF(M2224<Results!D$12,1,0))","v":1}]
[null,null,null,null,null,null,null,null,null,null,null,2256,1.0203365289746806,{"$f":"IF(L2257=\"\",\"\",IF(M2257<Results!D$12,1,0))","v":1}]
[null,null,null,null,null,null,null,null,null,null,null,2281,1.0392050887172184,{"$f":"IF(L2282=\"\",\"\",IF(M2282<Results!D$12,1,0))","v":0}]
[null,null,null,null,null,null,null,null,null,null,null,2304,1.0317763310022436,{"$f":"IF(L2305=\"\",\"\",IF(M2305<Results!D$12,1,0))","v":1}]
[null,null,null,null,null,null,null,null,null,null,null,2322,1.0220577328885745,{"$f":"IF(L2323=\"\",\"\",IF(M2323<Results!D$12,1,0))","v":1}]
[null,null,null,null,null,null,null,null,null,null,null,2347,1.0544684156987369,{"$f":"IF(L2348=\"\",\"\",IF(M2348<Results!D$12,1,0))","v":0}]
[null,null,null,null,null,null,null,null,null,null,null,2356,1.0670169434189263,{"$f":"IF(L2357=\"\",\"\",IF(M2357<Results!D$12,1,0))","v":0}]
[null,null,null,null,null,null,null,null,null,null,null,2396,1.0277340237938208,{"$f":"IF(L2397=\"\",\"\",IF(M2397<Results!D$12,1,0))","v":1}]
[null,null,null,null,null,null,null,null,null,null,null,2413,1.0448598893713903,{"$f":"IF(L2414=\"\",\"\",IF(M2414<Results!D$12,1,0))","v":0}]
[null,null,null,null,null,null,null,null,null,null,null,2446,1.057359561628231,{"$f":"IF(L2447=\"\",\"\",IF(M2447<Results!D$12,1,0))","v":0}]
[null,null,null,null,null,null,null,null,null,null,null,2471,1.0334053263967891,{"$f":"IF(L2472=\"\",\"\",IF(M2472<Results!D$12,1,0))","v":1}]
[null,null,null,null,null,null,null,null,null,null,null,2476,1.0522040376091633,{"$f":"IF(L2477=\"\",\"\",IF(M2477<Results!D$12,1,0))","v":0}]
[null,null,null,null,null,null,null,null,null,null,null,2504,1.0293225603520229,{"$f":"IF(L2505=\"\",\"\",IF(M2505<Results!D$12,1,0))","v":1}]
[null,null,null,null,null,null,null,null,null,null,null,2537,1.0140504205464247,{"$f":"IF(L2538=\"\",\"\",IF(M2538<Results!D$12,1,0))","v":1}]
[null,null,null,null,null,null,null,null,null,null,null,2546,1.0623254244231459,{"$f":"IF(L2547=\"\",\"\",IF(M2547<Results!D$12,1,0))","v":0}]
[null,null,null,null,null,null,null,null,null,null,null,2591,1.0539408670200541,{"$f":"IF(L2592=\"\",\"\",IF(M2592<Results!D$12,1,0))","v":0}]
[null,null,null,null,null,null,null,null,null,null,null,2603,1.0448223298772574,{"$f":"IF(L2604=\"\",\"\",IF(M2604<Results!D$12,1,0))","v":0}]
[null,null,null,null,null,null,null,null,null,null,null,2636,1.0341635500959379,{"$f":"IF(L2637=\"\",\"\",IF(M2637<Results!D$12,1,0))","v":1}]
[null,null,null,null,null,null,null,null,null,null,null,2661,1.0266805995405412,{"$f":"IF(L2662=\"\",\"\",IF(M2662<Results!D$12,1,0))","v":1}]
[null,null,null,null,null,null,null,null,null,null,null,2671,1.0466326365090679,{"$f":"IF(L2672=\"\",\"\",IF(M2672<Results!D$12,1,0))","v":0}]
[null,null,null,null,null,null,null,null,null,null,null,2694,1.0351300812435966,{"$f":"IF(L2695=\"\",\"\",IF(M2695<Results!D$12,1,0))","v":1}]
[null,null,null,null,null,null,null,null,null,null,null,2727,1.0522460406989362,{"$f":"IF(L2728=\"\",\"\",IF(M2728<Results!D$12,1,0))","v":0}]
[null,null,null,null,null,null,null,null,null,null,null,2736,1.021807070667204,{"$f":"IF(L2737=\"\",\"\",IF(M2737<Results!D$12,1,0))","v":1}]
[null,null,null,null,null,null,null,null,null,null,null,2763,1.0433617967456581,{"$f":"IF(L2764=\"\",\"\",IF(M2764<Results!D$12,1,0))","v":0}]
[null,null,null,null,null,null,null,null,null,null,null,2793,1.0272636880439996,{"$f":"IF(L2794=\"\",\"\",IF(M2794<Results!D$12,1,0))","v":1}]
[null,null,null,null,null,null,null,null,null,null,null,2826,1.062298998321924,{"$f":"IF(L2827=\"\",\"\",IF(M2827<Results!D$12,1,0))","v":0}]
[null,null,null,null,null,null,null,null,null,null,null,2851,1.0420016362645002,{"$f":"IF(L2852=\"\",\"\",IF(M2852<Results!D$12,1,0))","v":0}]
[null,null,null,null,null,null,null,null,null,null,null,2866,1.047644593211152,{"$f":"IF(L2867=\"\",\"\",IF(M2867<Results!D$12,1,0))","v":0}]
[null,null,null,null,null,null,null,null,null,null,null,2884,1.0293483401963686,{"$f":"IF(L2885=\"\",\"\",IF(M2885<Results!D$12,1,0))","v":1}]
[null,null,null,null,null,null,null,null,null,null,null,2917,1.0370195395719948,{"$f":"IF(L2918=\"\",\"\",IF(M2918<Results!D$12,1,0))","v":1}]
[null,null,null,null,null,null,null,null,null,null,null,2926,1.0513269018041325,{"$f":"IF(L2927=\"\",\"\",IF(M2927<Results!D$12,1,0))","v":0}]
[null,null,null,null,null,null,null,null,null,null,null,2958,1.0442234031974593,{"$f":"IF(L2959=\"\",\"\",IF(M2959<Results!D$12,1,0))","v":0}]
[null,null,null,null,null,null,null,null,null,null,null,2983,1.0287125610693828,{"$f":"IF(L2984=\"\",\"\",IF(M2984<Results!D$12,1,0))","v":1}]
[null,null,null,null,null,null,null,null,null,null,null,3008,1.0297896129110473,{"$f":"IF(L3009=\"\",\"\",IF(M3009<Results!D$12,1,0))","v":1}]
[null,null,null,null,null,null,null,null,null,null,null,3041,1.0679451508942217,{"$f":"IF(L3042=\"\",\"\",IF(M3042<Results!D$12,1,0))","v":0}]
[null,null,null,null,null,null,null,null,null,null,null,3061,1.0463862144486424,{"$f":"IF(L3062=\"\",\"\",IF(M3062<Results!D$12,1,0))","v":0}]
[null,null,null,null,null,null,null,null,null,null,null,{"$f":"IF(M3075=\"\",\"\",ROW(L3075)-1)","v":3074},1.044831594479728,{"$f":"IF(L3075=\"\",\"\",IF(M3075<Results!D$12,1,0))","v":0}]
[null,null,null,null,null,null,null,null,null,null,null,3107,1.009872244234622,{"$f":"IF(L3108=\"\",\"\",IF(M3108<Results!D$12,1,0))","v":1}]
[null,null,null,null,null,null,null,null,null,null,null,3116,1.0608587254516471,{"$f":"IF(L3117=\"\",\"\",IF(M3117<Results!D$12,1,0))","v":0}]
[null,null,null,null,null,null,null,null,null,null,null,3153,1.0334569321602314,{"$f":"IF(L3154=\"\",\"\",IF(M3154<Results!D$12,1,0))","v":1}]
[null,null,null,null,null,null,null,null,null,null,null,3173,1.0366765955649497,{"$f":"IF(L3174=\"\",\"\",IF(M3174<Results!D$12,1,0))","v":1}]
[null,null,null,null,null,null,null,null,null,null,null,3198,1.0221936849147042,{"$f":"IF(L3199=\"\",\"\",IF(M3199<Results!D$12,1,0))","v":1}]
[null,null,null,null,null,null,null,null,null,null,null,3231,1.034280648421799,{"$f":"IF(L3232=\"\",\"\",IF(M3232<Results!D$12,1,0))","v":1}]
[null,null,null,null,null,null,null,null,null,null,null,3256,1.0282003260844028,{"$f":"IF(L3257=\"\",\"\",IF(M3257<Results!D$12,1,0))","v":1}]
[null,null,null,null,null,null,null,null,null,null,null,3264,1.0406486263772066,{"$f":"IF(L3265=\"\",\"\",IF(M3265<Results!D$12,1,0))","v":0}]
[null,null,null,null,null,null,null,null,null,null,null,3297,1.0251859182064527,{"$f":"IF(L3298=\"\",\"\",IF(M3298<Results!D$12,1,0))","v":1}]
[null,null,null,null,null,null,null,null,null,null,null,3322,1.0306770868275976,{"$f":"IF(L3323=\"\",\"\",IF(M3323<Results!D$12,1,0))","v":1}]
[null,null,null,null,null,null,null,null,null,null,null,3348,1.0243377834103484,{"$f":"IF(L3349=\"\",\"\",IF(M3349<Results!D$12,1,0))","v":1}]
[null,null,null,null,null,null,null,null,null,null,null,3363,1.0330769573627945,{"$f":"IF(L3364=\"\",\"\",IF(M3364<Results!D$12,1,0))","v":1}]
[null,null,null,null,null,null,null,null,null,null,null,3388,1.0187597160578576,{"$f":"IF(L3389=\"\",\"\",IF(M3389<Results!D$12,1,0))","v":1}]
[null,null,null,null,null,null,null,null,null,null,null,3421,1.0207053742763408,{"$f":"IF(L3422=\"\",\"\",IF(M3422<Results!D$12,1,0))","v":1}]
[null,null,null,null,null,null,null,null,null,null,null,3428,1.0413323339948317,{"$f":"IF(L3429=\"\",\"\",IF(M3429<Results!D$12,1,0))","v":0}]
[null,null,null,null,null,null,null,null,null,null,null,3454,1.0485970428044786,{"$f":"IF(L3455=\"\",\"\",IF(M3455<Results!D$12,1,0))","v":0}]
[null,null,null,null,null,null,null,null,null,null,null,3487,1.0312749426230037,{"$f":"IF(L3488=\"\",\"\",IF(M3488<Results!D$12,1,0))","v":1}]
[null,null,null,null,null,null,null,null,null,null,null,3512,1.0435788165597115,{"$f":"IF(L3513=\"\",\"\",IF(M3513<Results!D$12,1,0))","v":0}]
[null,null,null,null,null,null,null,null,null,null,null,3520,1.0359135915837012,{"$f":"IF(L3521=\"\",\"\",IF(M3521<Results!D$12,1,0))","v":1}]
[null,null,null,null,null,null,null,null,null,null,null,3553,1.010190627910357,{"$f":"IF(L3554=\"\",\"\",IF(M3554<Results!D$12,1,0))","v":1}]
[null,null,null,null,null,null,null,null,null,null,null,3578,1.0213342996893768,{"$f":"IF(L3579=\"\",\"\",IF(M3579<Results!D$12,1,0))","v":1}]
[null,null,null,null,null,null,null,null,null,null,null,3611,1.0452395866857422,{"$f":"IF(L3612=\"\",\"\",IF(M3612<Results!D$12,1,0))","v":0}]
[null,null,null,null,null,null,null,null,null,null,null,3623,1.0291677784200435,{"$f":"IF(L3624=\"\",\"\",IF(M3624<Results!D$12,1,0))","v":1}]
[null,null,null,null,null,null,null,null,null,null,null,3644,1.0195566580101698,{"$f":"IF(L3645=\"\",\"\",IF(M3645<Results!D$12,1,0))","v":1}]
[null,null,null,null,null,null,null,null,null,null,null,3677,1.0461198156932925,{"$f":"IF(L3678=\"\",\"\",IF(M3678<Results!D$12,1,0))","v":0}]
[null,null,null,null,null,null,null,null,null,null,null,3702,1.0299820790806877,{"$f":"IF(L3703=\"\",\"\",IF(M3703<Results!D$12,1,0))","v":1}]
[null,null,null,null,null,null,null,null,null,null,null,3715,1.0308902834166549,{"$f":"IF(L3716=\"\",\"\",IF(M3716<Results!D$12,1,0))","v":1}]
[null,null,null,null,null,null,null,null,null,null,null,3743,1.0454190526286753,{"$f":"IF(L3744=\"\",\"\",IF(M3744<Results!D$12,1,0))","v":0}]
[null,null,null,null,null,null,null,null,null,null,null,3768,1.0314604691259828,{"$f":"IF(L3769=\"\",\"\",IF(M3769<Results!D$12,1,0))","v":1}]
[null,null,null,null,null,null,null,null,null,null,null,3801,1.0254093233644812,{"$f":"IF(L3802=\"\",\"\",IF(M3802<Results!D$12,1,0))","v":1}]
[null,null,null,null,null,null,null,null,null,null,null,3807,1.017826167710651,{"$f":"IF(L3808=\"\",\"\",IF(M3808<Results!D$12,1,0))","v":1}]
[null,null,null,null,null,null,null,null,null,null,null,3834,1.036574079884071,{"$f":"IF(L3835=\"\",\"\",IF(M3835<Results!D$12,1,0))","v":1}]
[null,null,null,null,null,null,null,null,null,null,null,3867,1.0286319151495766,{"$f":"IF(L3868=\"\",\"\",IF(M3868<Results!D$12,1,0))","v":1}]
[null,null,null,null,null,null,null,null,null,null,null,3892,1.0439127266739829,{"$f":"IF(L3893=\"\",\"\",IF(M3893<Results!D$12,1,0))","v":0}]
[null,null,null,null,null,null,null,null,null,null,null,3910,1.0396575923957014,{"$f":"IF(L3911=\"\",\"\",IF(M3911<Results!D$12,1,0))","v":0}]
[null,null,null,null,null,null,null,null,null,null,null,3933,1.0474696860847617,{"$f":"IF(L3934=\"\",\"\",IF(M3934<Results!D$12,1,0))","v":0}]
[null,null,null,null,null,null,null,null,null,null,null,3958,1.0407263883248539,{"$f":"IF(L3959=\"\",\"\",IF(M3959<Results!D$12,1,0))","v":0}]
[null,null,null,null,null,null,null,null,null,null,null,3991,1.0291107104106818,{"$f":"IF(L3992=\"\",\"\",IF(M3992<Results!D$12,1,0))","v":1}]
[null,null,null,null,null,null,null,null,null,null,null,4002,1.0506223443640437,{"$f":"IF(L4003=\"\",\"\",IF(M4003<Results!D$12,1,0))","v":0}]
[null,null,null,null,null,null,null,null,null,null,null,4024,1.0413937276381617,{"$f":"IF(L4025=\"\",\"\",IF(M4025<Results!D$12,1,0))","v":0}]
[null,null,null,null,null,null,null,null,null,null,null,4057,1.0345322007441475,{"$f":"IF(L4058=\"\",\"\",IF(M4058<Results!D$12,1,0))","v":1}]
[null,null,null,null,null,null,null,null,null,null,null,4082,1.036123007931282,{"$f":"IF(L4083=\"\",\"\",IF(M4083<Results!D$12,1,0))","v":1}]
[null,null,null,null,null,null,null,null,null,null,null,4105,1.0433588294954685,{"$f":"IF(L4106=\"\",\"\",IF(M4106<Results!D$12,1,0))","v":0}]
[null,null,null,null,null,null,null,null,null,null,null,4123,1.0391384739674312,{"$f":"IF(L4124=\"\",\"\",IF(M4124<Results!D$12,1,0))","v":0}]
[null,null,null,null,null,null,null,null,null,null,null,4148,1.0373510766123839,{"$f":"IF(L4149=\"\",\"\",IF(M4149<Results!D$12,1,0))","v":1}]
[null,null,null,null,null,null,null,null,null,null,null,4181,1.0290919464275803,{"$f":"IF(L4182=\"\",\"\",IF(M4182<Results!D$12,1,0))","v":1}]
[null,null,null,null,null,null,null,null,null,null,null,4197,1.0453925129797861,{"$f":"IF(L4198=\"\",\"\",IF(M4198<Results!D$12,1,0))","v":0}]
[null,null,null,null,null,null,null,null,null,null,null,4214,1.0423431727767312,{"$f":"IF(L4215=\"\",\"\",IF(M4215<Results!D$12,1,0))","v":0}]
[null,null,null,null,null,null,null,null,null,null,null,4247,1.0120915257607392,{"$f":"IF(L4248=\"\",\"\",IF(M4248<Results!D$12,1,0))","v":1}]
[null,null,null,null,null,null,null,null,null,null,null,4272,1.0607330046651393,{"$f":"IF(L4273=\"\",\"\",IF(M4273<Results!D$12,1,0))","v":0}]
[null,null,null,null,null,null,null,null,null,null,null,4300,1.0616366659137457,{"$f":"IF(L4301=\"\",\"\",IF(M4301<Results!D$12,1,0))","v":0}]
[null,null,null,null,null,null,null,null,null,null,null,4305,1.0229242788564905,{"$f":"IF(L4306=\"\",\"\",IF(M4306<Results!D$12,1,0))","v":1}]
[null,null,null,null,null,null,null,null,null,null,null,4338,1.0389877845809705,{"$f":"IF(L4339=\"\",\"\",IF(M4339<Results!D$12,1,0))","v":0}]
[null,null,null,null,null,null,null,null,null,null,null,4371,1.0274024316216404,{"$f":"IF(L4372=\"\",\"\",IF(M4372<Results!D$12,1,0))","v":1}]
[null,null,null,null,null,null,null,null,null,null,null,4392,1.0227139676481987,{"$f":"IF(L4393=\"\",\"\",IF(M4393<Results!D$12,1,0))","v":1}]
[null,null,null,null,null,null,null,null,null,null,null,4404,1.0331605394906664,{"$f":"IF(L4405=\"\",\"\",IF(M4405<Results!D$12,1,0))","v":1}]
[null,null,null,null,null,null,null,null,null,null,null,4437,1.0187700858676927,{"$f":"IF(L4438=\"\",\"\",IF(M4438<Results!D$12,1,0))","v":1}]
[null,null,null,null,null,null,null,null,null,null,null,4462,1.0279040201262155,{"$f":"IF(L4463=\"\",\"\",IF(M4463<Results!D$12,1,0))","v":1}]
[null,null,null,null,null,null,null,null,null,null,null,4472,1.0433984119864639,{"$f":"IF(L4473=\"\",\"\",IF(M4473<Results!D$12,1,0))","v":0}]
[null,null,null,null,null,null,null,null,null,null,null,4495,1.0304851137060322,{"$f":"IF(L4496=\"\",\"\",IF(M4496<Results!D$12,1,0))","v":1}]
[null,null,null,null,null,null,null,null,null,null,null,4528,1.0630451707096897,{"$f":"IF(L4529=\"\",\"\",IF(M4529<Results!D$12,1,0))","v":0}]
[null,null,null,null,null,null,null,null,null,null,null,4561,1.0691804808242993,{"$f":"IF(L4562=\"\",\"\",IF(M4562<Results!D$12,1,0))","v":0}]
[null,null,null,null,null,null,null,null,null,null,null,4587,1.0124202469985637,{"$f":"IF(L4588=\"\",\"\",IF(M4588<Results!D$12,1,0))","v":1}]
[null,null,null,null,null,null,null,null,null,null,null,4594,1.0505539207577801,{"$f":"IF(L4595=\"\",\"\",IF(M4595<Results!D$12,1,0))","v":0}]
[null,null,null,null,null,null,null,null,null,null,null,4619,1.0325190086543508,{"$f":"IF(L4620=\"\",\"\",IF(M4620<Results!D$12,1,0))","v":1}]
[null,null,null,null,null,null,null,null,null,null,null,4652,1.023320963801611,{"$f":"IF(L4653=\"\",\"\",IF(M4653<Results!D$12,1,0))","v":1}]
[null,null,null,null,null,null,null,null,null,null,null,4667,1.0318521227917741,{"$f":"IF(L4668=\"\",\"\",IF(M4668<Results!D$12,1,0))","v":1}]
[null,null,null,null,null,null,null,null,null,null,null,4685,1.0409953125683278,{"$f":"IF(L4686=\"\",\"\",IF(M4686<Results!D$12,1,0))","v":0}]
[null,null,null,null,null,null,null,null,null,null,null,4718,1.0544263921706931,{"$f":"IF(L4719=\"\",\"\",IF(M4719<Results!D$12,1,0))","v":0}]
[null,null,null,null,null,null,null,null,null,null,null,4751,1.0246731004534302,{"$f":"IF(L4752=\"\",\"\",IF(M4752<Results!D$12,1,0))","v":1}]
[null,null,null,null,null,null,null,null,null,null,null,4759,1.0323140921720326,{"$f":"IF(L4760=\"\",\"\",IF(M4760<Results!D$12,1,0))","v":1}]
[null,null,null,null,null,null,null,null,null,null,null,4784,1.0618271632609997,{"$f":"IF(L4785=\"\",\"\",IF(M4785<Results!D$12,1,0))","v":0}]
[null,null,null,null,null,null,null,null,null,null,null,4809,1.0359688212854854,{"$f":"IF(L4810=\"\",\"\",IF(M4810<Results!D$12,1,0))","v":1}]
[null,null,null,null,null,null,null,null,null,null,null,4842,1.0474128706223718,{"$f":"IF(L4843=\"\",\"\",IF(M4843<Results!D$12,1,0))","v":0}]
[null,null,null,null,null,null,null,null,null,null,null,4862,1.0274424179471797,{"$f":"IF(L4863=\"\",\"\",IF(M4863<Results!D$12,1,0))","v":1}]
[null,null,null,null,null,null,null,null,null,null,null,4875,1.0510687405881833,{"$f":"IF(L4876=\"\",\"\",IF(M4876<Results!D$12,1,0))","v":0}]
[null,null,null,null,null,null,null,null,null,null,null,4908,1.0270952720508228,{"$f":"IF(L4909=\"\",\"\",IF(M4909<Results!D$12,1,0))","v":1}]
[null,null,null,null,null,null,null,null,null,null,null,4941,1.0332759481141385,{"$f":"IF(L4942=\"\",\"\",IF(M4942<Results!D$12,1,0))","v":1}]
[null,null,null,null,null,null,null,null,null,null,null,4954,1.0401500220454603,{"$f":"IF(L4955=\"\",\"\",IF(M4955<Results!D$12,1,0))","v":0}]
[null,null,null,null,null,null,null,null,null,null,null,4974,1.0365677286347772,{"$f":"IF(L4975=\"\",\"\",IF(M4975<Results!D$12,1,0))","v":1}]
[null,null,null,null,null,null,null,null,null,null,null,4999,1.0437432444738239,{"$f":"IF(L5000=\"\",\"\",IF(M5000<Results!D$12,1,0))","v":0}]
[null,null,null,null,null,null,null,null,null,null,null,5032,1.0311056053803229,{"$f":"IF(L5033=\"\",\"\",IF(M5033<Results!D$12,1,0))","v":1}]
[null,null,null,null,null,null,null,null,null,null,null,5057,1.0403892253343425,{"$f":"IF(L5058=\"\",\"\",IF(M5058<Results!D$12,1,0))","v":0}]
[null,null,null,null,null,null,null,null,null,null,null,5065,1.0280992463827192,{"$f":"IF(L5066=\"\",\"\",IF(M5066<Results!D$12,1,0))","v":1}]
[null,null,null,null,null,null,null,null,null,null,null,5098,1.052813034592198,{"$f":"IF(L5099=\"\",\"\",IF(M5099<Results!D$12,1,0))","v":0}]
[null,null,null,null,null,null,null,null,null,null,null,5123,1.0175197009942842,{"$f":"IF(L5124=\"\",\"\",IF(M5124<Results!D$12,1,0))","v":1}]
[null,null,null,null,null,null,null,null,null,null,null,5149,1.0324880172527564,{"$f":"IF(L5150=\"\",\"\",IF(M5150<Results!D$12,1,0))","v":1}]
[null,null,null,null,null,null,null,null,null,null,null,5164,1.0679602344495049,{"$f":"IF(L5165=\"\",\"\",IF(M5165<Results!D$12,1,0))","v":0}]
[null,null,null,null,null,null,null,null,null,null,null,5189,1.0335748406110734,{"$f":"IF(L5190=\"\",\"\",IF(M5190<Results!D$12,1,0))","v":1}]
[null,null,null,null,null,null,null,null,null,null,null,5222,1.0237201539199003,{"$f":"IF(L5223=\"\",\"\",IF(M5223<Results!D$12,1,0))","v":1}]
[null,null,null,null,null,null,null,null,null,null,null,5252,1.0227337835228811,{"$f":"IF(L5253=\"\",\"\",IF(M5253<Results!D$12,1,0))","v":1}]
[null,null,null,null,null,null,null,null,null,null,null,5255,1.0276419438969282,{"$f":"IF(L5256=\"\",\"\",IF(M5256<Results!D$12,1,0))","v":1}]
[null,null,null,null,null,null,null,null,null,null,null,5288,1.0517593886193779,{"$f":"IF(L5289=\"\",\"\",IF(M5289<Results!D$12,1,0))","v":0}]
[null,null,null,null,null,null,null,null,null,null,null,5313,1.038883268841116,{"$f":"IF(L5314=\"\",\"\",IF(M5314<Results!D$12,1,0))","v":0}]
[null,null,null,null,null,null,null,null,null,null,null,5344,1.0175210097789622,{"$f":"IF(L5345=\"\",\"\",IF(M5345<Results!D$12,1,0))","v":1}]
[null,null,null,null,null,null,null,null,null,null,null,5354,1.020468899477277,{"$f":"IF(L5355=\"\",\"\",IF(M5355<Results!D$12,1,0))","v":1}]
[null,null,null,null,null,null,null,null,null,null,null,5379,1.0453396963919308,{"$f":"IF(L5380=\"\",\"\",IF(M5380<Results!D$12,1,0))","v":0}]
[null,null,null,null,null,null,null,null,null,null,null,5412,1.018487167059041,{"$f":"IF(L5413=\"\",\"\",IF(M5413<Results!D$12,1,0))","v":1}]
[null,null,null,null,null,null,null,null,null,null,null,5436,1.0498411107827927,{"$f":"IF(L5437=\"\",\"\",IF(M5437<Results!D$12,1,0))","v":0}]
[null,null,null,null,null,null,null,null,null,null,null,5445,1.0290442806119182,{"$f":"IF(L5446=\"\",\"\",IF(M5446<Results!D$12,1,0))","v":1}]
[null,null,null,null,null,null,null,null,null,null,null,5478,1.0330360781918959,{"$f":"IF(L5479=\"\",\"\",IF(M5479<Results!D$12,1,0))","v":1}]
[null,null,null,null,null,null,null,null,null,null,null,5503,1.0404789331038544,{"$f":"IF(L5504=\"\",\"\",IF(M5504<Results!D$12,1,0))","v":0}]
[null,null,null,null,null,null,null,null,null,null,null,5516,1.0302101367661189,{"$f":"IF(L5517=\"\",\"\",IF(M5517<Results!D$12,1,0))","v":1}]
[null,null,null,null,null,null,null,null,null,null,null,5544,1.0665121889732885,{"$f":"IF(L5545=\"\",\"\",IF(M5545<Results!D$12,1,0))","v":0}]
[null,null,null,null,null,null,null,null,null,null,null,5569,1.0362466676920055,{"$f":"IF(L5570=\"\",\"\",IF(M5570<Results!D$12,1,0))","v":1}]
[null,null,null,null,null,null,null,null,null,null,null,5602,1.0431110513907154,{"$f":"IF(L5603=\"\",\"\",IF(M5603<Results!D$12,1,0))","v":0}]
[null,null,null,null,null,null,null,null,null,null,null,5631,1.0381492231516662,{"$f":"IF(L5632=\"\",\"\",IF(M5632<Results!D$12,1,0))","v":0}]
[null,null,null,null,null,null,null,null,null,null,null,5635,1.0227575306250702,{"$f":"IF(L5636=\"\",\"\",IF(M5636<Results!D$12,1,0))","v":1}]
[null,null,null,null,null,null,null,null,null,null,null,5668,1.0164448376717423,{"$f":"IF(L5669=\"\",\"\",IF(M5669<Results!D$12,1,0))","v":1}]
[null,null,null,null,null,null,null,null,null,null,null,5693,1.0317941983958143,{"$f":"IF(L5694=\"\",\"\",IF(M5694<Results!D$12,1,0))","v":1}]
[null,null,null,null,null,null,null,null,null,null,null,5711,1.0352367480464704,{"$f":"IF(L5712=\"\",\"\",IF(M5712<Results!D$12,1,0))","v":1}]
[null,null,null,null,null,null,null,null,null,null,null,5734,1.0456517125678257,{"$f":"IF(L5735=\"\",\"\",IF(M5735<Results!D$12,1,0))","v":0}]
[null,null,null,null,null,null,null,null,null,null,null,5759,1.0200264485430852,{"$f":"IF(L5760=\"\",\"\",IF(M5760<Results!D$12,1,0))","v":1}]
[null,null,null,null,null,null,null,null,null,null,null,5792,1.0275952619374897,{"$f":"IF(L5793=\"\",\"\",IF(M5793<Results!D$12,1,0))","v":1}]
[null,null,null,null,null,null,null,null,null,null,null,5803,1.0493975654473091,{"$f":"IF(L5804=\"\",\"\",IF(M5804<Results!D$12,1,0))","v":0}]
[null,null,null,null,null,null,null,null,null,null,null,5825,1.038925231460359,{"$f":"IF(L5826=\"\",\"\",IF(M5826<Results!D$12,1,0))","v":0}]
[null,null,null,null,null,null,null,null,null,null,null,5858,1.0392576062169852,{"$f":"IF(L5859=\"\",\"\",IF(M5859<Results!D$12,1,0))","v":0}]
[null,null,null,null,null,null,null,null,null,null,null,5883,1.0356794282499808,{"$f":"IF(L5884=\"\",\"\",IF(M5884<Results!D$12,1,0))","v":1}]
[null,null,null,null,null,null,null,null,null,null,null,5906,1.027319526091216,{"$f":"IF(L5907=\"\",\"\",IF(M5907<Results!D$12,1,0))","v":1}]
[null,null,null,null,null,null,null,null,null,null,null,5940,1.0502537810646839,{"$f":"IF(L5941=\"\",\"\",IF(M5941<Results!D$12,1,0))","v":0}]
[null,null,null,null,null,null,null,null,null,null,null,5949,1.045677505543666,{"$f":"IF(L5950=\"\",\"\",IF(M5950<Results!D$12,1,0))","v":0}]
[null,null,null,null,null,null,null,null,null,null,null,5982,1.0460198261470133,{"$f":"IF(L5983=\"\",\"\",IF(M5983<Results!D$12,1,0))","v":0}]
[null,null,null,null,null,null,null,null,null,null,null,5998,1.037863677837652,{"$f":"IF(L5999=\"\",\"\",IF(M5999<Results!D$12,1,0))","v":0}]
[null,null,null,null,null,null,null,null,null,null,null,6015,1.0132638768632194,{"$f":"IF(L6016=\"\",\"\",IF(M6016<Results!D$12,1,0))","v":1}]
[null,null,null,null,null,null,null,null,null,null,null,6048,1.022140730801687,{"$f":"IF(L6049=\"\",\"\",IF(M6049<Results!D$12,1,0))","v":1}]
[null,null,null,null,null,null,null,null,null,null,null,6073,1.0418602912663544,{"$f":"IF(L6074=\"\",\"\",IF(M6074<Results!D$12,1,0))","v":0}]
[null,null,null,null,null,null,null,null,null,null,null,6101,1.0363238442414997,{"$f":"IF(L6102=\"\",\"\",IF(M6102<Results!D$12,1,0))","v":1}]
[null,null,null,null,null,null,null,null,null,null,null,6130,1.0421167175690791,{"$f":"IF(L6131=\"\",\"\",IF(M6131<Results!D$12,1,0))","v":0}]
[null,null,null,null,null,null,null,null,null,null,null,6139,1.0476718403366634,{"$f":"IF(L6140=\"\",\"\",IF(M6140<Results!D$12,1,0))","v":0}]
[null,null,null,null,null,null,null,null,null,null,null,6172,1.0438871380305275,{"$f":"IF(L6173=\"\",\"\",IF(M6173<Results!D$12,1,0))","v":0}]
[null,null,null,null,null,null,null,null,null,null,null,6193,1.0522809582999626,{"$f":"IF(L6194=\"\",\"\",IF(M6194<Results!D$12,1,0))","v":0}]
[null,null,null,null,null,null,null,null,null,null,null,6205,1.048279805442206,{"$f":"IF(L6206=\"\",\"\",IF(M6206<Results!D$12,1,0))","v":0}]
[null,null,null,null,null,null,null,null,null,null,null,6238,1.0356909112668637,{"$f":"IF(L6239=\"\",\"\",IF(M6239<Results!D$12,1,0))","v":1}]
[null,null,null,null,null,null,null,null,null,null,null,6263,1.0477724083354121,{"$f":"IF(L6264=\"\",\"\",IF(M6264<Results!D$12,1,0))","v":0}]
[null,null,null,null,null,null,null,null,null,null,null,6296,1.0221244247983716,{"$f":"IF(L6297=\"\",\"\",IF(M6297<Results!D$12,1,0))","v":1}]
[null,null,null,null,null,null,null,null,null,null,null,6320,1.0380993605455449,{"$f":"IF(L6321=\"\",\"\",IF(M6321<Results!D$12,1,0))","v":0}]
[null,null,null,null,null,null,null,null,null,null,null,6329,1.0130749714908964,{"$f":"IF(L6330=\"\",\"\",IF(M6330<Results!D$12,1,0))","v":1}]
[null,null,null,null,null,null,null,null,null,null,null,6362,1.0404924936653162,{"$f":"IF(L6363=\"\",\"\",IF(M6363<Results!D$12,1,0))","v":0}]
[null,null,null,null,null,null,null,null,null,null,null,6388,1.011436343409958,{"$f":"IF(L6389=\"\",\"\",IF(M6389<Results!D$12,1,0))","v":1}]
[null,null,null,null,null,null,null,null,null,null,null,6395,1.0513896576167772,{"$f":"IF(L6396=\"\",\"\",IF(M6396<Results!D$12,1,0))","v":0}]
[null,null,null,null,null,null,null,null,null,null,null,6420,1.0293814666836818,{"$f":"IF(L6421=\"\",\"\",IF(M6421<Results!D$12,1,0))","v":1}]
[null,null,null,null,null,null,null,null,null,null,null,6453,1.0439503499294924,{"$f":"IF(L6454=\"\",\"\",IF(M6454<Results!D$12,1,0))","v":0}]
[null,null,null,null,null,null,null,null,null,null,null,6468,1.0221443821403862,{"$f":"IF(L6469=\"\",\"\",IF(M6469<Results!D$12,1,0))","v":1}]
[null,null,null,null,null,null,null,null,null,null,null,6510,1.0387274648243017,{"$f":"IF(L6511=\"\",\"\",IF(M6511<Results!D$12,1,0))","v":0}]
[null,null,null,null,null,null,null,null,null,null,null,6519,1.0302328977063833,{"$f":"IF(L6520=\"\",\"\",IF(M6520<Results!D$12,1,0))","v":1}]
[null,null,null,null,null,null,null,null,null,null,null,6552,1.0435772392036087,{"$f":"IF(L6553=\"\",\"\",IF(M6553<Results!D$12,1,0))","v":0}]
[null,null,null,null,null,null,null,null,null,null,null,6560,1.0460188900000831,{"$f":"IF(L6561=\"\",\"\",IF(M6561<Results!D$12,1,0))","v":0}]
[null,null,null,null,null,null,null,null,null,null,null,6585,1.0361886892281222,{"$f":"IF(L6586=\"\",\"\",IF(M6586<Results!D$12,1,0))","v":1}]
[null,null,null,null,null,null,null,null,null,null,null,6610,1.0432285110001187,{"$f":"IF(L6611=\"\",\"\",IF(M6611<Results!D$12,1,0))","v":0}]
[null,null,null,null,null,null,null,null,null,null,null,6643,1.0405028453085141,{"$f":"IF(L6644=\"\",\"\",IF(M6644<Results!D$12,1,0))","v":0}]
[null,null,null,null,null,null,null,null,null,null,null,6663,1.0554995057341363,{"$f":"IF(L6664=\"\",\"\",IF(M6664<Results!D$12,1,0))","v":0}]
[null,null,null,null,null,null,null,null,null,null,null,6700,1.0512367850965831,{"$f":"IF(L6701=\"\",\"\",IF(M6701<Results!D$12,1,0))","v":0}]
[null,null,null,null,null,null,null,null,null,null,null,6709,1.0363329207037262,{"$f":"IF(L6710=\"\",\"\",IF(M6710<Results!D$12,1,0))","v":1}]
[null,null,null,null,null,null,null,null,null,null,null,6734,1.0399601018735027,{"$f":"IF(L6735=\"\",\"\",IF(M6735<Results!D$12,1,0))","v":0}]
[null,null,null,null,null,null,null,null,null,null,null,6755,1.0321250878525543,{"$f":"IF(L6756=\"\",\"\",IF(M6756<Results!D$12,1,0))","v":1}]
[null,null,null,null,null,null,null,null,null,null,null,6775,1.0626598474454394,{"$f":"IF(L6776=\"\",\"\",IF(M6776<Results!D$12,1,0))","v":0}]
[null,null,null,null,null,null,null,null,null,null,null,6800,1.0355496775005499,{"$f":"IF(L6801=\"\",\"\",IF(M6801<Results!D$12,1,0))","v":1}]
[null,null,null,null,null,null,null,null,null,null,null,6833,1.0314770682335299,{"$f":"IF(L6834=\"\",\"\",IF(M6834<Results!D$12,1,0))","v":1}]
[null,null,null,null,null,null,null,null,null,null,null,6858,1.0432534158155882,{"$f":"IF(L6859=\"\",\"\",IF(M6859<Results!D$12,1,0))","v":0}]
[null,null,null,null,null,null,null,null,null,null,null,6890,1.0451169079788891,{"$f":"IF(L6891=\"\",\"\",IF(M6891<Results!D$12,1,0))","v":0}]
[null,null,null,null,null,null,null,null,null,null,null,6899,1.0637837150391856,{"$f":"IF(L6900=\"\",\"\",IF(M6900<Results!D$12,1,0))","v":0}]
[null,null,null,null,null,null,null,null,null,null,null,6924,1.072257179912296,{"$f":"IF(L6925=\"\",\"\",IF(M6925<Results!D$12,1,0))","v":0}]
[null,null,null,null,null,null,null,null,null,null,null,6950,1.0185660467420543,{"$f":"IF(L6951=\"\",\"\",IF(M6951<Results!D$12,1,0))","v":1}]
[null,null,null,null,null,null,null,null,null,null,null,6965,1.0213363521255092,{"$f":"IF(L6966=\"\",\"\",IF(M6966<Results!D$12,1,0))","v":1}]
[null,null,null,null,null,null,null,null,null,null,null,6990,1.0412469581461512,{"$f":"IF(L6991=\"\",\"\",IF(M6991<Results!D$12,1,0))","v":0}]
[null,null,null,null,null,null,null,null,null,null,null,7023,1.0549705834759253,{"$f":"IF(L7024=\"\",\"\",IF(M7024<Results!D$12,1,0))","v":0}]
[null,null,null,null,null,null,null,null,null,null,null,7053,1.045339829474216,{"$f":"IF(L7054=\"\",\"\",IF(M7054<Results!D$12,1,0))","v":0}]
[null,null,null,null,null,null,null,null,null,null,null,7080,1.0349343580951931,{"$f":"IF(L7081=\"\",\"\",IF(M7081<Results!D$12,1,0))","v":1}]
[null,null,null,null,null,null,null,null,null,null,null,7089,1.0524111891865515,{"$f":"IF(L7090=\"\",\"\",IF(M7090<Results!D$12,1,0))","v":0}]
[null,null,null,null,null,null,null,null,null,null,null,7114,1.0449673538154269,{"$f":"IF(L7115=\"\",\"\",IF(M7115<Results!D$12,1,0))","v":0}]
[null,null,null,null,null,null,null,null,null,null,null,7145,1.0302922121660794,{"$f":"IF(L7146=\"\",\"\",IF(M7146<Results!D$12,1,0))","v":1}]
[null,null,null,null,null,null,null,null,null,null,null,7155,1.0293344887767031,{"$f":"IF(L7156=\"\",\"\",IF(M7156<Results!D$12,1,0))","v":1}]
[null,null,null,null,null,null,null,null,null,null,null,7180,1.059161049865551,{"$f":"IF(L7181=\"\",\"\",IF(M7181<Results!D$12,1,0))","v":0}]
[null,null,null,null,null,null,null,null,null,null,null,7213,1.0451111622986624,{"$f":"IF(L7214=\"\",\"\",IF(M7214<Results!D$12,1,0))","v":0}]
[null,null,null,null,null,null,null,null,null,null,null,7237,1.0292161944839837,{"$f":"IF(L7238=\"\",\"\",IF(M7238<Results!D$12,1,0))","v":1}]
[null,null,null,null,null,null,null,null,null,null,null,7270,1.044252783916555,{"$f":"IF(L7271=\"\",\"\",IF(M7271<Results!D$12,1,0))","v":0}]
[null,null,null,null,null,null,null,null,null,null,null,7279,1.0282466287690222,{"$f":"IF(L7280=\"\",\"\",IF(M7280<Results!D$12,1,0))","v":1}]
[null,null,null,null,null,null,null,null,null,null,null,7304,1.0362996999696126,{"$f":"IF(L7305=\"\",\"\",IF(M7305<Results!D$12,1,0))","v":1}]
[null,null,null,null,null,null,null,null,null,null,null,7340,1.0616327810544759,{"$f":"IF(L7341=\"\",\"\",IF(M7341<Results!D$12,1,0))","v":0}]
[null,null,null,null,null,null,null,null,null,null,null,7345,1.0571870720375458,{"$f":"IF(L7346=\"\",\"\",IF(M7346<Results!D$12,1,0))","v":0}]
[null,null,null,null,null,null,null,null,null,null,null,7370,1.0441783203211079,{"$f":"IF(L7371=\"\",\"\",IF(M7371<Results!D$12,1,0))","v":0}]
[null,null,null,null,null,null,null,null,null,null,null,7403,1.0309184081888121,{"$f":"IF(L7404=\"\",\"\",IF(M7404<Results!D$12,1,0))","v":1}]
[null,null,null,null,null,null,null,null,null,null,null,7432,1.0429738147671515,{"$f":"IF(L7433=\"\",\"\",IF(M7433<Results!D$12,1,0))","v":0}]
[null,null,null,null,null,null,null,null,null,null,null,7460,1.0710057065246179,{"$f":"IF(L7461=\"\",\"\",IF(M7461<Results!D$12,1,0))","v":0}]
[null,null,null,null,null,null,null,null,null,null,null,7469,1.0214369452732424,{"$f":"IF(L7470=\"\",\"\",IF(M7470<Results!D$12,1,0))","v":1}]
[null,null,null,null,null,null,null,null,null,null,null,7494,1.0567201983117733,{"$f":"IF(L7495=\"\",\"\",IF(M7495<Results!D$12,1,0))","v":0}]
[null,null,null,null,null,null,null,null,null,null,null,7512,1.0599736788995515,{"$f":"IF(L7513=\"\",\"\",IF(M7513<Results!D$12,1,0))","v":0}]
[null,null,null,null,null,null,null,null,null,null,null,7535,1.0173556219777755,{"$f":"IF(L7536=\"\",\"\",IF(M7536<Results!D$12,1,0))","v":1}]
[null,null,null,null,null,null,null,null,null,null,null,7560,1.0466080629132593,{"$f":"IF(L7561=\"\",\"\",IF(M7561<Results!D$12,1,0))","v":0}]
[null,null,null,null,null,null,null,null,null,null,null,7593,1.0346191388580206,{"$f":"IF(L7594=\"\",\"\",IF(M7594<Results!D$12,1,0))","v":1}]
[null,null,null,null,null,null,null,null,null,null,null,7627,1.0265427684217181,{"$f":"IF(L7628=\"\",\"\",IF(M7628<Results!D$12,1,0))","v":1}]
[null,null,null,null,null,null,null,null,null,null,null,7650,1.0401933215627219,{"$f":"IF(L7651=\"\",\"\",IF(M7651<Results!D$12,1,0))","v":0}]
[null,null,null,null,null,null,null,null,null,null,null,7659,1.0178374357502247,{"$f":"IF(L7660=\"\",\"\",IF(M7660<Results!D$12,1,0))","v":1}]
[null,null,null,null,null,null,null,null,null,null,null,7684,1.0378569097233037,{"$f":"IF(L7685=\"\",\"\",IF(M7685<Results!D$12,1,0))","v":0}]
[null,null,null,null,null,null,null,null,null,null,null,7707,1.0373221979182545,{"$f":"IF(L7708=\"\",\"\",IF(M7708<Results!D$12,1,0))","v":1}]
[null,null,null,null,null,null,null,null,null,null,null,7741,1.0384384191638028,{"$f":"IF(L7742=\"\",\"\",IF(M7742<Results!D$12,1,0))","v":0}]
[null,null,null,null,null,null,null,null,null,null,null,7750,1.0479339199013957,{"$f":"IF(L7751=\"\",\"\",IF(M7751<Results!D$12,1,0))","v":0}]
[null,null,null,null,null,null,null,null,null,null,null,7783,1.0465127206763922,{"$f":"IF(L7784=\"\",\"\",IF(M7784<Results!D$12,1,0))","v":0}]
[null,null,null,null,null,null,null,null,null,null,null,7799,1.0450543395551644,{"$f":"IF(L7800=\"\",\"\",IF(M7800<Results!D$12,1,0))","v":0}]
[null,null,null,null,null,null,null,null,null,null,null,7840,1.0460619792561456,{"$f":"IF(L7841=\"\",\"\",IF(M7841<Results!D$12,1,0))","v":0}]
[null,null,null,null,null,null,null,null,null,null,null,7849,1.0412043661293962,{"$f":"IF(L7850=\"\",\"\",IF(M7850<Results!D$12,1,0))","v":0}]
[null,null,null,null,null,null,null,null,null,null,null,{"$f":"IF(M7875=\"\",\"\",ROW(L7875)-1)","v":7874},1.0223573365798928,{"$f":"IF(L7875=\"\",\"\",IF(M7875<Results!D$12,1,0))","v":1}]
[null,null,null,null,null,null,null,null,null,null,null,7902,1.0135539443587334,{"$f":"IF(L7903=\"\",\"\",IF(M7903<Results!D$12,1,0))","v":1}]
[null,null,null,null,null,null,null,null,null,null,null,7931,1.0445628355716117,{"$f":"IF(L7932=\"\",\"\",IF(M7932<Results!D$12,1,0))","v":0}]
[null,null,null,null,null,null,null,null,null,null,null,7940,1.0629412549150996,{"$f":"IF(L7941=\"\",\"\",IF(M7941<Results!D$12,1,0))","v":0}]
[null,null,null,null,null,null,null,null,null,null,null,7973,1.0372982415377121,{"$f":"IF(L7974=\"\",\"\",IF(M7974<Results!D$12,1,0))","v":1}]
[null,null,null,null,null,null,null,null,null,null,null,7994,1.0414873624905161,{"$f":"IF(L7995=\"\",\"\",IF(M7995<Results!D$12,1,0))","v":0}]
[null,null,null,null,null,null,null,null,null,null,null,8030,1.012582113658379,{"$f":"IF(L8031=\"\",\"\",IF(M8031<Results!D$12,1,0))","v":1}]
[null,null,null,null,null,null,null,null,null,null,null,8055,1.0354324315764745,{"$f":"IF(L8056=\"\",\"\",IF(M8056<Results!D$12,1,0))","v":1}]
[null,null,null,null,null,null,null,null,null,null,null,8064,1.0487993711194958,{"$f":"IF(L8065=\"\",\"\",IF(M8065<Results!D$12,1,0))","v":0}]
[null,null,null,null,null,null,null,null,null,null,null,8097,1.046850587322248,{"$f":"IF(L8098=\"\",\"\",IF(M8098<Results!D$12,1,0))","v":0}]
[null,null,null,null,null,null,null,null,null,null,null,8121,1.0366978337669552,{"$f":"IF(L8122=\"\",\"\",IF(M8122<Results!D$12,1,0))","v":1}]
[null,null,null,null,null,null,null,null,null,null,null,{"$f":"IF(M8131=\"\",\"\",ROW(L8131)-1)","v":8130},1.0415969218797101,{"$f":"IF(L8131=\"\",\"\",IF(M8131<Results!D$12,1,0))","v":0}]
[null,null,null,null,null,null,null,null,null,null,null,8163,1.0484215908399681,{"$f":"IF(L8164=\"\",\"\",IF(M8164<Results!D$12,1,0))","v":0}]
[null,null,null,null,null,null,null,null,null,null,null,8189,1.0574924743237404,{"$f":"IF(L8190=\"\",\"\",IF(M8190<Results!D$12,1,0))","v":0}]
[null,null,null,null,null,null,null,null,null,null,null,8220,1.0544030218958425,{"$f":"IF(L8221=\"\",\"\",IF(M8221<Results!D$12,1,0))","v":0}]
[null,null,null,null,null,null,null,null,null,null,null,8245,1.0274221251755293,{"$f":"IF(L8246=\"\",\"\",IF(M8246<Results!D$12,1,0))","v":1}]
[null,null,null,null,null,null,null,null,null,null,null,8254,1.0338920156347415,{"$f":"IF(L8255=\"\",\"\",IF(M8255<Results!D$12,1,0))","v":1}]
[null,null,null,null,null,null,null,null,null,null,null,8292,1.0421153154597129,{"$f":"IF(L8293=\"\",\"\",IF(M8293<Results!D$12,1,0))","v":0}]
[null,null,null,null,null,null,null,null,null,null,null,8311,1.0321234140319957,{"$f":"IF(L8312=\"\",\"\",IF(M8312<Results!D$12,1,0))","v":1}]
[null,null,null,null,null,null,null,null,null,null,null,8320,1.0103706694424746,{"$f":"IF(L8321=\"\",\"\",IF(M8321<Results!D$12,1,0))","v":1}]
[null,null,null,null,null,null,null,null,null,null,null,8353,1.0467639201117049,{"$f":"IF(L8354=\"\",\"\",IF(M8354<Results!D$12,1,0))","v":0}]
[null,null,null,null,null,null,null,null,null,null,null,8384,1.0436686809676998,{"$f":"IF(L8385=\"\",\"\",IF(M8385<Results!D$12,1,0))","v":0}]
[null,null,null,null,null,null,null,null,null,null,null,8410,1.0260535572194582,{"$f":"IF(L8411=\"\",\"\",IF(M8411<Results!D$12,1,0))","v":1}]
[null,null,null,null,null,null,null,null,null,null,null,8435,1.0242814147842387,{"$f":"IF(L8436=\"\",\"\",IF(M8436<Results!D$12,1,0))","v":1}]
[null,null,null,null,null,null,null,null,null,null,null,8444,1.0243468819622406,{"$f":"IF(L8445=\"\",\"\",IF(M8445<Results!D$12,1,0))","v":1}]
[null,null,null,null,null,null,null,null,null,null,null,8464,1.044537082983249,{"$f":"IF(L8465=\"\",\"\",IF(M8465<Results!D$12,1,0))","v":0}]
[null,null,null,null,null,null,null,null,null,null,null,8501,1.0462158025915642,{"$f":"IF(L8502=\"\",\"\",IF(M8502<Results!D$12,1,0))","v":0}]
[null,null,null,null,null,null,null,null,null,null,null,8510,1.0498448021157509,{"$f":"IF(L8511=\"\",\"\",IF(M8511<Results!D$12,1,0))","v":0}]
[null,null,null,null,null,null,null,null,null,null,null,8535,1.0311988109399604,{"$f":"IF(L8536=\"\",\"\",IF(M8536<Results!D$12,1,0))","v":1}]
[null,null,null,null,null,null,null,null,null,null,null,8556,1.0022588202624598,{"$f":"IF(L8557=\"\",\"\",IF(M8557<Results!D$12,1,0))","v":1}]
[null,null,null,null,null,null,null,null,null,null,null,8600,1.0348323500845662,{"$f":"IF(L8601=\"\",\"\",IF(M8601<Results!D$12,1,0))","v":1}]
[null,null,null,null,null,null,null,null,null,null,null,8625,1.0495263181006051,{"$f":"IF(L8626=\"\",\"\",IF(M8626<Results!D$12,1,0))","v":0}]
[null,null,null,null,null,null,null,null,null,null,null,8634,1.0615036770528032,{"$f":"IF(L8635=\"\",\"\",IF(M8635<Results!D$12,1,0))","v":0}]
[null,null,null,null,null,null,null,null,null,null,null,8659,1.0244238211399532,{"$f":"IF(L8660=\"\",\"\",IF(M8660<Results!D$12,1,0))","v":1}]
[null,null,null,null,null,null,null,null,null,null,null,8691,1.0169748720074816,{"$f":"IF(L8692=\"\",\"\",IF(M8692<Results!D$12,1,0))","v":1}]
[null,null,null,null,null,null,null,null,null,null,null,8700,1.0525495086465042,{"$f":"IF(L8701=\"\",\"\",IF(M8701<Results!D$12,1,0))","v":0}]
[null,null,null,null,null,null,null,null,null,null,null,8725,1.0661268844581204,{"$f":"IF(L8726=\"\",\"\",IF(M8726<Results!D$12,1,0))","v":0}]
[null,null,null,null,null,null,null,null,null,null,null,8751,1.0529952800227034,{"$f":"IF(L8752=\"\",\"\",IF(M8752<Results!D$12,1,0))","v":0}]
[null,null,null,null,null,null,null,null,null,null,null,8790,1.0246954944873414,{"$f":"IF(L8791=\"\",\"\",IF(M8791<Results!D$12,1,0))","v":1}]
[null,null,null,null,null,null,null,null,null,null,null,8815,1.0355774203467936,{"$f":"IF(L8816=\"\",\"\",IF(M8816<Results!D$12,1,0))","v":1}]
[null,null,null,null,null,null,null,null,null,null,null,8824,1.0491723664169481,{"$f":"IF(L8825=\"\",\"\",IF(M8825<Results!D$12,1,0))","v":0}]
[null,null,null,null,null,null,null,null,null,null,null,8843,1.0297947200961464,{"$f":"IF(L8844=\"\",\"\",IF(M8844<Results!D$12,1,0))","v":1}]
[null,null,null,null,null,null,null,null,null,null,null,8881,1.0531498536117221,{"$f":"IF(L8882=\"\",\"\",IF(M8882<Results!D$12,1,0))","v":0}]
[null,null,null,null,null,null,null,null,null,null,null,8890,1.0686790215251112,{"$f":"IF(L8891=\"\",\"\",IF(M8891<Results!D$12,1,0))","v":0}]
[null,null,null,null,null,null,null,null,null,null,null,8915,1.043403257421603,{"$f":"IF(L8916=\"\",\"\",IF(M8916<Results!D$12,1,0))","v":0}]
[null,null,null,null,null,null,null,null,null,null,null,8946,1.0482454410944437,{"$f":"IF(L8947=\"\",\"\",IF(M8947<Results!D$12,1,0))","v":0}]
[null,null,null,null,null,null,null,null,null,null,null,8980,1.0221384320339801,{"$f":"IF(L8981=\"\",\"\",IF(M8981<Results!D$12,1,0))","v":1}]
[null,null,null,null,null,null,null,null,null,null,null,9005,1.0329999404139998,{"$f":"IF(L9006=\"\",\"\",IF(M9006<Results!D$12,1,0))","v":1}]
[null,null,null,null,null,null,null,null,null,null,null,9014,1.0481965986626529,{"$f":"IF(L9015=\"\",\"\",IF(M9015<Results!D$12,1,0))","v":0}]
[null,null,null,null,null,null,null,null,null,null,null,9038,1.0406043872875781,{"$f":"IF(L9039=\"\",\"\",IF(M9039<Results!D$12,1,0))","v":0}]
[null,null,null,null,null,null,null,null,null,null,null,9071,1.0524042323471134,{"$f":"IF(L9072=\"\",\"\",IF(M9072<Results!D$12,1,0))","v":0}]
[null,null,null,null,null,null,null,null,null,null,null,9080,1.0234145727620663,{"$f":"IF(L9081=\"\",\"\",IF(M9081<Results!D$12,1,0))","v":1}]
[null,null,null,null,null,null,null,null,null,null,null,9105,1.0242800944214765,{"$f":"IF(L9106=\"\",\"\",IF(M9106<Results!D$12,1,0))","v":1}]
[null,null,null,null,null,null,null,null,null,null,null,9141,1.0270453524238909,{"$f":"IF(L9142=\"\",\"\",IF(M9142<Results!D$12,1,0))","v":1}]
[null,null,null,null,null,null,null,null,null,null,null,9170,1.0483302253664577,{"$f":"IF(L9171=\"\",\"\",IF(M9171<Results!D$12,1,0))","v":0}]
[null,null,null,null,null,null,null,null,null,null,null,9195,1.0486419524915545,{"$f":"IF(L9196=\"\",\"\",IF(M9196<Results!D$12,1,0))","v":0}]
[null,null,null,null,null,null,null,null,null,null,null,9204,1.0347141176374948,{"$f":"IF(L9205=\"\",\"\",IF(M9205<Results!D$12,1,0))","v":1}]
[null,null,null,null,null,null,null,null,null,null,null,9233,1.029713031017943,{"$f":"IF(L9234=\"\",\"\",IF(M9234<Results!D$12,1,0))","v":1}]
[null,null,null,null,null,null,null,null,null,null,null,9261,1.0511428861427878,{"$f":"IF(L9262=\"\",\"\",IF(M9262<Results!D$12,1,0))","v":0}]
[null,null,null,null,null,null,null,null,null,null,null,9270,1.0381287410105908,{"$f":"IF(L9271=\"\",\"\",IF(M9271<Results!D$12,1,0))","v":0}]
[null,null,null,null,null,null,null,null,null,null,null,9295,1.0291127935080255,{"$f":"IF(L9296=\"\",\"\",IF(M9296<Results!D$12,1,0))","v":1}]
[null,null,null,null,null,null,null,null,null,null,null,9336,1.0319898133620728,{"$f":"IF(L9337=\"\",\"\",IF(M9337<Results!D$12,1,0))","v":1}]
[null,null,null,null,null,null,null,null,null,null,null,9352,1.0324800673633563,{"$f":"IF(L9353=\"\",\"\",IF(M9353<Results!D$12,1,0))","v":1}]
[null,null,null,null,null,null,null,null,null,null,null,9385,1.0567088850792208,{"$f":"IF(L9386=\"\",\"\",IF(M9386<Results!D$12,1,0))","v":0}]
[null,null,null,null,null,null,null,null,null,null,null,9394,1.0349551350179051,{"$f":"IF(L9395=\"\",\"\",IF(M9395<Results!D$12,1,0))","v":1}]
[null,null,null,null,null,null,null,null,null,null,null,9428,1.031260720703133,{"$f":"IF(L9429=\"\",\"\",IF(M9429<Results!D$12,1,0))","v":1}]
[null,null,null,null,null,null,null,null,null,null,null,9451,1.0428252152483342,{"$f":"IF(L9452=\"\",\"\",IF(M9452<Results!D$12,1,0))","v":0}]
[null,null,null,null,null,null,null,null,null,null,null,9460,1.0547916796886545,{"$f":"IF(L9461=\"\",\"\",IF(M9461<Results!D$12,1,0))","v":0}]
[null,null,null,null,null,null,null,null,null,null,null,9485,1.0131977596356376,{"$f":"IF(L9486=\"\",\"\",IF(M9486<Results!D$12,1,0))","v":1}]
[null,null,null,null,null,null,null,null,null,null,null,9508,1.0491171914683193,{"$f":"IF(L9509=\"\",\"\",IF(M9509<Results!D$12,1,0))","v":0}]
[null,null,null,null,null,null,null,null,null,null,null,9542,1.0498929878727763,{"$f":"IF(L9543=\"\",\"\",IF(M9543<Results!D$12,1,0))","v":0}]
[null,null,null,null,null,null,null,null,null,null,null,9575,1.0256376618255023,{"$f":"IF(L9576=\"\",\"\",IF(M9576<Results!D$12,1,0))","v":1}]
[null,null,null,null,null,null,null,null,null,null,null,9584,1.0473112810227756,{"$f":"IF(L9585=\"\",\"\",IF(M9585<Results!D$12,1,0))","v":0}]
[null,null,null,null,null,null,null,null,null,null,null,9600,1.0195686466872613,{"$f":"IF(L9601=\"\",\"\",IF(M9601<Results!D$12,1,0))","v":1}]
[null,null,null,null,null,null,null,null,null,null,null,9641,1.0305596470300622,{"$f":"IF(L9642=\"\",\"\",IF(M9642<Results!D$12,1,0))","v":1}]
[null,null,null,null,null,null,null,null,null,null,null,9650,1.0479134747766397,{"$f":"IF(L9651=\"\",\"\",IF(M9651<Results!D$12,1,0))","v":0}]
[null,null,null,null,null,null,null,null,null,null,null,9675,1.0466101023305396,{"$f":"IF(L9676=\"\",\"\",IF(M9676<Results!D$12,1,0))","v":0}]
[null,null,null,null,null,null,null,null,null,null,null,9703,1.0600303095278589,{"$f":"IF(L9704=\"\",\"\",IF(M9704<Results!D$12,1,0))","v":0}]
[null,null,null,null,null,null,null,null,null,null,null,9732,1.0257918180930614,{"$f":"IF(L9733=\"\",\"\",IF(M9733<Results!D$12,1,0))","v":1}]
[null,null,null,null,null,null,null,null,null,null,null,9765,1.0563541882357061,{"$f":"IF(L9766=\"\",\"\",IF(M9766<Results!D$12,1,0))","v":0}]
[null,null,null,null,null,null,null,null,null,null,null,9774,1.0455589819304911,{"$f":"IF(L9775=\"\",\"\",IF(M9775<Results!D$12,1,0))","v":0}]
[null,null,null,null,null,null,null,null,null,null,null,9795,1.0513163425585315,{"$f":"IF(L9796=\"\",\"\",IF(M9796<Results!D$12,1,0))","v":0}]
[null,null,null,null,null,null,null,null,null,null,null,9831,1.0411402179571003,{"$f":"IF(L9832=\"\",\"\",IF(M9832<Results!D$12,1,0))","v":0}]
[null,null,null,null,null,null,null,null,null,null,null,9856,1.0533941342265249,{"$f":"IF(L9857=\"\",\"\",IF(M9857<Results!D$12,1,0))","v":0}]
[null,null,null,null,null,null,null,null,null,null,null,9865,1.006639049934166,{"$f":"IF(L9866=\"\",\"\",IF(M9866<Results!D$12,1,0))","v":1}]
[null,null,null,null,null,null,null,null,null,null,null,9898,1.0378593398445259,{"$f":"IF(L9899=\"\",\"\",IF(M9899<Results!D$12,1,0))","v":0}]
[null,null,null,null,null,null,null,null,null,null,null,{"$f":"IF(M9923=\"\",\"\",ROW(L9923)-1)","v":9922},1.0400033237491608,{"$f":"IF(L9923=\"\",\"\",IF(M9923<Results!D$12,1,0))","v":0}]
[null,null,null,null,null,null,null,null,null,null,null,9955,1.0370157895917715,{"$f":"IF(L9956=\"\",\"\",IF(M9956<Results!D$12,1,0))","v":1}]
[null,null,null,null,null,null,null,null,null,null,null,9964,1.0483274881706184,{"$f":"IF(L9965=\"\",\"\",IF(M9965<Results!D$12,1,0))","v":0}]
[null,null,null,null,null,null,null,null,null,null,null,9990,1.0398848320854663,{"$f":"IF(L9991=\"\",\"\",IF(M9991<Results!D$12,1,0))","v":0}]
[null,null,null,null,null,null,null,null,null,null,null,10021,1.0330111192692515,{"$f":"IF(L10022=\"\",\"\",IF(M10022<Results!D$12,1,0))","v":1}]
[null,null,null,null,null,null,null,null,null,null,null,10046,1.0343413685315255,{"$f":"IF(L10047=\"\",\"\",IF(M10047<Results!D$12,1,0))","v":1}]
[null,null,null,null,null,null,null,null,null,null,null,10055,1.0341423858905712,{"$f":"IF(L10056=\"\",\"\",IF(M10056<Results!D$12,1,0))","v":1}]
[null,null,null,null,null,null,null,null,null,null,null,10093,1.0341152350703722,{"$f":"IF(L10094=\"\",\"\",IF(M10094<Results!D$12,1,0))","v":1}]
[null,null,null,null,null,null,null,null,null,null,null,10112,1.0322073585632565,{"$f":"IF(L10113=\"\",\"\",IF(M10113<Results!D$12,1,0))","v":1}]
[null,null,null,null,null,null,null,null,null,null,null,10145,1.0386722003238062,{"$f":"IF(L10146=\"\",\"\",IF(M10146<Results!D$12,1,0))","v":0}]
[null,null,null,null,null,null,null,null,null,null,null,10146,1.0634422947353646,{"$f":"IF(L10147=\"\",\"\",IF(M10147<Results!D$12,1,0))","v":0}]
[null,null,null,null,null,null,null,null,null,null,null,10185,1.0386903845343185,{"$f":"IF(L10186=\"\",\"\",IF(M10186<Results!D$12,1,0))","v":0}]
[null,null,null,null,null,null,null,null,null,null,null,10211,0.98822926175560699,{"$f":"IF(L10212=\"\",\"\",IF(M10212<Results!D$12,1,0))","v":1}]
[null,null,null,null,null,null,null,null,null,null,null,10236,1.0324000003577838,{"$f":"IF(L10237=\"\",\"\",IF(M10237<Results!D$12,1,0))","v":1}]
[null,null,null,null,null,null,null,null,null,null,null,10245,1.0558265395830109,{"$f":"IF(L10246=\"\",\"\",IF(M10246<Results!D$12,1,0))","v":0}]
[null,null,null,null,null,null,null,null,null,null,null,10265,1.0245990714982978,{"$f":"IF(L10266=\"\",\"\",IF(M10266<Results!D$12,1,0))","v":1}]
[null,null,null,null,null,null,null,null,null,null,null,10302,1.0518329379130718,{"$f":"IF(L10303=\"\",\"\",IF(M10303<Results!D$12,1,0))","v":0}]
[null,null,null,null,null,null,null,null,null,null,null,10335,1.0629360456161865,{"$f":"IF(L10336=\"\",\"\",IF(M10336<Results!D$12,1,0))","v":0}]
[null,null,null,null,null,null,null,null,null,null,null,10336,1.0321666332629937,{"$f":"IF(L10337=\"\",\"\",IF(M10337<Results!D$12,1,0))","v":1}]
[null,null,null,null,null,null,null,null,null,null,null,10380,1.0306347846431143,{"$f":"IF(L10381=\"\",\"\",IF(M10381<Results!D$12,1,0))","v":1}]
[null,null,null,null,null,null,null,null,null,null,null,10401,1.0179703417373835,{"$f":"IF(L10402=\"\",\"\",IF(M10402<Results!D$12,1,0))","v":1}]
[null,null,null,null,null,null,null,null,null,null,null,10426,1.0304695839981566,{"$f":"IF(L10427=\"\",\"\",IF(M10427<Results!D$12,1,0))","v":1}]
[null,null,null,null,null,null,null,null,null,null,null,10435,1.048507894245601,{"$f":"IF(L10436=\"\",\"\",IF(M10436<Results!D$12,1,0))","v":0}]
[null,null,null,null,null,null,null,null,null,null,null,10460,1.034570158300566,{"$f":"IF(L10461=\"\",\"\",IF(M10461<Results!D$12,1,0))","v":1}]
[null,null,null,null,null,null,null,null,null,null,null,10492,1.0456981433336197,{"$f":"IF(L10493=\"\",\"\",IF(M10493<Results!D$12,1,0))","v":0}]
[null,null,null,null,null,null,null,null,null,null,null,10525,1.051053569608136,{"$f":"IF(L10526=\"\",\"\",IF(M10526<Results!D$12,1,0))","v":0}]
[null,null,null,null,null,null,null,null,null,null,null,10526,1.037853880246782,{"$f":"IF(L10527=\"\",\"\",IF(M10527<Results!D$12,1,0))","v":0}]
[null,null,null,null,null,null,null,null,null,null,null,10552,1.0531397765384711,{"$f":"IF(L10553=\"\",\"\",IF(M10553<Results!D$12,1,0))","v":0}]
[null,null,null,null,null,null,null,null,null,null,null,10591,1.0420710345676818,{"$f":"IF(L10592=\"\",\"\",IF(M10592<Results!D$12,1,0))","v":0}]
[null,null,null,null,null,null,null,null,null,null,null,10616,1.0474077569077294,{"$f":"IF(L10617=\"\",\"\",IF(M10617<Results!D$12,1,0))","v":0}]
[null,null,null,null,null,null,null,null,null,null,null,10625,1.0368943602327227,{"$f":"IF(L10626=\"\",\"\",IF(M10626<Results!D$12,1,0))","v":1}]
[null,null,null,null,null,null,null,null,null,null,null,10667,1.0316628136741439,{"$f":"IF(L10668=\"\",\"\",IF(M10668<Results!D$12,1,0))","v":1}]
[null,null,null,null,null,null,null,null,null,null,null,10682,1.0362702164672275,{"$f":"IF(L10683=\"\",\"\",IF(M10683<Results!D$12,1,0))","v":1}]
[null,null,null,null,null,null,null,null,null,null,null,10715,1.0300248508709424,{"$f":"IF(L10716=\"\",\"\",IF(M10716<Results!D$12,1,0))","v":1}]
[null,null,null,null,null,null,null,null,null,null,null,10716,1.0536403607701779,{"$f":"IF(L10717=\"\",\"\",IF(M10717<Results!D$12,1,0))","v":0}]
[null,null,null,null,null,null,null,null,null,null,null,10747,1.0286488036811705,{"$f":"IF(L10748=\"\",\"\",IF(M10748<Results!D$12,1,0))","v":1}]
[null,null,null,null,null,null,null,null,null,null,null,10781,1.0698716855703618,{"$f":"IF(L10782=\"\",\"\",IF(M10782<Results!D$12,1,0))","v":0}]
[null,null,null,null,null,null,null,null,null,null,null,10806,1.0297595454454611,{"$f":"IF(L10807=\"\",\"\",IF(M10807<Results!D$12,1,0))","v":1}]
[null,null,null,null,null,null,null,null,null,null,null,10815,1.0213466524407881,{"$f":"IF(L10816=\"\",\"\",IF(M10816<Results!D$12,1,0))","v":1}]
[null,null,null,null,null,null,null,null,null,null,null,10839,1.0402341886806827,{"$f":"IF(L10840=\"\",\"\",IF(M10840<Results!D$12,1,0))","v":0}]
[null,null,null,null,null,null,null,null,null,null,null,10872,1.0366874232891941,{"$f":"IF(L10873=\"\",\"\",IF(M10873<Results!D$12,1,0))","v":1}]
[null,null,null,null,null,null,null,null,null,null,null,10905,1.0377855158462252,{"$f":"IF(L10906=\"\",\"\",IF(M10906<Results!D$12,1,0))","v":0}]
[null,null,null,null,null,null,null,null,null,null,null,10906,1.0321819087890083,{"$f":"IF(L10907=\"\",\"\",IF(M10907<Results!D$12,1,0))","v":1}]
[null,null,null,null,null,null,null,null,null,null,null,10942,1.0489206760200138,{"$f":"IF(L10943=\"\",\"\",IF(M10943<Results!D$12,1,0))","v":0}]
[null,null,null,null,null,null,null,null,null,null,null,10963,1.0654784168274514,{"$f":"IF(L10964=\"\",\"\",IF(M10964<Results!D$12,1,0))","v":0}]
[null,null,null,null,null,null,null,null,null,null,null,10996,1.0350736833146847,{"$f":"IF(L10997=\"\",\"\",IF(M10997<Results!D$12,1,0))","v":1}]
[null,null,null,null,null,null,null,null,null,null,null,11005,1.0272487696301211,{"$f":"IF(L11006=\"\",\"\",IF(M11006<Results!D$12,1,0))","v":1}]
[null,null,null,null,null,null,null,null,null,null,null,11034,1.0437188843870351,{"$f":"IF(L11035=\"\",\"\",IF(M11035<Results!D$12,1,0))","v":0}]
[null,null,null,null,null,null,null,null,null,null,null,11062,1.0318501739477712,{"$f":"IF(L11063=\"\",\"\",IF(M11063<Results!D$12,1,0))","v":1}]
[null,null,null,null,null,null,null,null,null,null,null,11095,1.021837307676807,{"$f":"IF(L11096=\"\",\"\",IF(M11096<Results!D$12,1,0))","v":1}]
[null,null,null,null,null,null,null,null,null,null,null,11096,1.0425039072750877,{"$f":"IF(L11097=\"\",\"\",IF(M11097<Results!D$12,1,0))","v":0}]
[null,null,null,null,null,null,null,null,null,null,null,11137,1.0652684995688186,{"$f":"IF(L11138=\"\",\"\",IF(M11138<Results!D$12,1,0))","v":0}]
[null,null,null,null,null,null,null,null,null,null,null,11153,1.0575427729385767,{"$f":"IF(L11154=\"\",\"\",IF(M11154<Results!D$12,1,0))","v":0}]
[null,null,null,null,null,null,null,null,null,null,null,11186,1.0445680087471467,{"$f":"IF(L11187=\"\",\"\",IF(M11187<Results!D$12,1,0))","v":0}]
[null,null,null,null,null,null,null,null,null,null,null,11195,1.037594090761853,{"$f":"IF(L11196=\"\",\"\",IF(M11196<Results!D$12,1,0))","v":0}]
[null,null,null,null,null,null,null,null,null,null,null,11229,1.0529929291973477,{"$f":"IF(L11230=\"\",\"\",IF(M11230<Results!D$12,1,0))","v":0}]
[null,null,null,null,null,null,null,null,null,null,null,11252,1.0269341189393169,{"$f":"IF(L11253=\"\",\"\",IF(M11253<Results!D$12,1,0))","v":1}]
[null,null,null,null,null,null,null,null,null,null,null,11285,1.036520978668114,{"$f":"IF(L11286=\"\",\"\",IF(M11286<Results!D$12,1,0))","v":1}]
[null,null,null,null,null,null,null,null,null,null,null,11286,1.018894285415934,{"$f":"IF(L11287=\"\",\"\",IF(M11287<Results!D$12,1,0))","v":1}]
[null,null,null,null,null,null,null,null,null,null,null,11332,1.0456264934509252,{"$f":"IF(L11333=\"\",\"\",IF(M11333<Results!D$12,1,0))","v":0}]
[null,null,null,null,null,null,null,null,null,null,null,11343,1.0507370367365989,{"$f":"IF(L11344=\"\",\"\",IF(M11344<Results!D$12,1,0))","v":0}]
[null,null,null,null,null,null,null,null,null,null,null,11376,1.0253132319488159,{"$f":"IF(L11377=\"\",\"\",IF(M11377<Results!D$12,1,0))","v":1}]
[null,null,null,null,null,null,null,null,null,null,null,11385,1.0014534081688102,{"$f":"IF(L11386=\"\",\"\",IF(M11386<Results!D$12,1,0))","v":1}]
[null,null,null,null,null,null,null,null,null,null,null,11424,1.0269374645788119,{"$f":"IF(L11425=\"\",\"\",IF(M11425<Results!D$12,1,0))","v":1}]
[null,null,null,null,null,null,null,null,null,null,null,11442,1.0378448004628087,{"$f":"IF(L11443=\"\",\"\",IF(M11443<Results!D$12,1,0))","v":0}]
[null,null,null,null,null,null,null,null,null,null,null,11467,1.0299368020358,{"$f":"IF(L11468=\"\",\"\",IF(M11468<Results!D$12,1,0))","v":1}]
[null,null,null,null,null,null,null,null,null,null,null,11476,1.0518558005919711,{"$f":"IF(L11477=\"\",\"\",IF(M11477<Results!D$12,1,0))","v":0}]
[null,null,null,null,null,null,null,null,null,null,null,11504,1.0359116976228433,{"$f":"IF(L11505=\"\",\"\",IF(M11505<Results!D$12,1,0))","v":1}]
[null,null,null,null,null,null,null,null,null,null,null,11533,1.0646727796731568,{"$f":"IF(L11534=\"\",\"\",IF(M11534<Results!D$12,1,0))","v":0}]
[null,null,null,null,null,null,null,null,null,null,null,11566,1.0235843174582755,{"$f":"IF(L11567=\"\",\"\",IF(M11567<Results!D$12,1,0))","v":1}]
[null,null,null,null,null,null,null,null,null,null,null,11575,1.0481917817063049,{"$f":"IF(L11576=\"\",\"\",IF(M11576<Results!D$12,1,0))","v":0}]
[null,null,null,null,null,null,null,null,null,null,null,11596,1.0431332314287012,{"$f":"IF(L11597=\"\",\"\",IF(M11597<Results!D$12,1,0))","v":0}]
[null,null,null,null,null,null,null,null,null,null,null,11632,1.0413272076831774,{"$f":"IF(L11633=\"\",\"\",IF(M11633<Results!D$12,1,0))","v":0}]
[null,null,null,null,null,null,null,null,null,null,null,11657,1.0142589631451842,{"$f":"IF(L11658=\"\",\"\",IF(M11658<Results!D$12,1,0))","v":1}]
[null,null,null,null,null,null,null,null,null,null,null,11666,1.0425465916488381,{"$f":"IF(L11667=\"\",\"\",IF(M11667<Results!D$12,1,0))","v":0}]
[null,null,null,null,null,null,null,null,null,null,null,11699,1.0339106403777909,{"$f":"IF(L11700=\"\",\"\",IF(M11700<Results!D$12,1,0))","v":1}]
[null,null,null,null,null,null,null,null,null,null,null,11723,1.0336056388604236,{"$f":"IF(L11724=\"\",\"\",IF(M11724<Results!D$12,1,0))","v":1}]
[null,null,null,null,null,null,null,null,null,null,null,11756,1.0340483277011812,{"$f":"IF(L11757=\"\",\"\",IF(M11757<Results!D$12,1,0))","v":1}]
[null,null,null,null,null,null,null,null,null,null,null,11765,1.0439306849929202,{"$f":"IF(L11766=\"\",\"\",IF(M11766<Results!D$12,1,0))","v":0}]
[null,null,null,null,null,null,null,null,null,null,null,11791,1.009854516028867,{"$f":"IF(L11792=\"\",\"\",IF(M11792<Results!D$12,1,0))","v":1}]
[null,null,null,null,null,null,null,null,null,null,null,11822,1.0431146576060524,{"$f":"IF(L11823=\"\",\"\",IF(M11823<Results!D$12,1,0))","v":0}]
[null,null,null,null,null,null,null,null,null,null,null,11847,1.0175260017931149,{"$f":"IF(L11848=\"\",\"\",IF(M11848<Results!D$12,1,0))","v":1}]
[null,null,null,null,null,null,null,null,null,null,null,11856,1.0516812730519667,{"$f":"IF(L11857=\"\",\"\",IF(M11857<Results!D$12,1,0))","v":0}]
[null,null,null,null,null,null,null,null,null,null,null,11894,1.0431927066340658,{"$f":"IF(L11895=\"\",\"\",IF(M11895<Results!D$12,1,0))","v":0}]
[null,null,null,null,null,null,null,null,null,null,null,11913,1.0299406610052162,{"$f":"IF(L11914=\"\",\"\",IF(M11914<Results!D$12,1,0))","v":1}]
[null,null,null,null,null,null,null,null,null,null,null,11946,1.0394605920804616,{"$f":"IF(L11947=\"\",\"\",IF(M11947<Results!D$12,1,0))","v":0}]
[null,null,null,null,null,null,null,null,null,null,null,11971,1.0352454641402402,{"$f":"IF(L11972=\"\",\"\",IF(M11972<Results!D$12,1,0))","v":1}]
[null,null,null,null,null,null,null,null,null,null,null,11986,1.0479571522180806,{"$f":"IF(L11987=\"\",\"\",IF(M11987<Results!D$12,1,0))","v":0}]
[null,null,null,null,null,null,null,null,null,null,null,12012,1.0435368776090403,{"$f":"IF(L12013=\"\",\"\",IF(M12013<Results!D$12,1,0))","v":0}]
[null,null,null,null,null,null,null,null,null,null,null,12037,1.0627716857209797,{"$f":"IF(L12038=\"\",\"\",IF(M12038<Results!D$12,1,0))","v":0}]
[null,null,null,null,null,null,null,null,null,null,null,12046,1.0049668509230307,{"$f":"IF(L12047=\"\",\"\",IF(M12047<Results!D$12,1,0))","v":1}]
[null,null,null,null,null,null,null,null,null,null,null,12089,1.0231452098523981,{"$f":"IF(L12090=\"\",\"\",IF(M12090<Results!D$12,1,0))","v":1}]
[null,null,null,null,null,null,null,null,null,null,null,12103,1.0325520523095453,{"$f":"IF(L12104=\"\",\"\",IF(M12104<Results!D$12,1,0))","v":1}]
[null,null,null,null,null,null,null,null,null,null,null,12136,1.0213864094328051,{"$f":"IF(L12137=\"\",\"\",IF(M12137<Results!D$12,1,0))","v":1}]
[null,null,null,null,null,null,null,null,null,null,null,12161,1.0484077700901848,{"$f":"IF(L12162=\"\",\"\",IF(M12162<Results!D$12,1,0))","v":0}]
[null,null,null,null,null,null,null,null,null,null,null,12181,1.0287928589750683,{"$f":"IF(L12182=\"\",\"\",IF(M12182<Results!D$12,1,0))","v":1}]
[null,null,null,null,null,null,null,null,null,null,null,12202,1.0330484577402328,{"$f":"IF(L12203=\"\",\"\",IF(M12203<Results!D$12,1,0))","v":1}]
[null,null,null,null,null,null,null,null,null,null,null,12227,1.0258232002404282,{"$f":"IF(L12228=\"\",\"\",IF(M12228<Results!D$12,1,0))","v":1}]
[null,null,null,null,null,null,null,null,null,null,null,12236,1.0211841742766152,{"$f":"IF(L12237=\"\",\"\",IF(M12237<Results!D$12,1,0))","v":1}]
[null,null,null,null,null,null,null,null,null,null,null,12273,1.0386128865268427,{"$f":"IF(L12274=\"\",\"\",IF(M12274<Results!D$12,1,0))","v":0}]
[null,null,null,null,null,null,null,null,null,null,null,12293,1.04487987114981,{"$f":"IF(L12294=\"\",\"\",IF(M12294<Results!D$12,1,0))","v":0}]
[null,null,null,null,null,null,null,null,null,null,null,12326,1.0200862202783514,{"$f":"IF(L12327=\"\",\"\",IF(M12327<Results!D$12,1,0))","v":1}]
[null,null,null,null,null,null,null,null,null,null,null,12351,1.0410974505002624,{"$f":"IF(L12352=\"\",\"\",IF(M12352<Results!D$12,1,0))","v":0}]
[null,null,null,null,null,null,null,null,null,null,null,12376,1.0698679134601643,{"$f":"IF(L12377=\"\",\"\",IF(M12377<Results!D$12,1,0))","v":0}]
[null,null,null,null,null,null,null,null,null,null,null,12392,1.0454652496397965,{"$f":"IF(L12393=\"\",\"\",IF(M12393<Results!D$12,1,0))","v":0}]
[null,null,null,null,null,null,null,null,null,null,null,12417,1.0158335350923646,{"$f":"IF(L12418=\"\",\"\",IF(M12418<Results!D$12,1,0))","v":1}]
[null,null,null,null,null,null,null,null,null,null,null,12426,1.0400096297935011,{"$f":"IF(L12427=\"\",\"\",IF(M12427<Results!D$12,1,0))","v":0}]
[null,null,null,null,null,null,null,null,null,null,null,12468,1.0440345478761253,{"$f":"IF(L12469=\"\",\"\",IF(M12469<Results!D$12,1,0))","v":0}]
[null,null,null,null,null,null,null,null,null,null,null,12483,1.0459765908367349,{"$f":"IF(L12484=\"\",\"\",IF(M12484<Results!D$12,1,0))","v":0}]
[null,null,null,null,null,null,null,null,null,null,null,12516,1.0802985392392206,{"$f":"IF(L12517=\"\",\"\",IF(M12517<Results!D$12,1,0))","v":0}]
[null,null,null,null,null,null,null,null,null,null,null,12541,1.0237973488486267,{"$f":"IF(L12542=\"\",\"\",IF(M12542<Results!D$12,1,0))","v":1}]
[null,null,null,null,null,null,null,null,null,null,null,12548,1.0377418920073329,{"$f":"IF(L12549=\"\",\"\",IF(M12549<Results!D$12,1,0))","v":0}]
[null,null,null,null,null,null,null,null,null,null,null,12582,1.0405374087199013,{"$f":"IF(L12583=\"\",\"\",IF(M12583<Results!D$12,1,0))","v":0}]
[null,null,null,null,null,null,null,null,null,null,null,12607,1.031317647880843,{"$f":"IF(L12608=\"\",\"\",IF(M12608<Results!D$12,1,0))","v":1}]
[null,null,null,null,null,null,null,null,null,null,null,12616,1.0363372488826705,{"$f":"IF(L12617=\"\",\"\",IF(M12617<Results!D$12,1,0))","v":1}]
[null,null,null,null,null,null,null,null,null,null,null,12640,1.0422475086666059,{"$f":"IF(L12641=\"\",\"\",IF(M12641<Results!D$12,1,0))","v":0}]
[null,null,null,null,null,null,null,null,null,null,null,12673,1.0362538209199532,{"$f":"IF(L12674=\"\",\"\",IF(M12674<Results!D$12,1,0))","v":1}]
[null,null,null,null,null,null,null,null,null,null,null,12706,1.0481293219584951,{"$f":"IF(L12707=\"\",\"\",IF(M12707<Results!D$12,1,0))","v":0}]
[null,null,null,null,null,null,null,null,null,null,null,12731,1.0510953996718153,{"$f":"IF(L12732=\"\",\"\",IF(M12732<Results!D$12,1,0))","v":0}]
[null,null,null,null,null,null,null,null,null,null,null,12743,1.0373493955116184,{"$f":"IF(L12744=\"\",\"\",IF(M12744<Results!D$12,1,0))","v":1}]
[null,null,null,null,null,null,null,null,null,null,null,12764,1.0450671790939496,{"$f":"IF(L12765=\"\",\"\",IF(M12765<Results!D$12,1,0))","v":0}]
[null,null,null,null,null,null,null,null,null,null,null,12797,1.0360560390621274,{"$f":"IF(L12798=\"\",\"\",IF(M12798<Results!D$12,1,0))","v":1}]
[null,null,null,null,null,null,null,null,null,null,null,12806,1.0300643344931968,{"$f":"IF(L12807=\"\",\"\",IF(M12807<Results!D$12,1,0))","v":1}]
[null,null,null,null,null,null,null,null,null,null,null,12835,1.0099649758936622,{"$f":"IF(L12836=\"\",\"\",IF(M12836<Results!D$12,1,0))","v":1}]
[null,null,null,null,null,null,null,null,null,null,null,12863,1.0455408136457032,{"$f":"IF(L12864=\"\",\"\",IF(M12864<Results!D$12,1,0))","v":0}]
[null,null,null,null,null,null,null,null,null,null,null,12896,1.0291533004118039,{"$f":"IF(L12897=\"\",\"\",IF(M12897<Results!D$12,1,0))","v":1}]
[null,null,null,null,null,null,null,null,null,null,null,12921,1.0401804708944362,{"$f":"IF(L12922=\"\",\"\",IF(M12922<Results!D$12,1,0))","v":0}]
[null,null,null,null,null,null,null,null,null,null,null,12938,1.0226038688638825,{"$f":"IF(L12939=\"\",\"\",IF(M12939<Results!D$12,1,0))","v":1}]
[null,null,null,null,null,null,null,null,null,null,null,12954,1.0269766538843146,{"$f":"IF(L12955=\"\",\"\",IF(M12955<Results!D$12,1,0))","v":1}]
[null,null,null,null,null,null,null,null,null,null,null,12987,1.0277684603097765,{"$f":"IF(L12988=\"\",\"\",IF(M12988<Results!D$12,1,0))","v":1}]
[null,null,null,null,null,null,null,null,null,null,null,12996,1.0847873008438824,{"$f":"IF(L12997=\"\",\"\",IF(M12997<Results!D$12,1,0))","v":0}]
[null,null,null,null,null,null,null,null,null,null,null,13030,1.0390208054536234,{"$f":"IF(L13031=\"\",\"\",IF(M13031<Results!D$12,1,0))","v":0}]
[null,null,null,null,null,null,null,null,null,null,null,13053,1.0400866880499993,{"$f":"IF(L13054=\"\",\"\",IF(M13054<Results!D$12,1,0))","v":0}]
[null,null,null,null,null,null,null,null,null,null,null,13086,1.0693224990787844,{"$f":"IF(L13087=\"\",\"\",IF(M13087<Results!D$12,1,0))","v":0}]
[null,null,null,null,null,null,null,null,null,null,null,13111,1.0174764303406085,{"$f":"IF(L13112=\"\",\"\",IF(M13112<Results!D$12,1,0))","v":1}]
[null,null,null,null,null,null,null,null,null,null,null,13133,1.0351752884687517,{"$f":"IF(L13134=\"\",\"\",IF(M13134<Results!D$12,1,0))","v":1}]
[null,null,null,null,null,null,null,null,null,null,null,13144,1.0525727467585588,{"$f":"IF(L13145=\"\",\"\",IF(M13145<Results!D$12,1,0))","v":0}]
[null,null,null,null,null,null,null,null,null,null,null,13177,1.0255071023655113,{"$f":"IF(L13178=\"\",\"\",IF(M13178<Results!D$12,1,0))","v":1}]
[null,null,null,null,null,null,null,null,null,null,null,{"$f":"IF(M13187=\"\",\"\",ROW(L13187)-1)","v":13186},1.011505307662069,{"$f":"IF(L13187=\"\",\"\",IF(M13187<Results!D$12,1,0))","v":1}]
[null,null,null,null,null,null,null,null,null,null,null,13225,1.0457483165161676,{"$f":"IF(L13226=\"\",\"\",IF(M13226<Results!D$12,1,0))","v":0}]
[null,null,null,null,null,null,null,null,null,null,null,13243,1.0444394378002428,{"$f":"IF(L13244=\"\",\"\",IF(M13244<Results!D$12,1,0))","v":0}]
[null,null,null,null,null,null,null,null,null,null,null,13268,1.0324176500821438,{"$f":"IF(L13269=\"\",\"\",IF(M13269<Results!D$12,1,0))","v":1}]
[null,null,null,null,null,null,null,null,null,null,null,13301,1.0456193318225979,{"$f":"IF(L13302=\"\",\"\",IF(M13302<Results!D$12,1,0))","v":0}]
[null,null,null,null,null,null,null,null,null,null,null,13305,1.0524193592176583,{"$f":"IF(L13306=\"\",\"\",IF(M13306<Results!D$12,1,0))","v":0}]
[null,null,null,null,null,null,null,null,null,null,null,13334,1.042389535299086,{"$f":"IF(L13335=\"\",\"\",IF(M13335<Results!D$12,1,0))","v":0}]
[null,null,null,null,null,null,null,null,null,null,null,13367,1.023191339820948,{"$f":"IF(L13368=\"\",\"\",IF(M13368<Results!D$12,1,0))","v":1}]
[null,null,null,null,null,null,null,null,null,null,null,13376,1.0385033828499721,{"$f":"IF(L13377=\"\",\"\",IF(M13377<Results!D$12,1,0))","v":0}]
[null,null,null,null,null,null,null,null,null,null,null,13420,1.050069842266762,{"$f":"IF(L13421=\"\",\"\",IF(M13421<Results!D$12,1,0))","v":0}]
[null,null,null,null,null,null,null,null,null,null,null,13433,1.0479757051130696,{"$f":"IF(L13434=\"\",\"\",IF(M13434<Results!D$12,1,0))","v":0}]
[null,null,null,null,null,null,null,null,null,null,null,13458,1.0301191282753461,{"$f":"IF(L13459=\"\",\"\",IF(M13459<Results!D$12,1,0))","v":1}]
[null,null,null,null,null,null,null,null,null,null,null,13491,1.0262548164494887,{"$f":"IF(L13492=\"\",\"\",IF(M13492<Results!D$12,1,0))","v":1}]
[null,null,null,null,null,null,null,null,null,null,null,13500,1.0532398589047387,{"$f":"IF(L13501=\"\",\"\",IF(M13501<Results!D$12,1,0))","v":0}]
[null,null,null,null,null,null,null,null,null,null,null,13524,1.0263110145500698,{"$f":"IF(L13525=\"\",\"\",IF(M13525<Results!D$12,1,0))","v":1}]
[null,null,null,null,null,null,null,null,null,null,null,13557,1.0487935852519186,{"$f":"IF(L13558=\"\",\"\",IF(M13558<Results!D$12,1,0))","v":0}]
[null,null,null,null,null,null,null,null,null,null,null,13582,1.0452913547027918,{"$f":"IF(L13583=\"\",\"\",IF(M13583<Results!D$12,1,0))","v":0}]
[null,null,null,null,null,null,null,null,null,null,null,13592,1.023010402169811,{"$f":"IF(L13593=\"\",\"\",IF(M13593<Results!D$12,1,0))","v":1}]
[null,null,null,null,null,null,null,null,null,null,null,13623,1.0298644718710857,{"$f":"IF(L13624=\"\",\"\",IF(M13624<Results!D$12,1,0))","v":1}]
[null,null,null,null,null,null,null,null,null,null,null,13648,1.0434354980048253,{"$f":"IF(L13649=\"\",\"\",IF(M13649<Results!D$12,1,0))","v":0}]
[null,null,null,null,null,null,null,null,null,null,null,13681,1.0479053153060631,{"$f":"IF(L13682=\"\",\"\",IF(M13682<Results!D$12,1,0))","v":0}]
[null,null,null,null,null,null,null,null,null,null,null,13695,1.034154478347014,{"$f":"IF(L13696=\"\",\"\",IF(M13696<Results!D$12,1,0))","v":1}]
[null,null,null,null,null,null,null,null,null,null,null,13714,1.0353455804233294,{"$f":"IF(L13715=\"\",\"\",IF(M13715<Results!D$12,1,0))","v":1}]
[null,null,null,null,null,null,null,null,null,null,null,13747,1.0459166146379337,{"$f":"IF(L13748=\"\",\"\",IF(M13748<Results!D$12,1,0))","v":0}]
[null,null,null,null,null,null,null,null,null,null,null,13772,1.0526170713035079,{"$f":"IF(L13773=\"\",\"\",IF(M13773<Results!D$12,1,0))","v":0}]
[null,null,null,null,null,null,null,null,null,null,null,13787,1.0334414294424181,{"$f":"IF(L13788=\"\",\"\",IF(M13788<Results!D$12,1,0))","v":1}]
[null,null,null,null,null,null,null,null,null,null,null,13813,1.035880766408982,{"$f":"IF(L13814=\"\",\"\",IF(M13814<Results!D$12,1,0))","v":1}]
[null,null,null,null,null,null,null,null,null,null,null,13838,1.0376562965083178,{"$f":"IF(L13839=\"\",\"\",IF(M13839<Results!D$12,1,0))","v":0}]
[null,null,null,null,null,null,null,null,null,null,null,13871,1.0645474718294528,{"$f":"IF(L13872=\"\",\"\",IF(M13872<Results!D$12,1,0))","v":0}]
[null,null,null,null,null,null,null,null,null,null,null,13880,1.0115827024034312,{"$f":"IF(L13881=\"\",\"\",IF(M13881<Results!D$12,1,0))","v":1}]
[null,null,null,null,null,null,null,null,null,null,null,13902,1.0266608298473388,{"$f":"IF(L13903=\"\",\"\",IF(M13903<Results!D$12,1,0))","v":1}]
[null,null,null,null,null,null,null,null,null,null,null,13937,1.0491461625456338,{"$f":"IF(L13938=\"\",\"\",IF(M13938<Results!D$12,1,0))","v":0}]
[null,null,null,null,null,null,null,null,null,null,null,13962,1.0742213796897355,{"$f":"IF(L13963=\"\",\"\",IF(M13963<Results!D$12,1,0))","v":0}]
[null,null,null,null,null,null,null,null,null,null,null,13971,1.026953638320832,{"$f":"IF(L13972=\"\",\"\",IF(M13972<Results!D$12,1,0))","v":1}]
[null,null,null,null,null,null,null,null,null,null,null,14005,1.0585600606957097,{"$f":"IF(L14006=\"\",\"\",IF(M14006<Results!D$12,1,0))","v":0}]
[null,null,null,null,null,null,null,null,null,null,null,14028,1.0358868586154675,{"$f":"IF(L14029=\"\",\"\",IF(M14029<Results!D$12,1,0))","v":1}]
[null,null,null,null,null,null,null,null,null,null,null,14061,1.041046081356628,{"$f":"IF(L14062=\"\",\"\",IF(M14062<Results!D$12,1,0))","v":0}]
[null,null,null,null,null,null,null,null,null,null,null,14086,1.0461159697034568,{"$f":"IF(L14087=\"\",\"\",IF(M14087<Results!D$12,1,0))","v":0}]
[null,null,null,null,null,null,null,null,null,null,null,14097,1.0544989219185645,{"$f":"IF(L14098=\"\",\"\",IF(M14098<Results!D$12,1,0))","v":0}]
[null,null,null,null,null,null,null,null,null,null,null,14127,1.0357189861171858,{"$f":"IF(L14128=\"\",\"\",IF(M14128<Results!D$12,1,0))","v":1}]
[null,null,null,null,null,null,null,null,null,null,null,14152,1.0385369361825909,{"$f":"IF(L14153=\"\",\"\",IF(M14153<Results!D$12,1,0))","v":0}]
[null,null,null,null,null,null,null,null,null,null,null,14161,1.0362559875369413,{"$f":"IF(L14162=\"\",\"\",IF(M14162<Results!D$12,1,0))","v":1}]
[null,null,null,null,null,null,null,null,null,null,null,14200,1.0539133787278456,{"$f":"IF(L14201=\"\",\"\",IF(M14201<Results!D$12,1,0))","v":0}]
[null,null,null,null,null,null,null,null,null,null,null,14218,1.022947718750205,{"$f":"IF(L14219=\"\",\"\",IF(M14219<Results!D$12,1,0))","v":1}]
[null,null,null,null,null,null,null,null,null,null,null,14251,1.0549024078743654,{"$f":"IF(L14252=\"\",\"\",IF(M14252<Results!D$12,1,0))","v":0}]
[null,null,null,null,null,null,null,null,null,null,null,14276,1.0471187618179099,{"$f":"IF(L14277=\"\",\"\",IF(M14277<Results!D$12,1,0))","v":0}]
[null,null,null,null,null,null,null,null,null,null,null,14292,1.0287012291285555,{"$f":"IF(L14293=\"\",\"\",IF(M14293<Results!D$12,1,0))","v":1}]
[null,null,null,null,null,null,null,null,null,null,null,14317,1.03834184868396,{"$f":"IF(L14318=\"\",\"\",IF(M14318<Results!D$12,1,0))","v":0}]
[null,null,null,null,null,null,null,null,null,null,null,14342,1.0422559071266633,{"$f":"IF(L14343=\"\",\"\",IF(M14343<Results!D$12,1,0))","v":0}]
[null,null,null,null,null,null,null,null,null,null,null,14351,1.0304173472752556,{"$f":"IF(L14352=\"\",\"\",IF(M14352<Results!D$12,1,0))","v":1}]
[null,null,null,null,null,null,null,null,null,null,null,14384,1.0562936350473353,{"$f":"IF(L14385=\"\",\"\",IF(M14385<Results!D$12,1,0))","v":0}]
[null,null,null,null,null,null,null,null,null,null,null,14408,1.0305106535434163,{"$f":"IF(L14409=\"\",\"\",IF(M14409<Results!D$12,1,0))","v":1}]
[null,null,null,null,null,null,null,null,null,null,null,14441,1.0468199673166949,{"$f":"IF(L14442=\"\",\"\",IF(M14442<Results!D$12,1,0))","v":0}]
[null,null,null,null,null,null,null,null,null,null,null,{"$f":"IF(M14467=\"\",\"\",ROW(L14467)-1)","v":14466},1.0476743683474079,{"$f":"IF(L14467=\"\",\"\",IF(M14467<Results!D$12,1,0))","v":0}]
[null,null,null,null,null,null,null,null,null,null,null,14487,1.0361152435839862,{"$f":"IF(L14488=\"\",\"\",IF(M14488<Results!D$12,1,0))","v":1}]
[null,null,null,null,null,null,null,null,null,null,null,14507,1.0331849779861451,{"$f":"IF(L14508=\"\",\"\",IF(M14508<Results!D$12,1,0))","v":1}]
[null,null,null,null,null,null,null,null,null,null,null,14532,1.03713390001914,{"$f":"IF(L14533=\"\",\"\",IF(M14533<Results!D$12,1,0))","v":1}]
[null,null,null,null,null,null,null,null,null,null,null,14541,1.0479953928963768,{"$f":"IF(L14542=\"\",\"\",IF(M14542<Results!D$12,1,0))","v":0}]
[null,null,null,null,null,null,null,null,null,null,null,14579,1.0267482634375182,{"$f":"IF(L14580=\"\",\"\",IF(M14580<Results!D$12,1,0))","v":1}]
[null,null,null,null,null,null,null,null,null,null,null,14598,1.0553745304972648,{"$f":"IF(L14599=\"\",\"\",IF(M14599<Results!D$12,1,0))","v":0}]
[null,null,null,null,null,null,null,null,null,null,null,14631,1.0478330375744693,{"$f":"IF(L14632=\"\",\"\",IF(M14632<Results!D$12,1,0))","v":0}]
[null,null,null,null,null,null,null,null,null,null,null,14656,1.0324801350540422,{"$f":"IF(L14657=\"\",\"\",IF(M14657<Results!D$12,1,0))","v":1}]
[null,null,null,null,null,null,null,null,null,null,null,14659,1.0086695459488251,{"$f":"IF(L14660=\"\",\"\",IF(M14660<Results!D$12,1,0))","v":1}]
[null,null,null,null,null,null,null,null,null,null,null,14697,1.0284612446688799,{"$f":"IF(L14698=\"\",\"\",IF(M14698<Results!D$12,1,0))","v":1}]
[null,null,null,null,null,null,null,null,null,null,null,{"$f":"IF(M14723=\"\",\"\",ROW(L14723)-1)","v":14722},1.0467919885521679,{"$f":"IF(L14723=\"\",\"\",IF(M14723<Results!D$12,1,0))","v":0}]
[null,null,null,null,null,null,null,null,null,null,null,14731,1.0189640680173331,{"$f":"IF(L14732=\"\",\"\",IF(M14732<Results!D$12,1,0))","v":1}]
[null,null,null,null,null,null,null,null,null,null,null,14774,1.0544916454806781,{"$f":"IF(L14775=\"\",\"\",IF(M14775<Results!D$12,1,0))","v":0}]
[null,null,null,null,null,null,null,null,null,null,null,14788,1.0408780208915285,{"$f":"IF(L14789=\"\",\"\",IF(M14789<Results!D$12,1,0))","v":0}]
[null,null,null,null,null,null,null,null,null,null,null,14821,1.0334894106977286,{"$f":"IF(L14822=\"\",\"\",IF(M14822<Results!D$12,1,0))","v":1}]
[null,null,null,null,null,null,null,null,null,null,null,14846,1.0124810670888382,{"$f":"IF(L14847=\"\",\"\",IF(M14847<Results!D$12,1,0))","v":1}]
[null,null,null,null,null,null,null,null,null,null,null,14854,1.0302899480651362,{"$f":"IF(L14855=\"\",\"\",IF(M14855<Results!D$12,1,0))","v":1}]
[null,null,null,null,null,null,null,null,null,null,null,14879,1.0265131776607832,{"$f":"IF(L14880=\"\",\"\",IF(M14880<Results!D$12,1,0))","v":1}]
[null,null,null,null,null,null,null,null,null,null,null,14912,1.0346117564149386,{"$f":"IF(L14913=\"\",\"\",IF(M14913<Results!D$12,1,0))","v":1}]
[null,null,null,null,null,null,null,null,null,null,null,14921,1.0457527341857686,{"$f":"IF(L14922=\"\",\"\",IF(M14922<Results!D$12,1,0))","v":0}]
[null,null,null,null,null,null,null,null,null,null,null,14946,1.0427274081436579,{"$f":"IF(L14947=\"\",\"\",IF(M14947<Results!D$12,1,0))","v":0}]
[null,null,null,null,null,null,null,null,null,null,null,{"$f":"IF(M14979=\"\",\"\",ROW(L14979)-1)","v":14978},1.0506278191517291,{"$f":"IF(L14979=\"\",\"\",IF(M14979<Results!D$12,1,0))","v":0}]
[null,null,null,null,null,null,null,null,null,null,null,15011,1.0271552811258535,{"$f":"IF(L15012=\"\",\"\",IF(M15012<Results!D$12,1,0))","v":1}]
[null,null,null,null,null,null,null,null,null,null,null,15036,1.0160719148091584,{"$f":"IF(L15037=\"\",\"\",IF(M15037<Results!D$12,1,0))","v":1}]
[null,null,null,null,null,null,null,null,null,null,null,15049,1.0395814295059866,{"$f":"IF(L15050=\"\",\"\",IF(M15050<Results!D$12,1,0))","v":0}]
[null,null,null,null,null,null,null,null,null,null,null,15069,1.0464412815314303,{"$f":"IF(L15070=\"\",\"\",IF(M15070<Results!D$12,1,0))","v":0}]
[null,null,null,null,null,null,null,null,null,null,null,15102,1.0363901711920862,{"$f":"IF(L15103=\"\",\"\",IF(M15103<Results!D$12,1,0))","v":1}]
[null,null,null,null,null,null,null,null,null,null,null,15111,1.0274597950087905,{"$f":"IF(L15112=\"\",\"\",IF(M15112<Results!D$12,1,0))","v":1}]
[null,null,null,null,null,null,null,null,null,null,null,15141,1.0512996001376589,{"$f":"IF(L15142=\"\",\"\",IF(M15142<Results!D$12,1,0))","v":0}]
[null,null,null,null,null,null,null,null,null,null,null,15168,1.0354353171027406,{"$f":"IF(L15169=\"\",\"\",IF(M15169<Results!D$12,1,0))","v":1}]
[null,null,null,null,null,null,null,null,null,null,null,15201,1.0753129694108527,{"$f":"IF(L15202=\"\",\"\",IF(M15202<Results!D$12,1,0))","v":0}]
[null,null,null,null,null,null,null,null,null,null,null,15226,1.0362549968210717,{"$f":"IF(L15227=\"\",\"\",IF(M15227<Results!D$12,1,0))","v":1}]
[null,null,null,null,null,null,null,null,null,null,null,15244,1.0303251320301665,{"$f":"IF(L15245=\"\",\"\",IF(M15245<Results!D$12,1,0))","v":1}]
[null,null,null,null,null,null,null,null,null,null,null,15259,1.0461385431317274,{"$f":"IF(L15260=\"\",\"\",IF(M15260<Results!D$12,1,0))","v":0}]
[null,null,null,null,null,null,null,null,null,null,null,15292,1.0588702372446226,{"$f":"IF(L15293=\"\",\"\",IF(M15293<Results!D$12,1,0))","v":0}]
[null,null,null,null,null,null,null,null,null,null,null,15301,1.0506852359477592,{"$f":"IF(L15302=\"\",\"\",IF(M15302<Results!D$12,1,0))","v":0}]
[null,null,null,null,null,null,null,null,null,null,null,15336,1.0555154348153943,{"$f":"IF(L15337=\"\",\"\",IF(M15337<Results!D$12,1,0))","v":0}]
[null,null,null,null,null,null,null,null,null,null,null,15358,1.0250920148909319,{"$f":"IF(L15359=\"\",\"\",IF(M15359<Results!D$12,1,0))","v":1}]
[null,null,null,null,null,null,null,null,null,null,null,15383,1.0412345843286821,{"$f":"IF(L15384=\"\",\"\",IF(M15384<Results!D$12,1,0))","v":0}]
[null,null,null,null,null,null,null,null,null,null,null,15416,1.0485813333022957,{"$f":"IF(L15417=\"\",\"\",IF(M15417<Results!D$12,1,0))","v":0}]
[null,null,null,null,null,null,null,null,null,null,null,15439,1.0520015731267383,{"$f":"IF(L15440=\"\",\"\",IF(M15440<Results!D$12,1,0))","v":0}]
[null,null,null,null,null,null,null,null,null,null,null,15449,1.0393932871878357,{"$f":"IF(L15450=\"\",\"\",IF(M15450<Results!D$12,1,0))","v":0}]
[null,null,null,null,null,null,null,null,null,null,null,15482,1.0255714778058695,{"$f":"IF(L15483=\"\",\"\",IF(M15483<Results!D$12,1,0))","v":1}]
[null,null,null,null,null,null,null,null,null,null,null,15491,1.0634029217274263,{"$f":"IF(L15492=\"\",\"\",IF(M15492<Results!D$12,1,0))","v":0}]
[null,null,null,null,null,null,null,null,null,null,null,15531,1.0146781332944685,{"$f":"IF(L15532=\"\",\"\",IF(M15532<Results!D$12,1,0))","v":1}]
[null,null,null,null,null,null,null,null,null,null,null,15548,1.0434764694134839,{"$f":"IF(L15549=\"\",\"\",IF(M15549<Results!D$12,1,0))","v":0}]
[null,null,null,null,null,null,null,null,null,null,null,15573,1.0407331984009047,{"$f":"IF(L15574=\"\",\"\",IF(M15574<Results!D$12,1,0))","v":0}]
[null,null,null,null,null,null,null,null,null,null,null,15606,1.0380609228367235,{"$f":"IF(L15607=\"\",\"\",IF(M15607<Results!D$12,1,0))","v":0}]
[null,null,null,null,null,null,null,null,null,null,null,15611,1.0577444991845411,{"$f":"IF(L15612=\"\",\"\",IF(M15612<Results!D$12,1,0))","v":0}]
[null,null,null,null,null,null,null,null,null,null,null,15639,1.0733330447822607,{"$f":"IF(L15640=\"\",\"\",IF(M15640<Results!D$12,1,0))","v":0}]
[null,null,null,null,null,null,null,null,null,null,null,15672,1.0452141648204283,{"$f":"IF(L15673=\"\",\"\",IF(M15673<Results!D$12,1,0))","v":0}]
[null,null,null,null,null,null,null,null,null,null,null,15697,1.0307286979560681,{"$f":"IF(L15698=\"\",\"\",IF(M15698<Results!D$12,1,0))","v":1}]
[null,null,null,null,null,null,null,null,null,null,null,15726,1.0252225548984657,{"$f":"IF(L15727=\"\",\"\",IF(M15727<Results!D$12,1,0))","v":1}]
[null,null,null,null,null,null,null,null,null,null,null,15738,1.0022625875297653,{"$f":"IF(L15739=\"\",\"\",IF(M15739<Results!D$12,1,0))","v":1}]
[null,null,null,null,null,null,null,null,null,null,null,15763,1.0457655671403054,{"$f":"IF(L15764=\"\",\"\",IF(M15764<Results!D$12,1,0))","v":0}]
[null,null,null,null,null,null,null,null,null,null,null,15796,1.0336085058974396,{"$f":"IF(L15797=\"\",\"\",IF(M15797<Results!D$12,1,0))","v":1}]
[null,null,null,null,null,null,null,null,null,null,null,15806,1.0393496332584362,{"$f":"IF(L15807=\"\",\"\",IF(M15807<Results!D$12,1,0))","v":0}]
[null,null,null,null,null,null,null,null,null,null,null,15829,1.0349534564794762,{"$f":"IF(L15830=\"\",\"\",IF(M15830<Results!D$12,1,0))","v":1}]
[null,null,null,null,null,null,null,null,null,null,null,15862,1.0349153690035127,{"$f":"IF(L15863=\"\",\"\",IF(M15863<Results!D$12,1,0))","v":1}]
[null,null,null,null,null,null,null,null,null,null,null,15887,1.0311497103247866,{"$f":"IF(L15888=\"\",\"\",IF(M15888<Results!D$12,1,0))","v":1}]
[null,null,null,null,null,null,null,null,null,null,null,15898,1.019842172273443,{"$f":"IF(L15899=\"\",\"\",IF(M15899<Results!D$12,1,0))","v":1}]
[null,null,null,null,null,null,null,null,null,null,null,15928,1.0469788839441083,{"$f":"IF(L15929=\"\",\"\",IF(M15929<Results!D$12,1,0))","v":0}]
[null,null,null,null,null,null,null,null,null,null,null,15953,1.0369919668904386,{"$f":"IF(L15954=\"\",\"\",IF(M15954<Results!D$12,1,0))","v":1}]
[null,null,null,null,null,null,null,null,null,null,null,15986,1.0442053254973591,{"$f":"IF(L15987=\"\",\"\",IF(M15987<Results!D$12,1,0))","v":0}]
[null,null,null,null,null,null,null,null,null,null,null,16001,1.0619695054574225,{"$f":"IF(L16002=\"\",\"\",IF(M16002<Results!D$12,1,0))","v":0}]
[null,null,null,null,null,null,null,null,null,null,null,16019,1.024047743958685,{"$f":"IF(L16020=\"\",\"\",IF(M16020<Results!D$12,1,0))","v":1}]
[null,null,null,null,null,null,null,null,null,null,null,16052,1.0339864294520407,{"$f":"IF(L16053=\"\",\"\",IF(M16053<Results!D$12,1,0))","v":1}]
[null,null,null,null,null,null,null,null,null,null,null,16077,1.0387278075337993,{"$f":"IF(L16078=\"\",\"\",IF(M16078<Results!D$12,1,0))","v":0}]
[null,null,null,null,null,null,null,null,null,null,null,16093,1.0764655903278149,{"$f":"IF(L16094=\"\",\"\",IF(M16094<Results!D$12,1,0))","v":0}]
[null,null,null,null,null,null,null,null,null,null,null,16118,1.014916297658641,{"$f":"IF(L16119=\"\",\"\",IF(M16119<Results!D$12,1,0))","v":1}]
[null,null,null,null,null,null,null,null,null,null,null,16143,1.0251779532457435,{"$f":"IF(L16144=\"\",\"\",IF(M16144<Results!D$12,1,0))","v":1}]
[null,null,null,null,null,null,null,null,null,null,null,16176,1.0473724271240579,{"$f":"IF(L16177=\"\",\"\",IF(M16177<Results!D$12,1,0))","v":0}]
[null,null,null,null,null,null,null,null,null,null,null,16185,1.0540059627514529,{"$f":"IF(L16186=\"\",\"\",IF(M16186<Results!D$12,1,0))","v":0}]
[null,null,null,null,null,null,null,null,null,null,null,16209,1.0540470991516475,{"$f":"IF(L16210=\"\",\"\",IF(M16210<Results!D$12,1,0))","v":0}]
[null,null,null,null,null,null,null,null,null,null,null,16242,1.0613914193086569,{"$f":"IF(L16243=\"\",\"\",IF(M16243<Results!D$12,1,0))","v":0}]
[null,null,null,null,null,null,null,null,null,null,null,16267,1.0470558735247228,{"$f":"IF(L16268=\"\",\"\",IF(M16268<Results!D$12,1,0))","v":0}]
[null,null,null,null,null,null,null,null,null,null,null,16288,1.034190149678814,{"$f":"IF(L16289=\"\",\"\",IF(M16289<Results!D$12,1,0))","v":1}]
[null,null,null,null,null,null,null,null,null,null,null,16308,1.0371026335602227,{"$f":"IF(L16309=\"\",\"\",IF(M16309<Results!D$12,1,0))","v":1}]
[null,null,null,null,null,null,null,null,null,null,null,16333,1.0177625070812799,{"$f":"IF(L16334=\"\",\"\",IF(M16334<Results!D$12,1,0))","v":1}]
[null,null,null,null,null,null,null,null,null,null,null,16366,1.0399186525263489,{"$f":"IF(L16367=\"\",\"\",IF(M16367<Results!D$12,1,0))","v":0}]
[null,null,null,null,null,null,null,null,null,null,null,16380,1.0319998007714002,{"$f":"IF(L16381=\"\",\"\",IF(M16381<Results!D$12,1,0))","v":1}]
[null,null,null,null,null,null,null,null,null,null,null,16399,1.0430006292759151,{"$f":"IF(L16400=\"\",\"\",IF(M16400<Results!D$12,1,0))","v":0}]
[null,null,null,null,null,null,null,null,null,null,null,16432,1.0297765592846075,{"$f":"IF(L16433=\"\",\"\",IF(M16433<Results!D$12,1,0))","v":1}]
[null,null,null,null,null,null,null,null,null,null,null,16457,1.0313514258540679,{"$f":"IF(L16458=\"\",\"\",IF(M16458<Results!D$12,1,0))","v":1}]
[null,null,null,null,null,null,null,null,null,null,null,16483,1.0245275755516448,{"$f":"IF(L16484=\"\",\"\",IF(M16484<Results!D$12,1,0))","v":1}]
[null,null,null,null,null,null,null,null,null,null,null,16498,1.0351758568486624,{"$f":"IF(L16499=\"\",\"\",IF(M16499<Results!D$12,1,0))","v":1}]
[null,null,null,null,null,null,null,null,null,null,null,16523,1.0217213722067013,{"$f":"IF(L16524=\"\",\"\",IF(M16524<Results!D$12,1,0))","v":1}]
[null,null,null,null,null,null,null,null,null,null,null,16556,1.0095224167472496,{"$f":"IF(L16557=\"\",\"\",IF(M16557<Results!D$12,1,0))","v":1}]
[null,null,null,null,null,null,null,null,null,null,null,16575,1.0386200484345269,{"$f":"IF(L16576=\"\",\"\",IF(M16576<Results!D$12,1,0))","v":0}]
[null,null,null,null,null,null,null,null,null,null,null,16589,1.036704870344765,{"$f":"IF(L16590=\"\",\"\",IF(M16590<Results!D$12,1,0))","v":1}]
[null,null,null,null,null,null,null,null,null,null,null,16622,1.0441940013174087,{"$f":"IF(L16623=\"\",\"\",IF(M16623<Results!D$12,1,0))","v":0}]
[null,null,null,null,null,null,null,null,null,null,null,16647,1.0384670575228565,{"$f":"IF(L16648=\"\",\"\",IF(M16648<Results!D$12,1,0))","v":0}]
[null,null,null,null,null,null,null,null,null,null,null,16655,1.0488536218975144,{"$f":"IF(L16656=\"\",\"\",IF(M16656<Results!D$12,1,0))","v":0}]
[null,null,null,null,null,null,null,null,null,null,null,16680,1.0253660846033039,{"$f":"IF(L16681=\"\",\"\",IF(M16681<Results!D$12,1,0))","v":1}]
[null,null,null,null,null,null,null,null,null,null,null,16713,1.0391323724552832,{"$f":"IF(L16714=\"\",\"\",IF(M16714<Results!D$12,1,0))","v":0}]
[null,null,null,null,null,null,null,null,null,null,null,16746,1.0125160620208848,{"$f":"IF(L16747=\"\",\"\",IF(M16747<Results!D$12,1,0))","v":1}]
[null,null,null,null,null,null,null,null,null,null,null,{"$f":"IF(M16771=\"\",\"\",ROW(L16771)-1)","v":16770},1.0400133055634935,{"$f":"IF(L16771=\"\",\"\",IF(M16771<Results!D$12,1,0))","v":0}]
[null,null,null,null,null,null,null,null,null,null,null,16779,1.0448315036615439,{"$f":"IF(L16780=\"\",\"\",IF(M16780<Results!D$12,1,0))","v":0}]
[null,null,null,null,null,null,null,null,null,null,null,16812,1.0338812297953415,{"$f":"IF(L16813=\"\",\"\",IF(M16813<Results!D$12,1,0))","v":1}]
[null,null,null,null,null,null,null,null,null,null,null,16837,1.0362979766185334,{"$f":"IF(L16838=\"\",\"\",IF(M16838<Results!D$12,1,0))","v":1}]
[null,null,null,null,null,null,null,null,null,null,null,16850,1.0201939124281454,{"$f":"IF(L16851=\"\",\"\",IF(M16851<Results!D$12,1,0))","v":1}]
[null,null,null,null,null,null,null,null,null,null,null,16870,1.0635445865425899,{"$f":"IF(L16871=\"\",\"\",IF(M16871<Results!D$12,1,0))","v":0}]
[null,null,null,null,null,null,null,null,null,null,null,16903,1.0350469483249913,{"$f":"IF(L16904=\"\",\"\",IF(M16904<Results!D$12,1,0))","v":1}]
[null,null,null,null,null,null,null,null,null,null,null,16936,1.0196773555591965,{"$f":"IF(L16937=\"\",\"\",IF(M16937<Results!D$12,1,0))","v":1}]
[null,null,null,null,null,null,null,null,null,null,null,16942,1.0357929943275881,{"$f":"IF(L16943=\"\",\"\",IF(M16943<Results!D$12,1,0))","v":1}]
[null,null,null,null,null,null,null,null,null,null,null,16969,1.0421008147857167,{"$f":"IF(L16970=\"\",\"\",IF(M16970<Results!D$12,1,0))","v":0}]
[null,null,null,null,null,null,null,null,null,null,null,16994,1.0434531302834271,{"$f":"IF(L16995=\"\",\"\",IF(M16995<Results!D$12,1,0))","v":0}]
[null,null,null,null,null,null,null,null,null,null,null,17027,1.0423519801699324,{"$f":"IF(L17028=\"\",\"\",IF(M17028<Results!D$12,1,0))","v":0}]
[null,null,null,null,null,null,null,null,null,null,null,17045,1.0530598606982318,{"$f":"IF(L17046=\"\",\"\",IF(M17046<Results!D$12,1,0))","v":0}]
[null,null,null,null,null,null,null,null,null,null,null,17060,1.0380827207173029,{"$f":"IF(L17061=\"\",\"\",IF(M17061<Results!D$12,1,0))","v":0}]
[null,null,null,null,null,null,null,null,null,null,null,17093,1.0501762165595743,{"$f":"IF(L17094=\"\",\"\",IF(M17094<Results!D$12,1,0))","v":0}]
[null,null,null,null,null,null,null,null,null,null,null,17126,1.0521648675930617,{"$f":"IF(L17127=\"\",\"\",IF(M17127<Results!D$12,1,0))","v":0}]
[null,null,null,null,null,null,null,null,null,null,null,17137,1.0408216068104246,{"$f":"IF(L17138=\"\",\"\",IF(M17138<Results!D$12,1,0))","v":0}]
[null,null,null,null,null,null,null,null,null,null,null,17159,1.0329093099858406,{"$f":"IF(L17160=\"\",\"\",IF(M17160<Results!D$12,1,0))","v":1}]
[null,null,null,null,null,null,null,null,null,null,null,17184,1.0223649596193263,{"$f":"IF(L17185=\"\",\"\",IF(M17185<Results!D$12,1,0))","v":1}]
[null,null,null,null,null,null,null,null,null,null,null,17217,1.0280107645935963,{"$f":"IF(L17218=\"\",\"\",IF(M17218<Results!D$12,1,0))","v":1}]
[null,null,null,null,null,null,null,null,null,null,null,17240,1.0184604625370781,{"$f":"IF(L17241=\"\",\"\",IF(M17241<Results!D$12,1,0))","v":1}]
[null,null,null,null,null,null,null,null,null,null,null,17250,1.0503576537125201,{"$f":"IF(L17251=\"\",\"\",IF(M17251<Results!D$12,1,0))","v":0}]
[null,null,null,null,null,null,null,null,null,null,null,17283,1.0450302704148349,{"$f":"IF(L17284=\"\",\"\",IF(M17284<Results!D$12,1,0))","v":0}]
[null,null,null,null,null,null,null,null,null,null,null,17316,1.0316114055036203,{"$f":"IF(L17317=\"\",\"\",IF(M17317<Results!D$12,1,0))","v":1}]
[null,null,null,null,null,null,null,null,null,null,null,17332,1.0306572432527281,{"$f":"IF(L17333=\"\",\"\",IF(M17333<Results!D$12,1,0))","v":1}]
[null,null,null,null,null,null,null,null,null,null,null,17349,1.0222044100935741,{"$f":"IF(L17350=\"\",\"\",IF(M17350<Results!D$12,1,0))","v":1}]
[null,null,null,null,null,null,null,null,null,null,null,17374,1.0234498955393165,{"$f":"IF(L17375=\"\",\"\",IF(M17375<Results!D$12,1,0))","v":1}]
[null,null,null,null,null,null,null,null,null,null,null,17407,1.039796634041428,{"$f":"IF(L17408=\"\",\"\",IF(M17408<Results!D$12,1,0))","v":0}]
[null,null,null,null,null,null,null,null,null,null,null,17435,1.0349529911193924,{"$f":"IF(L17436=\"\",\"\",IF(M17436<Results!D$12,1,0))","v":1}]
[null,null,null,null,null,null,null,null,null,null,null,17440,1.0237018650831096,{"$f":"IF(L17441=\"\",\"\",IF(M17441<Results!D$12,1,0))","v":1}]
[null,null,null,null,null,null,null,null,null,null,null,17473,1.0541434544467412,{"$f":"IF(L17474=\"\",\"\",IF(M17474<Results!D$12,1,0))","v":0}]
[null,null,null,null,null,null,null,null,null,null,null,17498,1.0521316881010057,{"$f":"IF(L17499=\"\",\"\",IF(M17499<Results!D$12,1,0))","v":0}]
[null,null,null,null,null,null,null,null,null,null,null,17527,1.0297108210674766,{"$f":"IF(L17528=\"\",\"\",IF(M17528<Results!D$12,1,0))","v":1}]
[null,null,null,null,null,null,null,null,null,null,null,17539,1.0311421238066052,{"$f":"IF(L17540=\"\",\"\",IF(M17540<Results!D$12,1,0))","v":1}]
[null,null,null,null,null,null,null,null,null,null,null,17564,1.0102748122857685,{"$f":"IF(L17565=\"\",\"\",IF(M17565<Results!D$12,1,0))","v":1}]
[null,null,null,null,null,null,null,null,null,null,null,17597,1.0355869109103315,{"$f":"IF(L17598=\"\",\"\",IF(M17598<Results!D$12,1,0))","v":1}]
[null,null,null,null,null,null,null,null,null,null,null,17607,1.0385262695218467,{"$f":"IF(L17608=\"\",\"\",IF(M17608<Results!D$12,1,0))","v":0}]
[null,null,null,null,null,null,null,null,null,null,null,17630,1.0219466863226645,{"$f":"IF(L17631=\"\",\"\",IF(M17631<Results!D$12,1,0))","v":1}]
[null,null,null,null,null,null,null,null,null,null,null,17663,1.0599905788774975,{"$f":"IF(L17664=\"\",\"\",IF(M17664<Results!D$12,1,0))","v":0}]
[null,null,null,null,null,null,null,null,null,null,null,17688,1.0333728334302203,{"$f":"IF(L17689=\"\",\"\",IF(M17689<Results!D$12,1,0))","v":1}]
[null,null,null,null,null,null,null,null,null,null,null,17699,1.0447818888841318,{"$f":"IF(L17700=\"\",\"\",IF(M17700<Results!D$12,1,0))","v":0}]
[null,null,null,null,null,null,null,null,null,null,null,17729,1.0384855747394952,{"$f":"IF(L17730=\"\",\"\",IF(M17730<Results!D$12,1,0))","v":0}]
[null,null,null,null,null,null,null,null,null,null,null,17754,1.0466961565666417,{"$f":"IF(L17755=\"\",\"\",IF(M17755<Results!D$12,1,0))","v":0}]
[null,null,null,null,null,null,null,null,null,null,null,17787,0.99692728886879156,{"$f":"IF(L17788=\"\",\"\",IF(M17788<Results!D$12,1,0))","v":1}]
[null,null,null,null,null,null,null,null,null,null,null,17814,1.0250996970876971,{"$f":"IF(L17815=\"\",\"\",IF(M17815<Results!D$12,1,0))","v":1}]
[null,null,null,null,null,null,null,null,null,null,null,17820,1.0358818866556398,{"$f":"IF(L17821=\"\",\"\",IF(M17821<Results!D$12,1,0))","v":1}]
[null,null,null,null,null,null,null,null,null,null,null,17853,1.0588812831031567,{"$f":"IF(L17854=\"\",\"\",IF(M17854<Results!D$12,1,0))","v":0}]
[null,null,null,null,null,null,null,null,null,null,null,17878,1.0357078676096207,{"$f":"IF(L17879=\"\",\"\",IF(M17879<Results!D$12,1,0))","v":1}]
[null,null,null,null,null,null,null,null,null,null,null,17894,1.0267902706623133,{"$f":"IF(L17895=\"\",\"\",IF(M17895<Results!D$12,1,0))","v":1}]
[null,null,null,null,null,null,null,null,null,null,null,17919,1.0602477213733845,{"$f":"IF(L17920=\"\",\"\",IF(M17920<Results!D$12,1,0))","v":0}]
[null,null,null,null,null,null,null,null,null,null,null,17944,1.0604922049302619,{"$f":"IF(L17945=\"\",\"\",IF(M17945<Results!D$12,1,0))","v":0}]
[null,null,null,null,null,null,null,null,null,null,null,17977,1.0428471911863906,{"$f":"IF(L17978=\"\",\"\",IF(M17978<Results!D$12,1,0))","v":0}]
[null,null,null,null,null,null,null,null,null,null,null,{"$f":"IF(M17987=\"\",\"\",ROW(L17987)-1)","v":17986},1.0529529958040234,{"$f":"IF(L17987=\"\",\"\",IF(M17987<Results!D$12,1,0))","v":0}]
[null,null,null,null,null,null,null,null,null,null,null,18010,1.0238573462118616,{"$f":"IF(L18011=\"\",\"\",IF(M18011<Results!D$12,1,0))","v":1}]
[null,null,null,null,null,null,null,null,null,null,null,18043,1.0314693224177331,{"$f":"IF(L18044=\"\",\"\",IF(M18044<Results!D$12,1,0))","v":1}]
[null,null,null,null,null,null,null,null,null,null,null,18068,1.0411257629793684,{"$f":"IF(L18069=\"\",\"\",IF(M18069<Results!D$12,1,0))","v":0}]
[null,null,null,null,null,null,null,null,null,null,null,18089,1.0245442580605235,{"$f":"IF(L18090=\"\",\"\",IF(M18090<Results!D$12,1,0))","v":1}]
[null,null,null,null,null,null,null,null,null,null,null,18109,1.0433958828520788,{"$f":"IF(L18110=\"\",\"\",IF(M18110<Results!D$12,1,0))","v":0}]
[null,null,null,null,null,null,null,null,null,null,null,18134,1.0535479485924162,{"$f":"IF(L18135=\"\",\"\",IF(M18135<Results!D$12,1,0))","v":0}]
[null,null,null,null,null,null,null,null,null,null,null,18167,1.0461738113560477,{"$f":"IF(L18168=\"\",\"\",IF(M18168<Results!D$12,1,0))","v":0}]
[null,null,null,null,null,null,null,null,null,null,null,18181,1.0574580084336713,{"$f":"IF(L18182=\"\",\"\",IF(M18182<Results!D$12,1,0))","v":0}]
[null,null,null,null,null,null,null,null,null,null,null,18200,1.0458535787014414,{"$f":"IF(L18201=\"\",\"\",IF(M18201<Results!D$12,1,0))","v":0}]
[null,null,null,null,null,null,null,null,null,null,null,18233,1.035071311690021,{"$f":"IF(L18234=\"\",\"\",IF(M18234<Results!D$12,1,0))","v":1}]
[null,null,null,null,null,null,null,null,null,null,null,18258,1.0444635491527128,{"$f":"IF(L18259=\"\",\"\",IF(M18259<Results!D$12,1,0))","v":0}]
[null,null,null,null,null,null,null,null,null,null,null,18284,1.047947396988218,{"$f":"IF(L18285=\"\",\"\",IF(M18285<Results!D$12,1,0))","v":0}]
[null,null,null,null,null,null,null,null,null,null,null,18315,1.0397035674675426,{"$f":"IF(L18316=\"\",\"\",IF(M18316<Results!D$12,1,0))","v":0}]
[null,null,null,null,null,null,null,null,null,null,null,18324,1.01673648631216,{"$f":"IF(L18325=\"\",\"\",IF(M18325<Results!D$12,1,0))","v":1}]
[null,null,null,null,null,null,null,null,null,null,null,18357,1.0349065932792418,{"$f":"IF(L18358=\"\",\"\",IF(M18358<Results!D$12,1,0))","v":1}]
[null,null,null,null,null,null,null,null,null,null,null,18376,1.0320842043878091,{"$f":"IF(L18377=\"\",\"\",IF(M18377<Results!D$12,1,0))","v":1}]
[null,null,null,null,null,null,null,null,null,null,null,18390,1.0480330113374774,{"$f":"IF(L18391=\"\",\"\",IF(M18391<Results!D$12,1,0))","v":0}]
[null,null,null,null,null,null,null,null,null,null,null,18423,1.019182607464215,{"$f":"IF(L18424=\"\",\"\",IF(M18424<Results!D$12,1,0))","v":1}]
[null,null,null,null,null,null,null,null,null,null,null,18448,1.026714420737191,{"$f":"IF(L18449=\"\",\"\",IF(M18449<Results!D$12,1,0))","v":1}]
[null,null,null,null,null,null,null,null,null,null,null,18479,1.0448168613308426,{"$f":"IF(L18480=\"\",\"\",IF(M18480<Results!D$12,1,0))","v":0}]
[null,null,null,null,null,null,null,null,null,null,null,18505,1.0260535662250678,{"$f":"IF(L18506=\"\",\"\",IF(M18506<Results!D$12,1,0))","v":1}]
[null,null,null,null,null,null,null,null,null,null,null,18514,1.0312492222265033,{"$f":"IF(L18515=\"\",\"\",IF(M18515<Results!D$12,1,0))","v":1}]
[null,null,null,null,null,null,null,null,null,null,null,18547,1.0361368776144686,{"$f":"IF(L18548=\"\",\"\",IF(M18548<Results!D$12,1,0))","v":1}]
[null,null,null,null,null,null,null,null,null,null,null,18571,1.0436776184997547,{"$f":"IF(L18572=\"\",\"\",IF(M18572<Results!D$12,1,0))","v":0}]
[null,null,null,null,null,null,null,null,null,null,null,18580,1.0278532949761947,{"$f":"IF(L18581=\"\",\"\",IF(M18581<Results!D$12,1,0))","v":1}]
[null,null,null,null,null,null,null,null,null,null,null,18613,1.0335375546564627,{"$f":"IF(L18614=\"\",\"\",IF(M18614<Results!D$12,1,0))","v":1}]
[null,null,null,null,null,null,null,null,null,null,null,18638,1.0202219527903829,{"$f":"IF(L18639=\"\",\"\",IF(M18639<Results!D$12,1,0))","v":1}]
[null,null,null,null,null,null,null,null,null,null,null,18651,1.0505670998326775,{"$f":"IF(L18652=\"\",\"\",IF(M18652<Results!D$12,1,0))","v":0}]
[null,null,null,null,null,null,null,null,null,null,null,18695,1.0321918499392795,{"$f":"IF(L18696=\"\",\"\",IF(M18696<Results!D$12,1,0))","v":1}]
[null,null,null,null,null,null,null,null,null,null,null,18704,1.0436326274428604,{"$f":"IF(L18705=\"\",\"\",IF(M18705<Results!D$12,1,0))","v":0}]
[null,null,null,null,null,null,null,null,null,null,null,18737,1.0444288613964141,{"$f":"IF(L18738=\"\",\"\",IF(M18738<Results!D$12,1,0))","v":0}]
[null,null,null,null,null,null,null,null,null,null,null,18766,1.0360494458217766,{"$f":"IF(L18767=\"\",\"\",IF(M18767<Results!D$12,1,0))","v":1}]
[null,null,null,null,null,null,null,null,null,null,null,18770,1.0386122867606493,{"$f":"IF(L18771=\"\",\"\",IF(M18771<Results!D$12,1,0))","v":0}]
[null,null,null,null,null,null,null,null,null,null,null,18795,1.0318890282725905,{"$f":"IF(L18796=\"\",\"\",IF(M18796<Results!D$12,1,0))","v":1}]
[null,null,null,null,null,null,null,null,null,null,null,18828,1.0409316087355078,{"$f":"IF(L18829=\"\",\"\",IF(M18829<Results!D$12,1,0))","v":0}]
[null,null,null,null,null,null,null,null,null,null,null,18846,1.0116905187242282,{"$f":"IF(L18847=\"\",\"\",IF(M18847<Results!D$12,1,0))","v":1}]
[null,null,null,null,null,null,null,null,null,null,null,18885,1.0534575538343283,{"$f":"IF(L18886=\"\",\"\",IF(M18886<Results!D$12,1,0))","v":0}]
[null,null,null,null,null,null,null,null,null,null,null,18894,1.0351891581502073,{"$f":"IF(L18895=\"\",\"\",IF(M18895<Results!D$12,1,0))","v":1}]
[null,null,null,null,null,null,null,null,null,null,null,18927,1.0387164091991996,{"$f":"IF(L18928=\"\",\"\",IF(M18928<Results!D$12,1,0))","v":0}]
[null,null,null,null,null,null,null,null,null,null,null,18938,1.0459033598240879,{"$f":"IF(L18939=\"\",\"\",IF(M18939<Results!D$12,1,0))","v":0}]
[null,null,null,null,null,null,null,null,null,null,null,18960,1.0204861638594893,{"$f":"IF(L18961=\"\",\"\",IF(M18961<Results!D$12,1,0))","v":1}]
[null,null,null,null,null,null,null,null,null,null,null,18985,1.0189486319471901,{"$f":"IF(L18986=\"\",\"\",IF(M18986<Results!D$12,1,0))","v":1}]
[null,null,null,null,null,null,null,null,null,null,null,19018,1.0591361871166616,{"$f":"IF(L19019=\"\",\"\",IF(M19019<Results!D$12,1,0))","v":0}]
[null,null,null,null,null,null,null,null,null,null,null,19041,1.0388674817972621,{"$f":"IF(L19042=\"\",\"\",IF(M19042<Results!D$12,1,0))","v":0}]
[null,null,null,null,null,null,null,null,null,null,null,19075,1.0436866852141307,{"$f":"IF(L19076=\"\",\"\",IF(M19076<Results!D$12,1,0))","v":0}]
[null,null,null,null,null,null,null,null,null,null,null,19084,1.0224487102426862,{"$f":"IF(L19085=\"\",\"\",IF(M19085<Results!D$12,1,0))","v":1}]
[null,null,null,null,null,null,null,null,null,null,null,19109,1.0265271757242287,{"$f":"IF(L19110=\"\",\"\",IF(M19110<Results!D$12,1,0))","v":1}]
[null,null,null,null,null,null,null,null,null,null,null,19133,1.0649707925086183,{"$f":"IF(L19134=\"\",\"\",IF(M19134<Results!D$12,1,0))","v":0}]
[null,null,null,null,null,null,null,null,null,null,null,19150,1.0199617083623425,{"$f":"IF(L19151=\"\",\"\",IF(M19151<Results!D$12,1,0))","v":1}]
[null,null,null,null,null,null,null,null,null,null,null,19175,1.0141911939072101,{"$f":"IF(L19176=\"\",\"\",IF(M19176<Results!D$12,1,0))","v":1}]
[null,null,null,null,null,null,null,null,null,null,null,19208,1.03749505178076,{"$f":"IF(L19209=\"\",\"\",IF(M19209<Results!D$12,1,0))","v":0}]
[null,null,null,null,null,null,null,null,null,null,null,19236,1.062706037481248,{"$f":"IF(L19237=\"\",\"\",IF(M19237<Results!D$12,1,0))","v":0}]
[null,null,null,null,null,null,null,null,null,null,null,19265,1.0257992028198222,{"$f":"IF(L19266=\"\",\"\",IF(M19266<Results!D$12,1,0))","v":1}]
[null,null,null,null,null,null,null,null,null,null,null,19274,1.0362085720987901,{"$f":"IF(L19275=\"\",\"\",IF(M19275<Results!D$12,1,0))","v":1}]
[null,null,null,null,null,null,null,null,null,null,null,19299,1.0314657572600658,{"$f":"IF(L19300=\"\",\"\",IF(M19300<Results!D$12,1,0))","v":1}]
[null,null,null,null,null,null,null,null,null,null,null,19328,1.0506225869077372,{"$f":"IF(L19329=\"\",\"\",IF(M19329<Results!D$12,1,0))","v":0}]
[null,null,null,null,null,null,null,null,null,null,null,19340,1.0471415286022365,{"$f":"IF(L19341=\"\",\"\",IF(M19341<Results!D$12,1,0))","v":0}]
[null,null,null,null,null,null,null,null,null,null,null,19365,1.0426937699288694,{"$f":"IF(L19366=\"\",\"\",IF(M19366<Results!D$12,1,0))","v":0}]
[null,null,null,null,null,null,null,null,null,null,null,19398,1.041583637501192,{"$f":"IF(L19399=\"\",\"\",IF(M19399<Results!D$12,1,0))","v":0}]
[null,null,null,null,null,null,null,null,null,null,null,19431,1.0407668399321404,{"$f":"IF(L19432=\"\",\"\",IF(M19432<Results!D$12,1,0))","v":0}]
[null,null,null,null,null,null,null,null,null,null,null,19455,1.0341100861792851,{"$f":"IF(L19456=\"\",\"\",IF(M19456<Results!D$12,1,0))","v":1}]
[null,null,null,null,null,null,null,null,null,null,null,19464,1.027547036651115,{"$f":"IF(L19465=\"\",\"\",IF(M19465<Results!D$12,1,0))","v":1}]
[null,null,null,null,null,null,null,null,null,null,null,19489,1.0547460363863226,{"$f":"IF(L19490=\"\",\"\",IF(M19490<Results!D$12,1,0))","v":0}]
[null,null,null,null,null,null,null,null,null,null,null,19523,1.049492909728617,{"$f":"IF(L19524=\"\",\"\",IF(M19524<Results!D$12,1,0))","v":0}]
[null,null,null,null,null,null,null,null,null,null,null,19530,1.0561811133651464,{"$f":"IF(L19531=\"\",\"\",IF(M19531<Results!D$12,1,0))","v":0}]
[null,null,null,null,null,null,null,null,null,null,null,19555,1.01890784198296,{"$f":"IF(L19556=\"\",\"\",IF(M19556<Results!D$12,1,0))","v":1}]
[null,null,null,null,null,null,null,null,null,null,null,19588,1.043753032067251,{"$f":"IF(L19589=\"\",\"\",IF(M19589<Results!D$12,1,0))","v":0}]
[null,null,null,null,null,null,null,null,null,null,null,19615,1.0318474727948093,{"$f":"IF(L19616=\"\",\"\",IF(M19616<Results!D$12,1,0))","v":1}]
[null,null,null,null,null,null,null,null,null,null,null,19645,1.0421619231007559,{"$f":"IF(L19646=\"\",\"\",IF(M19646<Results!D$12,1,0))","v":0}]
[null,null,null,null,null,null,null,null,null,null,null,19654,1.0455116049287037,{"$f":"IF(L19655=\"\",\"\",IF(M19655<Results!D$12,1,0))","v":0}]
[null,null,null,null,null,null,null,null,null,null,null,19679,1.0101701276760535,{"$f":"IF(L19680=\"\",\"\",IF(M19680<Results!D$12,1,0))","v":1}]
[null,null,null,null,null,null,null,null,null,null,null,19695,1.0434922649514353,{"$f":"IF(L19696=\"\",\"\",IF(M19696<Results!D$12,1,0))","v":0}]
[null,null,null,null,null,null,null,null,null,null,null,19720,1.0217226822396204,{"$f":"IF(L19721=\"\",\"\",IF(M19721<Results!D$12,1,0))","v":1}]
[null,null,null,null,null,null,null,null,null,null,null,19745,1.0726048789852198,{"$f":"IF(L19746=\"\",\"\",IF(M19746<Results!D$12,1,0))","v":0}]
[null,null,null,null,null,null,null,null,null,null,null,{"$f":"IF(M19779=\"\",\"\",ROW(L19779)-1)","v":19778},1.069748201435343,{"$f":"IF(L19779=\"\",\"\",IF(M19779<Results!D$12,1,0))","v":0}]
[null,null,null,null,null,null,null,null,null,null,null,19810,1.0573934024646123,{"$f":"IF(L19811=\"\",\"\",IF(M19811<Results!D$12,1,0))","v":0}]
[null,null,null,null,null,null,null,null,null,null,null,19835,1.047151653894618,{"$f":"IF(L19836=\"\",\"\",IF(M19836<Results!D$12,1,0))","v":0}]
[null,null,null,null,null,null,null,null,null,null,null,19844,1.0185840906201253,{"$f":"IF(L19845=\"\",\"\",IF(M19845<Results!D$12,1,0))","v":1}]
[null,null,null,null,null,null,null,null,null,null,null,19869,1.0570548666023936,{"$f":"IF(L19870=\"\",\"\",IF(M19870<Results!D$12,1,0))","v":0}]
[null,null,null,null,null,null,null,null,null,null,null,19890,1.0417708420853207,{"$f":"IF(L19891=\"\",\"\",IF(M19891<Results!D$12,1,0))","v":0}]
[null,null,null,null,null,null,null,null,null,null,null,19926,1.0356193042343425,{"$f":"IF(L19927=\"\",\"\",IF(M19927<Results!D$12,1,0))","v":1}]
[null,null,null,null,null,null,null,null,null,null,null,19935,1.0342571001215151,{"$f":"IF(L19936=\"\",\"\",IF(M19936<Results!D$12,1,0))","v":1}]
[null,null,null,null,null,null,null,null,null,null,null,19968,1.0391301526722652,{"$f":"IF(L19969=\"\",\"\",IF(M19969<Results!D$12,1,0))","v":0}]
[null,null,null,null,null,null,null,null,null,null,null,19982,1.0235507498388601,{"$f":"IF(L19983=\"\",\"\",IF(M19983<Results!D$12,1,0))","v":1}]
[null,null,null,null,null,null,null,null,null,null,null,"",null,{"$f":"IF(L20026=\"\",\"\",IF(M20026<Results!D$12,1,0))","v":""}]
[null,null,null,null,null,null,null,null,null,null,null,{"$f":"IF(M20035=\"\",\"\",ROW(L20035)-1)","v":""},null,{"$f":"IF(L20035=\"\",\"\",IF(M20035<Results!D$12,1,0))","v":""}]
[null,null,null,null,null,null,null,null,null,null,null,"",null,{"$f":"IF(L20060=\"\",\"\",IF(M20060<Results!D$12,1,0))","v":""}]
[null,null,null,null,null,null,null,null,null,null,null,"",null,{"$f":"IF(L20086=\"\",\"\",IF(M20086<Results!D$12,1,0))","v":""}]
[null,null,null,null,null,null,null,null,null,null,null,"",null,{"$f":"IF(L20117=\"\",\"\",IF(M20117<Results!D$12,1,0))","v":""}]
[null,null,null,null,null,null,null,null,null,null,null,"",null,{"$f":"IF(L20126=\"\",\"\",IF(M20126<Results!D$12,1,0))","v":""}]
[null,null,null,null,null,null,null,null,null,null,null,"",null,{"$f":"IF(L20159=\"\",\"\",IF(M20159<Results!D$12,1,0))","v":""}]
[null,null,null,null,null,null,null,null,null,null,null,"",null,{"$f":"IF(L20178=\"\",\"\",IF(M20178<Results!D$12,1,0))","v":""}]
[null,null,null,null,null,null,null,null,null,null,null,"",null,{"$f":"IF(L20216=\"\",\"\",IF(M20216<Results!D$12,1,0))","v":""}]
[null,null,null,null,null,null,null,null,null,null,null,"",null,{"$f":"IF(L20225=\"\",\"\",IF(M20225<Results!D$12,1,0))","v":""}]
[null,null,null,null,null,null,null,null,null,null,null,"",null,{"$f":"IF(L20250=\"\",\"\",IF(M20250<Results!D$12,1,0))","v":""}]
[null,null,null,null,null,null,null,null,null,null,null,"",null,{"$f":"IF(L20281=\"\",\"\",IF(M20281<Results!D$12,1,0))","v":""}]
[null,null,null,null,null,null,null,null,null,null,null,"",null,{"$f":"IF(L20307=\"\",\"\",IF(M20307<Results!D$12,1,0))","v":""}]
[null,null,null,null,null,null,null,null,null,null,null,"",null,{"$f":"IF(L20316=\"\",\"\",IF(M20316<Results!D$12,1,0))","v":""}]
[null,null,null,null,null,null,null,null,null,null,null,"",null,{"$f":"IF(L20349=\"\",\"\",IF(M20349<Results!D$12,1,0))","v":""}]
[null,null,null,null,null,null,null,null,null,null,null,"",null,{"$f":"IF(L20373=\"\",\"\",IF(M20373<Results!D$12,1,0))","v":""}]
[null,null,null,null,null,null,null,null,null,null,null,"",null,{"$f":"IF(L20406=\"\",\"\",IF(M20406<Results!D$12,1,0))","v":""}]
[null,null,null,null,null,null,null,null,null,null,null,"",null,{"$f":"IF(L20407=\"\",\"\",IF(M20407<Results!D$12,1,0))","v":""}]
[null,null,null,null,null,null,null,null,null,null,null,"",null,{"$f":"IF(L20440=\"\",\"\",IF(M20440<Results!D$12,1,0))","v":""}]
[null,null,null,null,null,null,null,null,null,null,null,"",null,{"$f":"IF(L20476=\"\",\"\",IF(M20476<Results!D$12,1,0))","v":""}]
[null,null,null,null,null,null,null,null,null,null,null,"",null,{"$f":"IF(L20497=\"\",\"\",IF(M20497<Results!D$12,1,0))","v":""}]
[null,null,null,null,null,null,null,null,null,null,null,"",null,{"$f":"IF(L20506=\"\",\"\",IF(M20506<Results!D$12,1,0))","v":""}]
[null,null,null,null,null,null,null,null,null,null,null,"",null,{"$f":"IF(L20539=\"\",\"\",IF(M20539<Results!D$12,1,0))","v":""}]
[null,null,null,null,null,null,null,null,null,null,null,"",null,{"$f":"IF(L20568=\"\",\"\",IF(M20568<Results!D$12,1,0))","v":""}]
[null,null,null,null,null,null,null,null,null,null,null,"",null,{"$f":"IF(L20596=\"\",\"\",IF(M20596<Results!D$12,1,0))","v":""}]
[null,null,null,null,null,null,null,null,null,null,null,"",null,{"$f":"IF(L20597=\"\",\"\",IF(M20597<Results!D$12,1,0))","v":""}]
[null,null,null,null,null,null,null,null,null,null,null,"",null,{"$f":"IF(L20630=\"\",\"\",IF(M20630<Results!D$12,1,0))","v":""}]
[null,null,null,null,null,null,null,null,null,null,null,"",null,{"$f":"IF(L20648=\"\",\"\",IF(M20648<Results!D$12,1,0))","v":""}]
[null,null,null,null,null,null,null,null,null,null,null,"",null,{"$f":"IF(L20687=\"\",\"\",IF(M20687<Results!D$12,1,0))","v":""}]
[null,null,null,null,null,null,null,null,null,null,null,"",null,{"$f":"IF(L20696=\"\",\"\",IF(M20696<Results!D$12,1,0))","v":""}]
[null,null,null,null,null,null,null,null,null,null,null,"",null,{"$f":"IF(L20729=\"\",\"\",IF(M20729<Results!D$12,1,0))","v":""}]
[null,null,null,null,null,null,null,null,null,null,null,"",null,{"$f":"IF(L20740=\"\",\"\",IF(M20740<Results!D$12,1,0))","v":""}]
[null,null,null,null,null,null,null,null,null,null,null,"",null,{"$f":"IF(L20786=\"\",\"\",IF(M20786<Results!D$12,1,0))","v":""}]
[null,null,null,null,null,null,null,null,null,null,null,"",null,{"$f":"IF(L20787=\"\",\"\",IF(M20787<Results!D$12,1,0))","v":""}]
[null,null,null,null,null,null,null,null,null,null,null,"",null,{"$f":"IF(L20820=\"\",\"\",IF(M20820<Results!D$12,1,0))","v":""}]
[null,null,null,null,null,null,null,null,null,null,null,"",null,{"$f":"IF(L20843=\"\",\"\",IF(M20843<Results!D$12,1,0))","v":""}]
[null,null,null,null,null,null,null,null,null,null,null,"",null,{"$f":"IF(L20877=\"\",\"\",IF(M20877<Results!D$12,1,0))","v":""}]
[null,null,null,null,null,null,null,null,null,null,null,"",null,{"$f":"IF(L20886=\"\",\"\",IF(M20886<Results!D$12,1,0))","v":""}]
[null,null,null,null,null,null,null,null,null,null,null,"",null,{"$f":"IF(L20911=\"\",\"\",IF(M20911<Results!D$12,1,0))","v":""}]
[null,null,null,null,null,null,null,null,null,null,null,"",null,{"$f":"IF(L20935=\"\",\"\",IF(M20935<Results!D$12,1,0))","v":""}]
[null,null,null,null,null,null,null,null,null,null,null,"",null,{"$f":"IF(L20976=\"\",\"\",IF(M20976<Results!D$12,1,0))","v":""}]
[null,null,null,null,null,null,null,null,null,null,null,"",null,{"$f":"IF(L20977=\"\",\"\",IF(M20977<Results!D$12,1,0))","v":""}]
[null,null,null,null,null,null,null,null,null,null,null,"",null,{"$f":"IF(L21010=\"\",\"\",IF(M21010<Results!D$12,1,0))","v":""}]
[null,null,null,null,null,null,null,null,null,null,null,"",null,{"$f":"IF(L21038=\"\",\"\",IF(M21038<Results!D$12,1,0))","v":""}]
[null,null,null,null,null,null,null,null,null,null,null,"",null,{"$f":"IF(L21067=\"\",\"\",IF(M21067<Results!D$12,1,0))","v":""}]
[null,null,null,null,null,null,null,null,null,null,null,"",null,{"$f":"IF(L21076=\"\",\"\",IF(M21076<Results!D$12,1,0))","v":""}]
[null,null,null,null,null,null,null,null,null,null,null,"",null,{"$f":"IF(L21101=\"\",\"\",IF(M21101<Results!D$12,1,0))","v":""}]
[null,null,null,null,null,null,null,null,null,null,null,"",null,{"$f":"IF(L21130=\"\",\"\",IF(M21130<Results!D$12,1,0))","v":""}]
[null,null,null,null,null,null,null,null,null,null,null,"",null,{"$f":"IF(L21166=\"\",\"\",IF(M21166<Results!D$12,1,0))","v":""}]
[null,null,null,null,null,null,null,null,null,null,null,"",null,{"$f":"IF(L21167=\"\",\"\",IF(M21167<Results!D$12,1,0))","v":""}]
[null,null,null,null,null,null,null,null,null,null,null,"",null,{"$f":"IF(L21200=\"\",\"\",IF(M21200<Results!D$12,1,0))","v":""}]
[null,null,null,null,null,null,null,null,null,null,null,"",null,{"$f":"IF(L21222=\"\",\"\",IF(M21222<Results!D$12,1,0))","v":""}]
[null,null,null,null,null,null,null,null,null,null,null,"",null,{"$f":"IF(L21257=\"\",\"\",IF(M21257<Results!D$12,1,0))","v":""}]
[null,null,null,null,null,null,null,null,null,null,null,"",null,{"$f":"IF(L21266=\"\",\"\",IF(M21266<Results!D$12,1,0))","v":""}]
[null,null,null,null,null,null,null,null,null,null,null,"",null,{"$f":"IF(L21291=\"\",\"\",IF(M21291<Results!D$12,1,0))","v":""}]
[null,null,null,null,null,null,null,null,null,null,null,"",null,{"$f":"IF(L21325=\"\",\"\",IF(M21325<Results!D$12,1,0))","v":""}]
[null,null,null,null,null,null,null,null,null,null,null,"",null,{"$f":"IF(L21356=\"\",\"\",IF(M21356<Results!D$12,1,0))","v":""}]
[null,null,null,null,null,null,null,null,null,null,null,"",null,{"$f":"IF(L21357=\"\",\"\",IF(M21357<Results!D$12,1,0))","v":""}]
[null,null,null,null,null,null,null,null,null,null,null,"",null,{"$f":"IF(L21390=\"\",\"\",IF(M21390<Results!D$12,1,0))","v":""}]
[null,null,null,null,null,null,null,null,null,null,null,"",null,{"$f":"IF(L21417=\"\",\"\",IF(M21417<Results!D$12,1,0))","v":""}]
[null,null,null,null,null,null,null,null,null,null,null,"",null,{"$f":"IF(L21447=\"\",\"\",IF(M21447<Results!D$12,1,0))","v":""}]
[null,null,null,null,null,null,null,null,null,null,null,"",null,{"$f":"IF(L21456=\"\",\"\",IF(M21456<Results!D$12,1,0))","v":""}]
[null,null,null,null,null,null,null,null,null,null,null,"",null,{"$f":"IF(L21481=\"\",\"\",IF(M21481<Results!D$12,1,0))","v":""}]
[null,null,null,null,null,null,null,null,null,null,null,"",null,{"$f":"IF(L21520=\"\",\"\",IF(M21520<Results!D$12,1,0))","v":""}]
[null,null,null,null,null,null,null,null,null,null,null,"",null,{"$f":"IF(L21546=\"\",\"\",IF(M21546<Results!D$12,1,0))","v":""}]
[null,null,null,null,null,null,null,null,null,null,null,"",null,{"$f":"IF(L21547=\"\",\"\",IF(M21547<Results!D$12,1,0))","v":""}]
[null,null,null,null,null,null,null,null,null,null,null,"",null,{"$f":"IF(L21580=\"\",\"\",IF(M21580<Results!D$12,1,0))","v":""}]
[null,null,null,null,null,null,null,null,null,null,null,"",null,{"$f":"IF(L21612=\"\",\"\",IF(M21612<Results!D$12,1,0))","v":""}]
[null,null,null,null,null,null,null,null,null,null,null,"",null,{"$f":"IF(L21637=\"\",\"\",IF(M21637<Results!D$12,1,0))","v":""}]
[null,null,null,null,null,null,null,null,null,null,null,"",null,{"$f":"IF(L21646=\"\",\"\",IF(M21646<Results!D$12,1,0))","v":""}]
[null,null,null,null,null,null,null,null,null,null,null,"",null,{"$f":"IF(L21671=\"\",\"\",IF(M21671<Results!D$12,1,0))","v":""}]
[null,null,null,null,null,null,null,null,null,null,null,"",null,{"$f":"IF(L21692=\"\",\"\",IF(M21692<Results!D$12,1,0))","v":""}]
[null,null,null,null,null,null,null,null,null,null,null,"",null,{"$f":"IF(L21728=\"\",\"\",IF(M21728<Results!D$12,1,0))","v":""}]
[null,null,null,null,null,null,null,null,null,null,null,"",null,{"$f":"IF(L21737=\"\",\"\",IF(M21737<Results!D$12,1,0))","v":""}]
[null,null,null,null,null,null,null,null,null,null,null,"",null,{"$f":"IF(L21770=\"\",\"\",IF(M21770<Results!D$12,1,0))","v":""}]
[null,null,null,null,null,null,null,null,null,null,null,"",null,{"$f":"IF(L21807=\"\",\"\",IF(M21807<Results!D$12,1,0))","v":""}]
[null,null,null,null,null,null,null,null,null,null,null,{"$f":"IF(M21827=\"\",\"\",ROW(L21827)-1)","v":""},null,{"$f":"IF(L21827=\"\",\"\",IF(M21827<Results!D$12,1,0))","v":""}]
[null,null,null,null,null,null,null,null,null,null,null,"",null,{"$f":"IF(L21836=\"\",\"\",IF(M21836<Results!D$12,1,0))","v":""}]
[null,null,null,null,null,null,null,null,null,null,null,"",null,{"$f":"IF(L21861=\"\",\"\",IF(M21861<Results!D$12,1,0))","v":""}]
[null,null,null,null,null,null,null,null,null,null,null,"",null,{"$f":"IF(L21887=\"\",\"\",IF(M21887<Results!D$12,1,0))","v":""}]
[null,null,null,null,null,null,null,null,null,null,null,"",null,{"$f":"IF(L21918=\"\",\"\",IF(M21918<Results!D$12,1,0))","v":""}]
[null,null,null,null,null,null,null,null,null,null,null,"",null,{"$f":"IF(L21927=\"\",\"\",IF(M21927<Results!D$12,1,0))","v":""}]
[null,null,null,null,null,null,null,null,null,null,null,"",null,{"$f":"IF(L21960=\"\",\"\",IF(M21960<Results!D$12,1,0))","v":""}]
[null,null,null,null,null,null,null,null,null,null,null,"",null,{"$f":"IF(L21979=\"\",\"\",IF(M21979<Results!D$12,1,0))","v":""}]
[null,null,null,null,null,null,null,null,null,null,null,"",null,{"$f":"IF(L22017=\"\",\"\",IF(M22017<Results!D$12,1,0))","v":""}]
[null,null,null,null,null,null,null,null,null,null,null,"",null,{"$f":"IF(L22026=\"\",\"\",IF(M22026<Results!D$12,1,0))","v":""}]
[null,null,null,null,null,null,null,null,null,null,null,"",null,{"$f":"IF(L22051=\"\",\"\",IF(M22051<Results!D$12,1,0))","v":""}]
[null,null,null,null,null,null,null,null,null,null,null,"",null,{"$f":"IF(L22082=\"\",\"\",IF(M22082<Results!D$12,1,0))","v":""}]
[null,null,null,null,null,null,null,null,null,null,null,"",null,{"$f":"IF(L22108=\"\",\"\",IF(M22108<Results!D$12,1,0))","v":""}]
[null,null,null,null,null,null,null,null,null,null,null,"",null,{"$f":"IF(L22117=\"\",\"\",IF(M22117<Results!D$12,1,0))","v":""}]
[null,null,null,null,null,null,null,null,null,null,null,"",null,{"$f":"IF(L22150=\"\",\"\",IF(M22150<Results!D$12,1,0))","v":""}]
[null,null,null,null,null,null,null,null,null,null,null,"",null,{"$f":"IF(L22174=\"\",\"\",IF(M22174<Results!D$12,1,0))","v":""}]
[null,null,null,null,null,null,null,null,null,null,null,"",null,{"$f":"IF(L22207=\"\",\"\",IF(M22207<Results!D$12,1,0))","v":""}]
[null,null,null,null,null,null,null,null,null,null,null,"",null,{"$f":"IF(L22232=\"\",\"\",IF(M22232<Results!D$12,1,0))","v":""}]
[null,null,null,null,null,null,null,null,null,null,null,"",null,{"$f":"IF(L22241=\"\",\"\",IF(M22241<Results!D$12,1,0))","v":""}]
[null,null,null,null,null,null,null,null,null,null,null,"",null,{"$f":"IF(L22277=\"\",\"\",IF(M22277<Results!D$12,1,0))","v":""}]
[null,null,null,null,null,null,null,null,null,null,null,"",null,{"$f":"IF(L22298=\"\",\"\",IF(M22298<Results!D$12,1,0))","v":""}]
[null,null,null,null,null,null,null,null,null,null,null,"",null,{"$f":"IF(L22307=\"\",\"\",IF(M22307<Results!D$12,1,0))","v":""}]
[null,null,null,null,null,null,null,null,null,null,null,"",null,{"$f":"IF(L22340=\"\",\"\",IF(M22340<Results!D$12,1,0))","v":""}]
[null,null,null,null,null,null,null,null,null,null,null,"",null,{"$f":"IF(L22369=\"\",\"\",IF(M22369<Results!D$12,1,0))","v":""}]
[null,null,null,null,null,null,null,null,null,null,null,"",null,{"$f":"IF(L22397=\"\",\"\",IF(M22397<Results!D$12,1,0))","v":""}]
[null,null,null,null,null,null,null,null,null,null,null,"",null,{"$f":"IF(L22422=\"\",\"\",IF(M22422<Results!D$12,1,0))","v":""}]
[null,null,null,null,null,null,null,null,null,null,null,"",null,{"$f":"IF(L22431=\"\",\"\",IF(M22431<Results!D$12,1,0))","v":""}]
[null,null,null,null,null,null,null,null,null,null,null,"",null,{"$f":"IF(L22472=\"\",\"\",IF(M22472<Results!D$12,1,0))","v":""}]
[null,null,null,null,null,null,null,null,null,null,null,"",null,{"$f":"IF(L22488=\"\",\"\",IF(M22488<Results!D$12,1,0))","v":""}]
[null,null,null,null,null,null,null,null,null,null,null,"",null,{"$f":"IF(L22497=\"\",\"\",IF(M22497<Results!D$12,1,0))","v":""}]
[null,null,null,null,null,null,null,null,null,null,null,"",null,{"$f":"IF(L22522=\"\",\"\",IF(M22522<Results!D$12,1,0))","v":""}]
[null,null,null,null,null,null,null,null,null,null,null,"",null,{"$f":"IF(L22564=\"\",\"\",IF(M22564<Results!D$12,1,0))","v":""}]
[null,null,null,null,null,null,null,null,null,null,null,"",null,{"$f":"IF(L22587=\"\",\"\",IF(M22587<Results!D$12,1,0))","v":""}]
[null,null,null,null,null,null,null,null,null,null,null,"",null,{"$f":"IF(L22612=\"\",\"\",IF(M22612<Results!D$12,1,0))","v":""}]
[null,null,null,null,null,null,null,null,null,null,null,"",null,{"$f":"IF(L22621=\"\",\"\",IF(M22621<Results!D$12,1,0))","v":""}]
[null,null,null,null,null,null,null,null,null,null,null,"",null,{"$f":"IF(L22644=\"\",\"\",IF(M22644<Results!D$12,1,0))","v":""}]
[null,null,null,null,null,null,null,null,null,null,null,"",null,{"$f":"IF(L22678=\"\",\"\",IF(M22678<Results!D$12,1,0))","v":""}]
[null,null,null,null,null,null,null,null,null,null,null,"",null,{"$f":"IF(L22687=\"\",\"\",IF(M22687<Results!D$12,1,0))","v":""}]
[null,null,null,null,null,null,null,null,null,null,null,"",null,{"$f":"IF(L22712=\"\",\"\",IF(M22712<Results!D$12,1,0))","v":""}]
[null,null,null,null,null,null,null,null,null,null,null,"",null,{"$f":"IF(L22736=\"\",\"\",IF(M22736<Results!D$12,1,0))","v":""}]
[null,null,null,null,null,null,null,null,null,null,null,"",null,{"$f":"IF(L22777=\"\",\"\",IF(M22777<Results!D$12,1,0))","v":""}]
[null,null,null,null,null,null,null,null,null,null,null,"",null,{"$f":"IF(L22802=\"\",\"\",IF(M22802<Results!D$12,1,0))","v":""}]
[null,null,null,null,null,null,null,null,null,null,null,"",null,{"$f":"IF(L22811=\"\",\"\",IF(M22811<Results!D$12,1,0))","v":""}]
[null,null,null,null,null,null,null,null,null,null,null,"",null,{"$f":"IF(L22839=\"\",\"\",IF(M22839<Results!D$12,1,0))","v":""}]
[null,null,null,null,null,null,null,null,null,null,null,"",null,{"$f":"IF(L22868=\"\",\"\",IF(M22868<Results!D$12,1,0))","v":""}]
[null,null,null,null,null,null,null,null,null,null,null,"",null,{"$f":"IF(L22877=\"\",\"\",IF(M22877<Results!D$12,1,0))","v":""}]
[null,null,null,null,null,null,null,null,null,null,null,"",null,{"$f":"IF(L22902=\"\",\"\",IF(M22902<Results!D$12,1,0))","v":""}]
[null,null,null,null,null,null,null,null,null,null,null,"",null,{"$f":"IF(L22931=\"\",\"\",IF(M22931<Results!D$12,1,0))","v":""}]
[null,null,null,null,null,null,null,null,null,null,null,"",null,{"$f":"IF(L22967=\"\",\"\",IF(M22967<Results!D$12,1,0))","v":""}]
[null,null,null,null,null,null,null,null,null,null,null,"",null,{"$f":"IF(L22992=\"\",\"\",IF(M22992<Results!D$12,1,0))","v":""}]
[null,null,null,null,null,null,null,null,null,null,null,"",null,{"$f":"IF(L23001=\"\",\"\",IF(M23001<Results!D$12,1,0))","v":""}]
[null,null,null,null,null,null,null,null,null,null,null,"",null,{"$f":"IF(L23023=\"\",\"\",IF(M23023<Results!D$12,1,0))","v":""}]
[null,null,null,null,null,null,null,null,null,null,null,"",null,{"$f":"IF(L23058=\"\",\"\",IF(M23058<Results!D$12,1,0))","v":""}]
[null,null,null,null,null,null,null,null,null,null,null,"",null,{"$f":"IF(L23067=\"\",\"\",IF(M23067<Results!D$12,1,0))","v":""}]
[null,null,null,null,null,null,null,null,null,null,null,"",null,{"$f":"IF(L23092=\"\",\"\",IF(M23092<Results!D$12,1,0))","v":""}]
[null,null,null,null,null,null,null,null,null,null,null,"",null,{"$f":"IF(L23126=\"\",\"\",IF(M23126<Results!D$12,1,0))","v":""}]
[null,null,null,null,null,null,null,null,null,null,null,"",null,{"$f":"IF(L23157=\"\",\"\",IF(M23157<Results!D$12,1,0))","v":""}]
[null,null,null,null,null,null,null,null,null,null,null,"",null,{"$f":"IF(L23182=\"\",\"\",IF(M23182<Results!D$12,1,0))","v":""}]
[null,null,null,null,null,null,null,null,null,null,null,"",null,{"$f":"IF(L23191=\"\",\"\",IF(M23191<Results!D$12,1,0))","v":""}]
[null,null,null,null,null,null,null,null,null,null,null,"",null,{"$f":"IF(L23218=\"\",\"\",IF(M23218<Results!D$12,1,0))","v":""}]
[null,null,null,null,null,null,null,null,null,null,null,"",null,{"$f":"IF(L23248=\"\",\"\",IF(M23248<Results!D$12,1,0))","v":""}]
[null,null,null,null,null,null,null,null,null,null,null,"",null,{"$f":"IF(L23257=\"\",\"\",IF(M23257<Results!D$12,1,0))","v":""}]
[null,null,null,null,null,null,null,null,null,null,null,"",null,{"$f":"IF(L23282=\"\",\"\",IF(M23282<Results!D$12,1,0))","v":""}]
[null,null,null,null,null,null,null,null,null,null,null,"",null,{"$f":"IF(L23321=\"\",\"\",IF(M23321<Results!D$12,1,0))","v":""}]
[null,null,null,null,null,null,null,null,null,null,null,"",null,{"$f":"IF(L23339=\"\",\"\",IF(M23339<Results!D$12,1,0))","v":""}]
[null,null,null,null,null,null,null,null,null,null,null,"",null,{"$f":"IF(L23372=\"\",\"\",IF(M23372<Results!D$12,1,0))","v":""}]
[null,null,null,null,null,null,null,null,null,null,null,"",null,{"$f":"IF(L23381=\"\",\"\",IF(M23381<Results!D$12,1,0))","v":""}]
[null,null,null,null,null,null,null,null,null,null,null,"",null,{"$f":"IF(L23413=\"\",\"\",IF(M23413<Results!D$12,1,0))","v":""}]
[null,null,null,null,null,null,null,null,null,null,null,"",null,{"$f":"IF(L23438=\"\",\"\",IF(M23438<Results!D$12,1,0))","v":""}]
[null,null,null,null,null,null,null,null,null,null,null,"",null,{"$f":"IF(L23447=\"\",\"\",IF(M23447<Results!D$12,1,0))","v":""}]
[null,null,null,null,null,null,null,null,null,null,null,"",null,{"$f":"IF(L23472=\"\",\"\",IF(M23472<Results!D$12,1,0))","v":""}]
[null,null,null,null,null,null,null,null,null,null,null,"",null,{"$f":"IF(L23516=\"\",\"\",IF(M23516<Results!D$12,1,0))","v":""}]
[null,null,null,null,null,null,null,null,null,null,null,"",null,{"$f":"IF(L23529=\"\",\"\",IF(M23529<Results!D$12,1,0))","v":""}]
[null,null,null,null,null,null,null,null,null,null,null,"",null,{"$f":"IF(L23562=\"\",\"\",IF(M23562<Results!D$12,1,0))","v":""}]
[null,null,null,null,null,null,null,null,null,null,null,"",null,{"$f":"IF(L23571=\"\",\"\",IF(M23571<Results!D$12,1,0))","v":""}]
[null,null,null,null,null,null,null,null,null,null,null,"",null,{"$f":"IF(L23608=\"\",\"\",IF(M23608<Results!D$12,1,0))","v":""}]
[null,null,null,null,null,null,null,null,null,null,null,"",null,{"$f":"IF(L23628=\"\",\"\",IF(M23628<Results!D$12,1,0))","v":""}]
[null,null,null,null,null,null,null,null,null,null,null,"",null,{"$f":"IF(L23637=\"\",\"\",IF(M23637<Results!D$12,1,0))","v":""}]
[null,null,null,null,null,null,null,null,null,null,null,"",null,{"$f":"IF(L23662=\"\",\"\",IF(M23662<Results!D$12,1,0))","v":""}]
[null,null,null,null,null,null,null,null,null,null,null,"",null,{"$f":"IF(L23688=\"\",\"\",IF(M23688<Results!D$12,1,0))","v":""}]
[null,null,null,null,null,null,null,null,null,null,null,"",null,{"$f":"IF(L23719=\"\",\"\",IF(M23719<Results!D$12,1,0))","v":""}]
[null,null,null,null,null,null,null,null,null,null,null,"",null,{"$f":"IF(L23752=\"\",\"\",IF(M23752<Results!D$12,1,0))","v":""}]
[null,null,null,null,null,null,null,null,null,null,null,"",null,{"$f":"IF(L23761=\"\",\"\",IF(M23761<Results!D$12,1,0))","v":""}]
[null,null,null,null,null,null,null,null,null,null,null,"",null,{"$f":"IF(L23780=\"\",\"\",IF(M23780<Results!D$12,1,0))","v":""}]
[null,null,null,null,null,null,null,null,null,null,null,"",null,{"$f":"IF(L23818=\"\",\"\",IF(M23818<Results!D$12,1,0))","v":""}]
[null,null,null,null,null,null,null,null,null,null,null,"",null,{"$f":"IF(L23843=\"\",\"\",IF(M23843<Results!D$12,1,0))","v":""}]
[null,null,null,null,null,null,null,null,null,null,null,"",null,{"$f":"IF(L23852=\"\",\"\",IF(M23852<Results!D$12,1,0))","v":""}]
[null,null,null,null,null,null,null,null,null,null,null,"",null,{"$f":"IF(L23883=\"\",\"\",IF(M23883<Results!D$12,1,0))","v":""}]
[null,null,null,null,null,null,null,null,null,null,null,"",null,{"$f":"IF(L23909=\"\",\"\",IF(M23909<Results!D$12,1,0))","v":""}]
[null,null,null,null,null,null,null,null,null,null,null,"",null,{"$f":"IF(L23942=\"\",\"\",IF(M23942<Results!D$12,1,0))","v":""}]
[null,null,null,null,null,null,null,null,null,null,null,"",null,{"$f":"IF(L23951=\"\",\"\",IF(M23951<Results!D$12,1,0))","v":""}]
[null,null,null,null,null,null,null,null,null,null,null,"",null,{"$f":"IF(L23975=\"\",\"\",IF(M23975<Results!D$12,1,0))","v":""}]
[null,null,null,null,null,null,null,null,null,null,null,"",null,{"$f":"IF(L24008=\"\",\"\",IF(M24008<Results!D$12,1,0))","v":""}]
[null,null,null,null,null,null,null,null,null,null,null,"",null,{"$f":"IF(L24033=\"\",\"\",IF(M24033<Results!D$12,1,0))","v":""}]
[null,null,null,null,null,null,null,null,null,null,null,"",null,{"$f":"IF(L24042=\"\",\"\",IF(M24042<Results!D$12,1,0))","v":""}]
[null,null,null,null,null,null,null,null,null,null,null,"",null,{"$f":"IF(L24078=\"\",\"\",IF(M24078<Results!D$12,1,0))","v":""}]
[null,null,null,null,null,null,null,null,null,null,null,"",null,{"$f":"IF(L24099=\"\",\"\",IF(M24099<Results!D$12,1,0))","v":""}]
[null,null,null,null,null,null,null,null,null,null,null,"",null,{"$f":"IF(L24132=\"\",\"\",IF(M24132<Results!D$12,1,0))","v":""}]
[null,null,null,null,null,null,null,null,null,null,null,"",null,{"$f":"IF(L24141=\"\",\"\",IF(M24141<Results!D$12,1,0))","v":""}]
[null,null,null,null,null,null,null,null,null,null,null,"",null,{"$f":"IF(L24170=\"\",\"\",IF(M24170<Results!D$12,1,0))","v":""}]
[null,null,null,null,null,null,null,null,null,null,null,"",null,{"$f":"IF(L24198=\"\",\"\",IF(M24198<Results!D$12,1,0))","v":""}]
[null,null,null,null,null,null,null,null,null,null,null,"",null,{"$f":"IF(L24223=\"\",\"\",IF(M24223<Results!D$12,1,0))","v":""}]
[null,null,null,null,null,null,null,null,null,null,null,"",null,{"$f":"IF(L24232=\"\",\"\",IF(M24232<Results!D$12,1,0))","v":""}]
[null,null,null,null,null,null,null,null,null,null,null,"",null,{"$f":"IF(L24273=\"\",\"\",IF(M24273<Results!D$12,1,0))","v":""}]
[null,null,null,null,null,null,null,null,null,null,null,"",null,{"$f":"IF(L24289=\"\",\"\",IF(M24289<Results!D$12,1,0))","v":""}]
[null,null,null,null,null,null,null,null,null,null,null,"",null,{"$f":"IF(L24322=\"\",\"\",IF(M24322<Results!D$12,1,0))","v":""}]
[null,null,null,null,null,null,null,null,null,null,null,"",null,{"$f":"IF(L24347=\"\",\"\",IF(M24347<Results!D$12,1,0))","v":""}]
[null,null,null,null,null,null,null,null,null,null,null,"",null,{"$f":"IF(L24365=\"\",\"\",IF(M24365<Results!D$12,1,0))","v":""}]
[null,null,null,null,null,null,null,null,null,null,null,"",null,{"$f":"IF(L24388=\"\",\"\",IF(M24388<Results!D$12,1,0))","v":""}]
[null,null,null,null,null,null,null,null,null,null,null,"",null,{"$f":"IF(L24413=\"\",\"\",IF(M24413<Results!D$12,1,0))","v":""}]
[null,null,null,null,null,null,null,null,null,null,null,"",null,{"$f":"IF(L24422=\"\",\"\",IF(M24422<Results!D$12,1,0))","v":""}]
[null,null,null,null,null,null,null,null,null,null,null,"",null,{"$f":"IF(L24445=\"\",\"\",IF(M24445<Results!D$12,1,0))","v":""}]
[null,null,null,null,null,null,null,null,null,null,null,"",null,{"$f":"IF(L24479=\"\",\"\",IF(M24479<Results!D$12,1,0))","v":""}]
[null,null,null,null,null,null,null,null,null,null,null,"",null,{"$f":"IF(L24512=\"\",\"\",IF(M24512<Results!D$12,1,0))","v":""}]
[null,null,null,null,null,null,null,null,null,null,null,"",null,{"$f":"IF(L24537=\"\",\"\",IF(M24537<Results!D$12,1,0))","v":""}]
[null,null,null,null,null,null,null,null,null,null,null,"",null,{"$f":"IF(L24560=\"\",\"\",IF(M24560<Results!D$12,1,0))","v":""}]
[null,null,null,null,null,null,null,null,null,null,null,"",null,{"$f":"IF(L24578=\"\",\"\",IF(M24578<Results!D$12,1,0))","v":""}]
[null,null,null,null,null,null,null,null,null,null,null,"",null,{"$f":"IF(L24603=\"\",\"\",IF(M24603<Results!D$12,1,0))","v":""}]
[null,null,null,null,null,null,null,null,null,null,null,"",null,{"$f":"IF(L24612=\"\",\"\",IF(M24612<Results!D$12,1,0))","v":""}]
[null,null,null,null,null,null,null,null,null,null,null,"",null,{"$f":"IF(L24652=\"\",\"\",IF(M24652<Results!D$12,1,0))","v":""}]
[null,null,null,null,null,null,null,null,null,null,null,"",null,{"$f":"IF(L24669=\"\",\"\",IF(M24669<Results!D$12,1,0))","v":""}]
[null,null,null,null,null,null,null,null,null,null,null,"",null,{"$f":"IF(L24702=\"\",\"\",IF(M24702<Results!D$12,1,0))","v":""}]
[null,null,null,null,null,null,null,null,null,null,null,"",null,{"$f":"IF(L24727=\"\",\"\",IF(M24727<Results!D$12,1,0))","v":""}]
[null,null,null,null,null,null,null,null,null,null,null,"",null,{"$f":"IF(L24732=\"\",\"\",IF(M24732<Results!D$12,1,0))","v":""}]
[null,null,null,null,null,null,null,null,null,null,null,"",null,{"$f":"IF(L24768=\"\",\"\",IF(M24768<Results!D$12,1,0))","v":""}]
[null,null,null,null,null,null,null,null,null,null,null,"",null,{"$f":"IF(L24793=\"\",\"\",IF(M24793<Results!D$12,1,0))","v":""}]
[null,null,null,null,null,null,null,null,null,null,null,"",null,{"$f":"IF(L24802=\"\",\"\",IF(M24802<Results!D$12,1,0))","v":""}]
[null,null,null,null,null,null,null,null,null,null,null,"",null,{"$f":"IF(L24847=\"\",\"\",IF(M24847<Results!D$12,1,0))","v":""}]
[null,null,null,null,null,null,null,null,null,null,null,"",null,{"$f":"IF(L24859=\"\",\"\",IF(M24859<Results!D$12,1,0))","v":""}]
[null,null,null,null,null,null,null,null,null,null,null,"",null,{"$f":"IF(L24892=\"\",\"\",IF(M24892<Results!D$12,1,0))","v":""}]
[null,null,null,null,null,null,null,null,null,null,null,"",null,{"$f":"IF(L24917=\"\",\"\",IF(M24917<Results!D$12,1,0))","v":""}]
[null,null,null,null,null,null,null,null,null,null,null,"",null,{"$f":"IF(L24927=\"\",\"\",IF(M24927<Results!D$12,1,0))","v":""}]
[null,null,null,null,null,null,null,null,null,null,null,"",null,{"$f":"IF(L24958=\"\",\"\",IF(M24958<Results!D$12,1,0))","v":""}]
[null,null,null,null,null,null,null,null,null,null,null,"",null,{"$f":"IF(L24983=\"\",\"\",IF(M24983<Results!D$12,1,0))","v":""}]
[null,null,null,null,null,null,null,null,null,null,null,"",null,{"$f":"IF(L24992=\"\",\"\",IF(M24992<Results!D$12,1,0))","v":""}]
[null,null,null,null,null,null,null,null,null,null,null,"",null,{"$f":"IF(L25019=\"\",\"\",IF(M25019<Results!D$12,1,0))","v":""}]
[null,null,null,null,null,null,null,null,null,null,null,"",null,{"$f":"IF(L25049=\"\",\"\",IF(M25049<Results!D$12,1,0))","v":""}]
[null,null,null,null,null,null,null,null,null,null,null,"",null,{"$f":"IF(L25082=\"\",\"\",IF(M25082<Results!D$12,1,0))","v":""}]
[null,null,null,null,null,null,null,null,null,null,null,"",null,{"$f":"IF(L25107=\"\",\"\",IF(M25107<Results!D$12,1,0))","v":""}]
[null,null,null,null,null,null,null,null,null,null,null,"",null,{"$f":"IF(L25122=\"\",\"\",IF(M25122<Results!D$12,1,0))","v":""}]
[null,null,null,null,null,null,null,null,null,null,null,"",null,{"$f":"IF(L25140=\"\",\"\",IF(M25140<Results!D$12,1,0))","v":""}]
[null,null,null,null,null,null,null,null,null,null,null,"",null,{"$f":"IF(L25173=\"\",\"\",IF(M25173<Results!D$12,1,0))","v":""}]
[null,null,null,null,null,null,null,null,null,null,null,"",null,{"$f":"IF(L25182=\"\",\"\",IF(M25182<Results!D$12,1,0))","v":""}]
[null,null,null,null,null,null,null,null,null,null,null,"",null,{"$f":"IF(L25214=\"\",\"\",IF(M25214<Results!D$12,1,0))","v":""}]
[null,null,null,null,null,null,null,null,null,null,null,"",null,{"$f":"IF(L25239=\"\",\"\",IF(M25239<Results!D$12,1,0))","v":""}]
[null,null,null,null,null,null,null,null,null,null,null,"",null,{"$f":"IF(L25272=\"\",\"\",IF(M25272<Results!D$12,1,0))","v":""}]
[null,null,null,null,null,null,null,null,null,null,null,"",null,{"$f":"IF(L25297=\"\",\"\",IF(M25297<Results!D$12,1,0))","v":""}]
[null,null,null,null,null,null,null,null,null,null,null,"",null,{"$f":"IF(L25317=\"\",\"\",IF(M25317<Results!D$12,1,0))","v":""}]
[null,null,null,null,null,null,null,null,null,null,null,"",null,{"$f":"IF(L25330=\"\",\"\",IF(M25330<Results!D$12,1,0))","v":""}]
[null,null,null,null,null,null,null,null,null,null,null,"",null,{"$f":"IF(L25363=\"\",\"\",IF(M25363<Results!D$12,1,0))","v":""}]
[null,null,null,null,null,null,null,null,null,null,null,"",null,{"$f":"IF(L25372=\"\",\"\",IF(M25372<Results!D$12,1,0))","v":""}]
[null,null,null,null,null,null,null,null,null,null,null,"",null,{"$f":"IF(L25409=\"\",\"\",IF(M25409<Results!D$12,1,0))","v":""}]
[null,null,null,null,null,null,null,null,null,null,null,"",null,{"$f":"IF(L25429=\"\",\"\",IF(M25429<Results!D$12,1,0))","v":""}]
[null,null,null,null,null,null,null,null,null,null,null,"",null,{"$f":"IF(L25454=\"\",\"\",IF(M25454<Results!D$12,1,0))","v":""}]
[null,null,null,null,null,null,null,null,null,null,null,"",null,{"$f":"IF(L25487=\"\",\"\",IF(M25487<Results!D$12,1,0))","v":""}]
[null,null,null,null,null,null,null,null,null,null,null,"",null,{"$f":"IF(L25512=\"\",\"\",IF(M25512<Results!D$12,1,0))","v":""}]
[null,null,null,null,null,null,null,null,null,null,null,"",null,{"$f":"IF(L25520=\"\",\"\",IF(M25520<Results!D$12,1,0))","v":""}]
[null,null,null,null,null,null,null,null,null,null,null,"",null,{"$f":"IF(L25553=\"\",\"\",IF(M25553<Results!D$12,1,0))","v":""}]
[null,null,null,null,null,null,null,null,null,null,null,"",null,{"$f":"IF(L25562=\"\",\"\",IF(M25562<Results!D$12,1,0))","v":""}]
[null,null,null,null,null,null,null,null,null,null,null,"",null,{"$f":"IF(L25604=\"\",\"\",IF(M25604<Results!D$12,1,0))","v":""}]
[null,null,null,null,null,null,null,null,null,null,null,"",null,{"$f":"IF(L25619=\"\",\"\",IF(M25619<Results!D$12,1,0))","v":""}]
[null,null,null,null,null,null,null,null,null,null,null,"",null,{"$f":"IF(L25644=\"\",\"\",IF(M25644<Results!D$12,1,0))","v":""}]
[null,null,null,null,null,null,null,null,null,null,null,"",null,{"$f":"IF(L25677=\"\",\"\",IF(M25677<Results!D$12,1,0))","v":""}]
[null,null,null,null,null,null,null,null,null,null,null,"",null,{"$f":"IF(L25684=\"\",\"\",IF(M25684<Results!D$12,1,0))","v":""}]
[null,null,null,null,null,null,null,null,null,null,null,"",null,{"$f":"IF(L25710=\"\",\"\",IF(M25710<Results!D$12,1,0))","v":""}]
[null,null,null,null,null,null,null,null,null,null,null,"",null,{"$f":"IF(L25743=\"\",\"\",IF(M25743<Results!D$12,1,0))","v":""}]
[null,null,null,null,null,null,null,null,null,null,null,"",null,{"$f":"IF(L25752=\"\",\"\",IF(M25752<Results!D$12,1,0))","v":""}]
[null,null,null,null,null,null,null,null,null,null,null,"",null,{"$f":"IF(L25777=\"\",\"\",IF(M25777<Results!D$12,1,0))","v":""}]
[null,null,null,null,null,null,null,null,null,null,null,"",null,{"$f":"IF(L25799=\"\",\"\",IF(M25799<Results!D$12,1,0))","v":""}]
[null,null,null,null,null,null,null,null,null,null,null,"",null,{"$f":"IF(L25834=\"\",\"\",IF(M25834<Results!D$12,1,0))","v":""}]
[null,null,null,null,null,null,null,null,null,null,null,"",null,{"$f":"IF(L25867=\"\",\"\",IF(M25867<Results!D$12,1,0))","v":""}]
[null,null,null,null,null,null,null,null,null,null,null,"",null,{"$f":"IF(L25876=\"\",\"\",IF(M25876<Results!D$12,1,0))","v":""}]
[null,null,null,null,null,null,null,null,null,null,null,"",null,{"$f":"IF(L25914=\"\",\"\",IF(M25914<Results!D$12,1,0))","v":""}]
[null,null,null,null,null,null,null,null,null,null,null,"",null,{"$f":"IF(L25933=\"\",\"\",IF(M25933<Results!D$12,1,0))","v":""}]
[null,null,null,null,null,null,null,null,null,null,null,"",null,{"$f":"IF(L25958=\"\",\"\",IF(M25958<Results!D$12,1,0))","v":""}]
[null,null,null,null,null,null,null,null,null,null,null,"",null,{"$f":"IF(L25967=\"\",\"\",IF(M25967<Results!D$12,1,0))","v":""}]
[null,null,null,null,null,null,null,null,null,null,null,"",null,{"$f":"IF(L25994=\"\",\"\",IF(M25994<Results!D$12,1,0))","v":""}]
[null,null,null,null,null,null,null,null,null,null,null,"",null,{"$f":"IF(L26024=\"\",\"\",IF(M26024<Results!D$12,1,0))","v":""}]
[null,null,null,null,null,null,null,null,null,null,null,"",null,{"$f":"IF(L26057=\"\",\"\",IF(M26057<Results!D$12,1,0))","v":""}]
[null,null,null,null,null,null,null,null,null,null,null,"",null,{"$f":"IF(L26066=\"\",\"\",IF(M26066<Results!D$12,1,0))","v":""}]
[null,null,null,null,null,null,null,null,null,null,null,"",null,{"$f":"IF(L26086=\"\",\"\",IF(M26086<Results!D$12,1,0))","v":""}]
[null,null,null,null,null,null,null,null,null,null,null,"",null,{"$f":"IF(L26123=\"\",\"\",IF(M26123<Results!D$12,1,0))","v":""}]
[null,null,null,null,null,null,null,null,null,null,null,"",null,{"$f":"IF(L26148=\"\",\"\",IF(M26148<Results!D$12,1,0))","v":""}]
[null,null,null,null,null,null,null,null,null,null,null,"",null,{"$f":"IF(L26157=\"\",\"\",IF(M26157<Results!D$12,1,0))","v":""}]
[null,null,null,null,null,null,null,null,null,null,null,"",null,{"$f":"IF(L26189=\"\",\"\",IF(M26189<Results!D$12,1,0))","v":""}]
[null,null,null,null,null,null,null,null,null,null,null,"",null,{"$f":"IF(L26214=\"\",\"\",IF(M26214<Results!D$12,1,0))","v":""}]
[null,null,null,null,null,null,null,null,null,null,null,"",null,{"$f":"IF(L26247=\"\",\"\",IF(M26247<Results!D$12,1,0))","v":""}]
[null,null,null,null,null,null,null,null,null,null,null,"",null,{"$f":"IF(L26256=\"\",\"\",IF(M26256<Results!D$12,1,0))","v":""}]
[null,null,null,null,null,null,null,null,null,null,null,"",null,{"$f":"IF(L26281=\"\",\"\",IF(M26281<Results!D$12,1,0))","v":""}]
[null,null,null,null,null,null,null,null,null,null,null,"",null,{"$f":"IF(L26313=\"\",\"\",IF(M26313<Results!D$12,1,0))","v":""}]
[null,null,null,null,null,null,null,null,null,null,null,"",null,{"$f":"IF(L26338=\"\",\"\",IF(M26338<Results!D$12,1,0))","v":""}]
[null,null,null,null,null,null,null,null,null,null,null,"",null,{"$f":"IF(L26347=\"\",\"\",IF(M26347<Results!D$12,1,0))","v":""}]
[null,null,null,null,null,null,null,null,null,null,null,"",null,{"$f":"IF(L26384=\"\",\"\",IF(M26384<Results!D$12,1,0))","v":""}]
[null,null,null,null,null,null,null,null,null,null,null,"",null,{"$f":"IF(L26404=\"\",\"\",IF(M26404<Results!D$12,1,0))","v":""}]
[null,null,null,null,null,null,null,null,null,null,null,"",null,{"$f":"IF(L26437=\"\",\"\",IF(M26437<Results!D$12,1,0))","v":""}]
[null,null,null,null,null,null,null,null,null,null,null,"",null,{"$f":"IF(L26462=\"\",\"\",IF(M26462<Results!D$12,1,0))","v":""}]
[null,null,null,null,null,null,null,null,null,null,null,"",null,{"$f":"IF(L26476=\"\",\"\",IF(M26476<Results!D$12,1,0))","v":""}]
[null,null,null,null,null,null,null,null,null,null,null,"",null,{"$f":"IF(L26503=\"\",\"\",IF(M26503<Results!D$12,1,0))","v":""}]
[null,null,null,null,null,null,null,null,null,null,null,"",null,{"$f":"IF(L26528=\"\",\"\",IF(M26528<Results!D$12,1,0))","v":""}]
[null,null,null,null,null,null,null,null,null,null,null,"",null,{"$f":"IF(L26537=\"\",\"\",IF(M26537<Results!D$12,1,0))","v":""}]
[null,null,null,null,null,null,null,null,null,null,null,"",null,{"$f":"IF(L26579=\"\",\"\",IF(M26579<Results!D$12,1,0))","v":""}]
[null,null,null,null,null,null,null,null,null,null,null,"",null,{"$f":"IF(L26594=\"\",\"\",IF(M26594<Results!D$12,1,0))","v":""}]
[null,null,null,null,null,null,null,null,null,null,null,{"$f":"IF(M26627=\"\",\"\",ROW(L26627)-1)","v":""},null,{"$f":"IF(L26627=\"\",\"\",IF(M26627<Results!D$12,1,0))","v":""}]
[null,null,null,null,null,null,null,null,null,null,null,"",null,{"$f":"IF(L26652=\"\",\"\",IF(M26652<Results!D$12,1,0))","v":""}]
[null,null,null,null,null,null,null,null,null,null,null,"",null,{"$f":"IF(L26671=\"\",\"\",IF(M26671<Results!D$12,1,0))","v":""}]
[null,null,null,null,null,null,null,null,null,null,null,"",null,{"$f":"IF(L26693=\"\",\"\",IF(M26693<Results!D$12,1,0))","v":""}]
[null,null,null,null,null,null,null,null,null,null,null,"",null,{"$f":"IF(L26718=\"\",\"\",IF(M26718<Results!D$12,1,0))","v":""}]
[null,null,null,null,null,null,null,null,null,null,null,"",null,{"$f":"IF(L26727=\"\",\"\",IF(M26727<Results!D$12,1,0))","v":""}]
[null,null,null,null,null,null,null,null,null,null,null,"",null,{"$f":"IF(L26763=\"\",\"\",IF(M26763<Results!D$12,1,0))","v":""}]
[null,null,null,null,null,null,null,null,null,null,null,"",null,{"$f":"IF(L26784=\"\",\"\",IF(M26784<Results!D$12,1,0))","v":""}]
[null,null,null,null,null,null,null,null,null,null,null,"",null,{"$f":"IF(L26817=\"\",\"\",IF(M26817<Results!D$12,1,0))","v":""}]
[null,null,null,null,null,null,null,null,null,null,null,"",null,{"$f":"IF(L26842=\"\",\"\",IF(M26842<Results!D$12,1,0))","v":""}]
[null,null,null,null,null,null,null,null,null,null,null,"",null,{"$f":"IF(L26866=\"\",\"\",IF(M26866<Results!D$12,1,0))","v":""}]
[null,null,null,null,null,null,null,null,null,null,null,{"$f":"IF(M26883=\"\",\"\",ROW(L26883)-1)","v":""},null,{"$f":"IF(L26883=\"\",\"\",IF(M26883<Results!D$12,1,0))","v":""}]
[null,null,null,null,null,null,null,null,null,null,null,"",null,{"$f":"IF(L26908=\"\",\"\",IF(M26908<Results!D$12,1,0))","v":""}]
[null,null,null,null,null,null,null,null,null,null,null,"",null,{"$f":"IF(L26917=\"\",\"\",IF(M26917<Results!D$12,1,0))","v":""}]
[null,null,null,null,null,null,null,null,null,null,null,"",null,{"$f":"IF(L26958=\"\",\"\",IF(M26958<Results!D$12,1,0))","v":""}]
[null,null,null,null,null,null,null,null,null,null,null,"",null,{"$f":"IF(L26974=\"\",\"\",IF(M26974<Results!D$12,1,0))","v":""}]
[null,null,null,null,null,null,null,null,null,null,null,"",null,{"$f":"IF(L27007=\"\",\"\",IF(M27007<Results!D$12,1,0))","v":""}]
[null,null,null,null,null,null,null,null,null,null,null,"",null,{"$f":"IF(L27032=\"\",\"\",IF(M27032<Results!D$12,1,0))","v":""}]
[null,null,null,null,null,null,null,null,null,null,null,"",null,{"$f":"IF(L27038=\"\",\"\",IF(M27038<Results!D$12,1,0))","v":""}]
[null,null,null,null,null,null,null,null,null,null,null,"",null,{"$f":"IF(L27073=\"\",\"\",IF(M27073<Results!D$12,1,0))","v":""}]
[null,null,null,null,null,null,null,null,null,null,null,"",null,{"$f":"IF(L27098=\"\",\"\",IF(M27098<Results!D$12,1,0))","v":""}]
[null,null,null,null,null,null,null,null,null,null,null,"",null,{"$f":"IF(L27107=\"\",\"\",IF(M27107<Results!D$12,1,0))","v":""}]
[null,null,null,null,null,null,null,null,null,null,null,"",null,{"$f":"IF(L27130=\"\",\"\",IF(M27130<Results!D$12,1,0))","v":""}]
[null,null,null,null,null,null,null,null,null,null,null,"",null,{"$f":"IF(L27164=\"\",\"\",IF(M27164<Results!D$12,1,0))","v":""}]
[null,null,null,null,null,null,null,null,null,null,null,"",null,{"$f":"IF(L27197=\"\",\"\",IF(M27197<Results!D$12,1,0))","v":""}]
[null,null,null,null,null,null,null,null,null,null,null,"",null,{"$f":"IF(L27222=\"\",\"\",IF(M27222<Results!D$12,1,0))","v":""}]
[null,null,null,null,null,null,null,null,null,null,null,"",null,{"$f":"IF(L27233=\"\",\"\",IF(M27233<Results!D$12,1,0))","v":""}]
[null,null,null,null,null,null,null,null,null,null,null,"",null,{"$f":"IF(L27255=\"\",\"\",IF(M27255<Results!D$12,1,0))","v":""}]
[null,null,null,null,null,null,null,null,null,null,null,"",null,{"$f":"IF(L27288=\"\",\"\",IF(M27288<Results!D$12,1,0))","v":""}]
[null,null,null,null,null,null,null,null,null,null,null,"",null,{"$f":"IF(L27297=\"\",\"\",IF(M27297<Results!D$12,1,0))","v":""}]
[null,null,null,null,null,null,null,null,null,null,null,"",null,{"$f":"IF(L27325=\"\",\"\",IF(M27325<Results!D$12,1,0))","v":""}]
[null,null,null,null,null,null,null,null,null,null,null,"",null,{"$f":"IF(L27354=\"\",\"\",IF(M27354<Results!D$12,1,0))","v":""}]
[null,null,null,null,null,null,null,null,null,null,null,"",null,{"$f":"IF(L27387=\"\",\"\",IF(M27387<Results!D$12,1,0))","v":""}]
[null,null,null,null,null,null,null,null,null,null,null,"",null,{"$f":"IF(L27412=\"\",\"\",IF(M27412<Results!D$12,1,0))","v":""}]
[null,null,null,null,null,null,null,null,null,null,null,"",null,{"$f":"IF(L27428=\"\",\"\",IF(M27428<Results!D$12,1,0))","v":""}]
[null,null,null,null,null,null,null,null,null,null,null,"",null,{"$f":"IF(L27445=\"\",\"\",IF(M27445<Results!D$12,1,0))","v":""}]
[null,null,null,null,null,null,null,null,null,null,null,"",null,{"$f":"IF(L27478=\"\",\"\",IF(M27478<Results!D$12,1,0))","v":""}]
[null,null,null,null,null,null,null,null,null,null,null,"",null,{"$f":"IF(L27487=\"\",\"\",IF(M27487<Results!D$12,1,0))","v":""}]
[null,null,null,null,null,null,null,null,null,null,null,"",null,{"$f":"IF(L27520=\"\",\"\",IF(M27520<Results!D$12,1,0))","v":""}]
[null,null,null,null,null,null,null,null,null,null,null,"",null,{"$f":"IF(L27544=\"\",\"\",IF(M27544<Results!D$12,1,0))","v":""}]
[null,null,null,null,null,null,null,null,null,null,null,"",null,{"$f":"IF(L27577=\"\",\"\",IF(M27577<Results!D$12,1,0))","v":""}]
[null,null,null,null,null,null,null,null,null,null,null,"",null,{"$f":"IF(L27602=\"\",\"\",IF(M27602<Results!D$12,1,0))","v":""}]
[null,null,null,null,null,null,null,null,null,null,null,"",null,{"$f":"IF(L27623=\"\",\"\",IF(M27623<Results!D$12,1,0))","v":""}]
[null,null,null,null,null,null,null,null,null,null,null,"",null,{"$f":"IF(L27635=\"\",\"\",IF(M27635<Results!D$12,1,0))","v":""}]
[null,null,null,null,null,null,null,null,null,null,null,"",null,{"$f":"IF(L27668=\"\",\"\",IF(M27668<Results!D$12,1,0))","v":""}]
[null,null,null,null,null,null,null,null,null,null,null,"",null,{"$f":"IF(L27677=\"\",\"\",IF(M27677<Results!D$12,1,0))","v":""}]
[null,null,null,null,null,null,null,null,null,null,null,{"$f":"IF(M27715=\"\",\"\",ROW(L27715)-1)","v":""},null,{"$f":"IF(L27715=\"\",\"\",IF(M27715<Results!D$12,1,0))","v":""}]
[null,null,null,null,null,null,null,null,null,null,null,"",null,{"$f":"IF(L27734=\"\",\"\",IF(M27734<Results!D$12,1,0))","v":""}]
[null,null,null,null,null,null,null,null,null,null,null,"",null,{"$f":"IF(L27759=\"\",\"\",IF(M27759<Results!D$12,1,0))","v":""}]
[null,null,null,null,null,null,null,null,null,null,null,"",null,{"$f":"IF(L27792=\"\",\"\",IF(M27792<Results!D$12,1,0))","v":""}]
[null,null,null,null,null,null,null,null,null,null,null,"",null,{"$f":"IF(L27795=\"\",\"\",IF(M27795<Results!D$12,1,0))","v":""}]
[null,null,null,null,null,null,null,null,null,null,null,"",null,{"$f":"IF(L27825=\"\",\"\",IF(M27825<Results!D$12,1,0))","v":""}]
[null,null,null,null,null,null,null,null,null,null,null,"",null,{"$f":"IF(L27858=\"\",\"\",IF(M27858<Results!D$12,1,0))","v":""}]
[null,null,null,null,null,null,null,null,null,null,null,"",null,{"$f":"IF(L27867=\"\",\"\",IF(M27867<Results!D$12,1,0))","v":""}]
[null,null,null,null,null,null,null,null,null,null,null,"",null,{"$f":"IF(L27910=\"\",\"\",IF(M27910<Results!D$12,1,0))","v":""}]
[null,null,null,null,null,null,null,null,null,null,null,"",null,{"$f":"IF(L27924=\"\",\"\",IF(M27924<Results!D$12,1,0))","v":""}]
[null,null,null,null,null,null,null,null,null,null,null,"",null,{"$f":"IF(L27949=\"\",\"\",IF(M27949<Results!D$12,1,0))","v":""}]
[null,null,null,null,null,null,null,null,null,null,null,"",null,{"$f":"IF(L27982=\"\",\"\",IF(M27982<Results!D$12,1,0))","v":""}]
[null,null,null,null,null,null,null,null,null,null,null,"",null,{"$f":"IF(L27990=\"\",\"\",IF(M27990<Results!D$12,1,0))","v":""}]
[null,null,null,null,null,null,null,null,null,null,null,"",null,{"$f":"IF(L28015=\"\",\"\",IF(M28015<Results!D$12,1,0))","v":""}]
[null,null,null,null,null,null,null,null,null,null,null,"",null,{"$f":"IF(L28048=\"\",\"\",IF(M28048<Results!D$12,1,0))","v":""}]
[null,null,null,null,null,null,null,null,null,null,null,"",null,{"$f":"IF(L28073=\"\",\"\",IF(M28073<Results!D$12,1,0))","v":""}]
[null,null,null,null,null,null,null,null,null,null,null,"",null,{"$f":"IF(L28082=\"\",\"\",IF(M28082<Results!D$12,1,0))","v":""}]
[null,null,null,null,null,null,null,null,null,null,null,"",null,{"$f":"IF(L28114=\"\",\"\",IF(M28114<Results!D$12,1,0))","v":""}]
[null,null,null,null,null,null,null,null,null,null,null,"",null,{"$f":"IF(L28139=\"\",\"\",IF(M28139<Results!D$12,1,0))","v":""}]
[null,null,null,null,null,null,null,null,null,null,null,"",null,{"$f":"IF(L28172=\"\",\"\",IF(M28172<Results!D$12,1,0))","v":""}]
[null,null,null,null,null,null,null,null,null,null,null,"",null,{"$f":"IF(L28185=\"\",\"\",IF(M28185<Results!D$12,1,0))","v":""}]
[null,null,null,null,null,null,null,null,null,null,null,"",null,{"$f":"IF(L28205=\"\",\"\",IF(M28205<Results!D$12,1,0))","v":""}]
[null,null,null,null,null,null,null,null,null,null,null,"",null,{"$f":"IF(L28238=\"\",\"\",IF(M28238<Results!D$12,1,0))","v":""}]
[null,null,null,null,null,null,null,null,null,null,null,"",null,{"$f":"IF(L28263=\"\",\"\",IF(M28263<Results!D$12,1,0))","v":""}]
[null,null,null,null,null,null,null,null,null,null,null,"",null,{"$f":"IF(L28277=\"\",\"\",IF(M28277<Results!D$12,1,0))","v":""}]
[null,null,null,null,null,null,null,null,null,null,null,"",null,{"$f":"IF(L28304=\"\",\"\",IF(M28304<Results!D$12,1,0))","v":""}]
[null,null,null,null,null,null,null,null,null,null,null,"",null,{"$f":"IF(L28329=\"\",\"\",IF(M28329<Results!D$12,1,0))","v":""}]
[null,null,null,null,null,null,null,null,null,null,null,"",null,{"$f":"IF(L28362=\"\",\"\",IF(M28362<Results!D$12,1,0))","v":""}]
[null,null,null,null,null,null,null,null,null,null,null,"",null,{"$f":"IF(L28380=\"\",\"\",IF(M28380<Results!D$12,1,0))","v":""}]
[null,null,null,null,null,null,null,null,null,null,null,"",null,{"$f":"IF(L28395=\"\",\"\",IF(M28395<Results!D$12,1,0))","v":""}]
[null,null,null,null,null,null,null,null,null,null,null,"",null,{"$f":"IF(L28428=\"\",\"\",IF(M28428<Results!D$12,1,0))","v":""}]
[null,null,null,null,null,null,null,null,null,null,null,"",null,{"$f":"IF(L28453=\"\",\"\",IF(M28453<Results!D$12,1,0))","v":""}]
[null,null,null,null,null,null,null,null,null,null,null,"",null,{"$f":"IF(L28472=\"\",\"\",IF(M28472<Results!D$12,1,0))","v":""}]
[null,null,null,null,null,null,null,null,null,null,null,"",null,{"$f":"IF(L28494=\"\",\"\",IF(M28494<Results!D$12,1,0))","v":""}]
[null,null,null,null,null,null,null,null,null,null,null,"",null,{"$f":"IF(L28519=\"\",\"\",IF(M28519<Results!D$12,1,0))","v":""}]
[null,null,null,null,null,null,null,null,null,null,null,"",null,{"$f":"IF(L28552=\"\",\"\",IF(M28552<Results!D$12,1,0))","v":""}]
[null,null,null,null,null,null,null,null,null,null,null,"",null,{"$f":"IF(L28564=\"\",\"\",IF(M28564<Results!D$12,1,0))","v":""}]
[null,null,null,null,null,null,null,null,null,null,null,"",null,{"$f":"IF(L28585=\"\",\"\",IF(M28585<Results!D$12,1,0))","v":""}]
[null,null,null,null,null,null,null,null,null,null,null,"",null,{"$f":"IF(L28618=\"\",\"\",IF(M28618<Results!D$12,1,0))","v":""}]
[null,null,null,null,null,null,null,null,null,null,null,"",null,{"$f":"IF(L28643=\"\",\"\",IF(M28643<Results!D$12,1,0))","v":""}]
[null,null,null,null,null,null,null,null,null,null,null,"",null,{"$f":"IF(L28667=\"\",\"\",IF(M28667<Results!D$12,1,0))","v":""}]
[null,null,null,null,null,null,null,null,null,null,null,"",null,{"$f":"IF(L28684=\"\",\"\",IF(M28684<Results!D$12,1,0))","v":""}]
[null,null,null,null,null,null,null,null,null,null,null,"",null,{"$f":"IF(L28709=\"\",\"\",IF(M28709<Results!D$12,1,0))","v":""}]
[null,null,null,null,null,null,null,null,null,null,null,"",null,{"$f":"IF(L28742=\"\",\"\",IF(M28742<Results!D$12,1,0))","v":""}]
[null,null,null,null,null,null,null,null,null,null,null,"",null,{"$f":"IF(L28759=\"\",\"\",IF(M28759<Results!D$12,1,0))","v":""}]
[null,null,null,null,null,null,null,null,null,null,null,"",null,{"$f":"IF(L28775=\"\",\"\",IF(M28775<Results!D$12,1,0))","v":""}]
[null,null,null,null,null,null,null,null,null,null,null,"",null,{"$f":"IF(L28808=\"\",\"\",IF(M28808<Results!D$12,1,0))","v":""}]
[null,null,null,null,null,null,null,null,null,null,null,"",null,{"$f":"IF(L28833=\"\",\"\",IF(M28833<Results!D$12,1,0))","v":""}]
[null,null,null,null,null,null,null,null,null,null,null,"",null,{"$f":"IF(L28839=\"\",\"\",IF(M28839<Results!D$12,1,0))","v":""}]
[null,null,null,null,null,null,null,null,null,null,null,"",null,{"$f":"IF(L28866=\"\",\"\",IF(M28866<Results!D$12,1,0))","v":""}]
[null,null,null,null,null,null,null,null,null,null,null,"",null,{"$f":"IF(L28899=\"\",\"\",IF(M28899<Results!D$12,1,0))","v":""}]
[null,null,null,null,null,null,null,null,null,null,null,"",null,{"$f":"IF(L28932=\"\",\"\",IF(M28932<Results!D$12,1,0))","v":""}]
[null,null,null,null,null,null,null,null,null,null,null,"",null,{"$f":"IF(L28954=\"\",\"\",IF(M28954<Results!D$12,1,0))","v":""}]
[null,null,null,null,null,null,null,null,null,null,null,"",null,{"$f":"IF(L28965=\"\",\"\",IF(M28965<Results!D$12,1,0))","v":""}]
[null,null,null,null,null,null,null,null,null,null,null,"",null,{"$f":"IF(L28998=\"\",\"\",IF(M28998<Results!D$12,1,0))","v":""}]
[null,null,null,null,null,null,null,null,null,null,null,"",null,{"$f":"IF(L29023=\"\",\"\",IF(M29023<Results!D$12,1,0))","v":""}]
[null,null,null,null,null,null,null,null,null,null,null,"",null,{"$f":"IF(L29034=\"\",\"\",IF(M29034<Results!D$12,1,0))","v":""}]
[null,null,null,null,null,null,null,null,null,null,null,"",null,{"$f":"IF(L29056=\"\",\"\",IF(M29056<Results!D$12,1,0))","v":""}]
[null,null,null,null,null,null,null,null,null,null,null,"",null,{"$f":"IF(L29089=\"\",\"\",IF(M29089<Results!D$12,1,0))","v":""}]
[null,null,null,null,null,null,null,null,null,null,null,"",null,{"$f":"IF(L29122=\"\",\"\",IF(M29122<Results!D$12,1,0))","v":""}]
[null,null,null,null,null,null,null,null,null,null,null,"",null,{"$f":"IF(L29126=\"\",\"\",IF(M29126<Results!D$12,1,0))","v":""}]
[null,null,null,null,null,null,null,null,null,null,null,"",null,{"$f":"IF(L29155=\"\",\"\",IF(M29155<Results!D$12,1,0))","v":""}]
[null,null,null,null,null,null,null,null,null,null,null,"",null,{"$f":"IF(L29188=\"\",\"\",IF(M29188<Results!D$12,1,0))","v":""}]
[null,null,null,null,null,null,null,null,null,null,null,"",null,{"$f":"IF(L29213=\"\",\"\",IF(M29213<Results!D$12,1,0))","v":""}]
[null,null,null,null,null,null,null,null,null,null,null,"",null,{"$f":"IF(L29229=\"\",\"\",IF(M29229<Results!D$12,1,0))","v":""}]
[null,null,null,null,null,null,null,null,null,null,null,"",null,{"$f":"IF(L29246=\"\",\"\",IF(M29246<Results!D$12,1,0))","v":""}]
[null,null,null,null,null,null,null,null,null,null,null,"",null,{"$f":"IF(L29279=\"\",\"\",IF(M29279<Results!D$12,1,0))","v":""}]
[null,null,null,null,null,null,null,null,null,null,null,"",null,{"$f":"IF(L29312=\"\",\"\",IF(M29312<Results!D$12,1,0))","v":""}]
[null,null,null,null,null,null,null,null,null,null,null,"",null,{"$f":"IF(L29321=\"\",\"\",IF(M29321<Results!D$12,1,0))","v":""}]
[null,null,null,null,null,null,null,null,null,null,null,"",null,{"$f":"IF(L29345=\"\",\"\",IF(M29345<Results!D$12,1,0))","v":""}]
[null,null,null,null,null,null,null,null,null,null,null,"",null,{"$f":"IF(L29370=\"\",\"\",IF(M29370<Results!D$12,1,0))","v":""}]
[null,null,null,null,null,null,null,null,null,null,null,"",null,{"$f":"IF(L29403=\"\",\"\",IF(M29403<Results!D$12,1,0))","v":""}]
[null,null,null,null,null,null,null,null,null,null,null,"",null,{"$f":"IF(L29424=\"\",\"\",IF(M29424<Results!D$12,1,0))","v":""}]
[null,null,null,null,null,null,null,null,null,null,null,"",null,{"$f":"IF(L29436=\"\",\"\",IF(M29436<Results!D$12,1,0))","v":""}]
[null,null,null,null,null,null,null,null,null,null,null,"",null,{"$f":"IF(L29469=\"\",\"\",IF(M29469<Results!D$12,1,0))","v":""}]
[null,null,null,null,null,null,null,null,null,null,null,"",null,{"$f":"IF(L29502=\"\",\"\",IF(M29502<Results!D$12,1,0))","v":""}]
[null,null,null,null,null,null,null,null,null,null,null,"",null,{"$f":"IF(L29516=\"\",\"\",IF(M29516<Results!D$12,1,0))","v":""}]
[null,null,null,null,null,null,null,null,null,null,null,"",null,{"$f":"IF(L29535=\"\",\"\",IF(M29535<Results!D$12,1,0))","v":""}]
[null,null,null,null,null,null,null,null,null,null,null,"",null,{"$f":"IF(L29560=\"\",\"\",IF(M29560<Results!D$12,1,0))","v":""}]
[null,null,null,null,null,null,null,null,null,null,null,"",null,{"$f":"IF(L29593=\"\",\"\",IF(M29593<Results!D$12,1,0))","v":""}]
[null,null,null,null,null,null,null,null,null,null,null,"",null,{"$f":"IF(L29619=\"\",\"\",IF(M29619<Results!D$12,1,0))","v":""}]
[null,null,null,null,null,null,null,null,null,null,null,"",null,{"$f":"IF(L29626=\"\",\"\",IF(M29626<Results!D$12,1,0))","v":""}]
[null,null,null,null,null,null,null,null,null,null,null,"",null,{"$f":"IF(L29659=\"\",\"\",IF(M29659<Results!D$12,1,0))","v":""}]
[null,null,null,null,null,null,null,null,null,null,null,"",null,{"$f":"IF(L29692=\"\",\"\",IF(M29692<Results!D$12,1,0))","v":""}]
[null,null,null,null,null,null,null,null,null,null,null,"",null,{"$f":"IF(L29711=\"\",\"\",IF(M29711<Results!D$12,1,0))","v":""}]
[null,null,null,null,null,null,null,null,null,null,null,"",null,{"$f":"IF(L29725=\"\",\"\",IF(M29725<Results!D$12,1,0))","v":""}]
[null,null,null,null,null,null,null,null,null,null,null,"",null,{"$f":"IF(L29750=\"\",\"\",IF(M29750<Results!D$12,1,0))","v":""}]
[null,null,null,null,null,null,null,null,null,null,null,"",null,{"$f":"IF(L29783=\"\",\"\",IF(M29783<Results!D$12,1,0))","v":""}]
[null,null,null,null,null,null,null,null,null,null,null,"",null,{"$f":"IF(L29791=\"\",\"\",IF(M29791<Results!D$12,1,0))","v":""}]
[null,null,null,null,null,null,null,null,null,null,null,"",null,{"$f":"IF(L29816=\"\",\"\",IF(M29816<Results!D$12,1,0))","v":""}]
[null,null,null,null,null,null,null,null,null,null,null,"",null,{"$f":"IF(L29849=\"\",\"\",IF(M29849<Results!D$12,1,0))","v":""}]
[null,null,null,null,null,null,null,null,null,null,null,"",null,{"$f":"IF(L29874=\"\",\"\",IF(M29874<Results!D$12,1,0))","v":""}]
[null,null,null,null,null,null,null,null,null,null,null,"",null,{"$f":"IF(L29906=\"\",\"\",IF(M29906<Results!D$12,1,0))","v":""}]
[null,null,null,null,null,null,null,null,null,null,null,"",null,{"$f":"IF(L29915=\"\",\"\",IF(M29915<Results!D$12,1,0))","v":""}]
[null,null,null,null,null,null,null,null,null,null,null,"",null,{"$f":"IF(L29940=\"\",\"\",IF(M29940<Results!D$12,1,0))","v":""}]
[null,null,null,null,null,null,null,null,null,null,null,"",null,{"$f":"IF(L29973=\"\",\"\",IF(M29973<Results!D$12,1,0))","v":""}]
[null,null,null,null,null,null,null,null,null,null,null,"",null,{"$f":"IF(L29986=\"\",\"\",IF(M29986<Results!D$12,1,0))","v":""}]
[null,null,null,null,null,null,null,null,null,null,null,"",null,{"$f":"IF(L30006=\"\",\"\",IF(M30006<Results!D$12,1,0))","v":""}]
[null,null,null,null,null,null,null,null,null,null,null,"",null,{"$f":"IF(L30039=\"\",\"\",IF(M30039<Results!D$12,1,0))","v":""}]
[null,null,null,null,null,null,null,null,null,null,null,"",null,{"$f":"IF(L30064=\"\",\"\",IF(M30064<Results!D$12,1,0))","v":""}]
[null,null,null,null,null,null,null,null,null,null,null,"",null,{"$f":"IF(L30078=\"\",\"\",IF(M30078<Results!D$12,1,0))","v":""}]
[null,null,null,null,null,null,null,null,null,null,null,"",null,{"$f":"IF(L30105=\"\",\"\",IF(M30105<Results!D$12,1,0))","v":""}]
[null,null,null,null,null,null,null,null,null,null,null,"",null,{"$f":"IF(L30130=\"\",\"\",IF(M30130<Results!D$12,1,0))","v":""}]
[null,null,null,null,null,null,null,null,null,null,null,"",null,{"$f":"IF(L30163=\"\",\"\",IF(M30163<Results!D$12,1,0))","v":""}]
[null,null,null,null,null,null,null,null,null,null,null,"",null,{"$f":"IF(L30170=\"\",\"\",IF(M30170<Results!D$12,1,0))","v":""}]
[null,null,null,null,null,null,null,null,null,null,null,"",null,{"$f":"IF(L30196=\"\",\"\",IF(M30196<Results!D$12,1,0))","v":""}]
[null,null,null,null,null,null,null,null,null,null,null,"",null,{"$f":"IF(L30229=\"\",\"\",IF(M30229<Results!D$12,1,0))","v":""}]
[null,null,null,null,null,null,null,null,null,null,null,"",null,{"$f":"IF(L30254=\"\",\"\",IF(M30254<Results!D$12,1,0))","v":""}]
[null,null,null,null,null,null,null,null,null,null,null,"",null,{"$f":"IF(L30273=\"\",\"\",IF(M30273<Results!D$12,1,0))","v":""}]
[null,null,null,null,null,null,null,null,null,null,null,"",null,{"$f":"IF(L30295=\"\",\"\",IF(M30295<Results!D$12,1,0))","v":""}]
[null,null,null,null,null,null,null,null,null,null,null,"",null,{"$f":"IF(L30320=\"\",\"\",IF(M30320<Results!D$12,1,0))","v":""}]
[null,null,null,null,null,null,null,null,null,null,null,"",null,{"$f":"IF(L30353=\"\",\"\",IF(M30353<Results!D$12,1,0))","v":""}]
[null,null,null,null,null,null,null,null,null,null,null,"",null,{"$f":"IF(L30365=\"\",\"\",IF(M30365<Results!D$12,1,0))","v":""}]
[null,null,null,null,null,null,null,null,null,null,null,"",null,{"$f":"IF(L30386=\"\",\"\",IF(M30386<Results!D$12,1,0))","v":""}]
[null,null,null,null,null,null,null,null,null,null,null,"",null,{"$f":"IF(L30419=\"\",\"\",IF(M30419<Results!D$12,1,0))","v":""}]
[null,null,null,null,null,null,null,null,null,null,null,"",null,{"$f":"IF(L30444=\"\",\"\",IF(M30444<Results!D$12,1,0))","v":""}]
[null,null,null,null,null,null,null,null,null,null,null,"",null,{"$f":"IF(L30468=\"\",\"\",IF(M30468<Results!D$12,1,0))","v":""}]
[null,null,null,null,null,null,null,null,null,null,null,"",null,{"$f":"IF(L30485=\"\",\"\",IF(M30485<Results!D$12,1,0))","v":""}]
[null,null,null,null,null,null,null,null,null,null,null,"",null,{"$f":"IF(L30510=\"\",\"\",IF(M30510<Results!D$12,1,0))","v":""}]
[null,null,null,null,null,null,null,null,null,null,null,"",null,{"$f":"IF(L30543=\"\",\"\",IF(M30543<Results!D$12,1,0))","v":""}]
[null,null,null,null,null,null,null,null,null,null,null,"",null,{"$f":"IF(L30560=\"\",\"\",IF(M30560<Results!D$12,1,0))","v":""}]
[null,null,null,null,null,null,null,null,null,null,null,"",null,{"$f":"IF(L30576=\"\",\"\",IF(M30576<Results!D$12,1,0))","v":""}]
[null,null,null,null,null,null,null,null,null,null,null,"",null,{"$f":"IF(L30609=\"\",\"\",IF(M30609<Results!D$12,1,0))","v":""}]
[null,null,null,null,null,null,null,null,null,null,null,"",null,{"$f":"IF(L30634=\"\",\"\",IF(M30634<Results!D$12,1,0))","v":""}]
[null,null,null,null,null,null,null,null,null,null,null,"",null,{"$f":"IF(L30663=\"\",\"\",IF(M30663<Results!D$12,1,0))","v":""}]
[null,null,null,null,null,null,null,null,null,null,null,"",null,{"$f":"IF(L30667=\"\",\"\",IF(M30667<Results!D$12,1,0))","v":""}]
[null,null,null,null,null,null,null,null,null,null,null,"",null,{"$f":"IF(L30700=\"\",\"\",IF(M30700<Results!D$12,1,0))","v":""}]
[null,null,null,null,null,null,null,null,null,null,null,"",null,{"$f":"IF(L30733=\"\",\"\",IF(M30733<Results!D$12,1,0))","v":""}]
[null,null,null,null,null,null,null,null,null,null,null,"",null,{"$f":"IF(L30755=\"\",\"\",IF(M30755<Results!D$12,1,0))","v":""}]
[null,null,null,null,null,null,null,null,null,null,null,"",null,{"$f":"IF(L30766=\"\",\"\",IF(M30766<Results!D$12,1,0))","v":""}]
[null,null,null,null,null,null,null,null,null,null,null,"",null,{"$f":"IF(L30799=\"\",\"\",IF(M30799<Results!D$12,1,0))","v":""}]
[null,null,null,null,null,null,null,null,null,null,null,"",null,{"$f":"IF(L30824=\"\",\"\",IF(M30824<Results!D$12,1,0))","v":""}]
[null,null,null,null,null,null,null,null,null,null,null,"",null,{"$f":"IF(L30835=\"\",\"\",IF(M30835<Results!D$12,1,0))","v":""}]
[null,null,null,null,null,null,null,null,null,null,null,"",null,{"$f":"IF(L30857=\"\",\"\",IF(M30857<Results!D$12,1,0))","v":""}]
[null,null,null,null,null,null,null,null,null,null,null,"",null,{"$f":"IF(L30890=\"\",\"\",IF(M30890<Results!D$12,1,0))","v":""}]
[null,null,null,null,null,null,null,null,null,null,null,"",null,{"$f":"IF(L30923=\"\",\"\",IF(M30923<Results!D$12,1,0))","v":""}]
[null,null,null,null,null,null,null,null,null,null,null,"",null,{"$f":"IF(L30950=\"\",\"\",IF(M30950<Results!D$12,1,0))","v":""}]
[null,null,null,null,null,null,null,null,null,null,null,"",null,{"$f":"IF(L30956=\"\",\"\",IF(M30956<Results!D$12,1,0))","v":""}]
[null,null,null,null,null,null,null,null,null,null,null,"",null,{"$f":"IF(L30989=\"\",\"\",IF(M30989<Results!D$12,1,0))","v":""}]
[null,null,null,null,null,null,null,null,null,null,null,"",null,{"$f":"IF(L31014=\"\",\"\",IF(M31014<Results!D$12,1,0))","v":""}]
[null,null,null,null,null,null,null,null,null,null,null,"",null,{"$f":"IF(L31030=\"\",\"\",IF(M31030<Results!D$12,1,0))","v":""}]
[null,null,null,null,null,null,null,null,null,null,null,"",null,{"$f":"IF(L31047=\"\",\"\",IF(M31047<Results!D$12,1,0))","v":""}]
[null,null,null,null,null,null,null,null,null,null,null,"",null,{"$f":"IF(L31080=\"\",\"\",IF(M31080<Results!D$12,1,0))","v":""}]
[null,null,null,null,null,null,null,null,null,null,null,"",null,{"$f":"IF(L31113=\"\",\"\",IF(M31113<Results!D$12,1,0))","v":""}]
[null,null,null,null,null,null,null,null,null,null,null,"",null,{"$f":"IF(L31122=\"\",\"\",IF(M31122<Results!D$12,1,0))","v":""}]
[null,null,null,null,null,null,null,null,null,null,null,"",null,{"$f":"IF(L31146=\"\",\"\",IF(M31146<Results!D$12,1,0))","v":""}]
[null,null,null,null,null,null,null,null,null,null,null,{"$f":"IF(M31171=\"\",\"\",ROW(L31171)-1)","v":""},null,{"$f":"IF(L31171=\"\",\"\",IF(M31171<Results!D$12,1,0))","v":""}]
[null,null,null,null,null,null,null,null,null,null,null,"",null,{"$f":"IF(L31204=\"\",\"\",IF(M31204<Results!D$12,1,0))","v":""}]
[null,null,null,null,null,null,null,null,null,null,null,"",null,{"$f":"IF(L31225=\"\",\"\",IF(M31225<Results!D$12,1,0))","v":""}]
[null,null,null,null,null,null,null,null,null,null,null,"",null,{"$f":"IF(L31237=\"\",\"\",IF(M31237<Results!D$12,1,0))","v":""}]
[null,null,null,null,null,null,null,null,null,null,null,"",null,{"$f":"IF(L31270=\"\",\"\",IF(M31270<Results!D$12,1,0))","v":""}]
[null,null,null,null,null,null,null,null,null,null,null,"",null,{"$f":"IF(L31303=\"\",\"\",IF(M31303<Results!D$12,1,0))","v":""}]
[null,null,null,null,null,null,null,null,null,null,null,"",null,{"$f":"IF(L31317=\"\",\"\",IF(M31317<Results!D$12,1,0))","v":""}]
[null,null,null,null,null,null,null,null,null,null,null,"",null,{"$f":"IF(L31336=\"\",\"\",IF(M31336<Results!D$12,1,0))","v":""}]
[null,null,null,null,null,null,null,null,null,null,null,"",null,{"$f":"IF(L31361=\"\",\"\",IF(M31361<Results!D$12,1,0))","v":""}]
[null,null,null,null,null,null,null,null,null,null,null,"",null,{"$f":"IF(L31394=\"\",\"\",IF(M31394<Results!D$12,1,0))","v":""}]
[null,null,null,null,null,null,null,null,null,null,null,"",null,{"$f":"IF(L31420=\"\",\"\",IF(M31420<Results!D$12,1,0))","v":""}]
[null,null,null,null,null,null,null,null,null,null,null,{"$f":"IF(M31427=\"\",\"\",ROW(L31427)-1)","v":""},null,{"$f":"IF(L31427=\"\",\"\",IF(M31427<Results!D$12,1,0))","v":""}]
[null,null,null,null,null,null,null,null,null,null,null,"",null,{"$f":"IF(L31460=\"\",\"\",IF(M31460<Results!D$12,1,0))","v":""}]
[null,null,null,null,null,null,null,null,null,null,null,"",null,{"$f":"IF(L31485=\"\",\"\",IF(M31485<Results!D$12,1,0))","v":""}]
[null,null,null,null,null,null,null,null,null,null,null,"",null,{"$f":"IF(L31512=\"\",\"\",IF(M31512<Results!D$12,1,0))","v":""}]
[null,null,null,null,null,null,null,null,null,null,null,"",null,{"$f":"IF(L31526=\"\",\"\",IF(M31526<Results!D$12,1,0))","v":""}]
[null,null,null,null,null,null,null,null,null,null,null,"",null,{"$f":"IF(L31551=\"\",\"\",IF(M31551<Results!D$12,1,0))","v":""}]
[null,null,null,null,null,null,null,null,null,null,null,"",null,{"$f":"IF(L31584=\"\",\"\",IF(M31584<Results!D$12,1,0))","v":""}]
[null,null,null,null,null,null,null,null,null,null,null,"",null,{"$f":"IF(L31615=\"\",\"\",IF(M31615<Results!D$12,1,0))","v":""}]
[null,null,null,null,null,null,null,null,null,null,null,"",null,{"$f":"IF(L31617=\"\",\"\",IF(M31617<Results!D$12,1,0))","v":""}]
[null,null,null,null,null,null,null,null,null,null,null,"",null,{"$f":"IF(L31650=\"\",\"\",IF(M31650<Results!D$12,1,0))","v":""}]
[null,null,null,null,null,null,null,null,null,null,null,"",null,{"$f":"IF(L31675=\"\",\"\",IF(M31675<Results!D$12,1,0))","v":""}]
[null,null,null,null,null,null,null,null,null,null,null,"",null,{"$f":"IF(L31707=\"\",\"\",IF(M31707<Results!D$12,1,0))","v":""}]
[null,null,null,null,null,null,null,null,null,null,null,"",null,{"$f":"IF(L31716=\"\",\"\",IF(M31716<Results!D$12,1,0))","v":""}]
[null,null,null,null,null,null,null,null,null,null,null,"",null,{"$f":"IF(L31741=\"\",\"\",IF(M31741<Results!D$12,1,0))","v":""}]
[null,null,null,null,null,null,null,null,null,null,null,"",null,{"$f":"IF(L31774=\"\",\"\",IF(M31774<Results!D$12,1,0))","v":""}]
[null,null,null,null,null,null,null,null,null,null,null,"",null,{"$f":"IF(L31787=\"\",\"\",IF(M31787<Results!D$12,1,0))","v":""}]
[null,null,null,null,null,null,null,null,null,null,null,"",null,{"$f":"IF(L31807=\"\",\"\",IF(M31807<Results!D$12,1,0))","v":""}]
[null,null,null,null,null,null,null,null,null,null,null,"",null,{"$f":"IF(L31840=\"\",\"\",IF(M31840<Results!D$12,1,0))","v":""}]
[null,null,null,null,null,null,null,null,null,null,null,"",null,{"$f":"IF(L31865=\"\",\"\",IF(M31865<Results!D$12,1,0))","v":""}]
[null,null,null,null,null,null,null,null,null,null,null,"",null,{"$f":"IF(L31879=\"\",\"\",IF(M31879<Results!D$12,1,0))","v":""}]
[null,null,null,null,null,null,null,null,null,null,null,"",null,{"$f":"IF(L31906=\"\",\"\",IF(M31906<Results!D$12,1,0))","v":""}]
[null,null,null,null,null,null,null,null,null,null,null,"",null,{"$f":"IF(L31931=\"\",\"\",IF(M31931<Results!D$12,1,0))","v":""}]
[null,null,null,null,null,null,null,null,null,null,null,"",null,{"$f":"IF(L31964=\"\",\"\",IF(M31964<Results!D$12,1,0))","v":""}]
[null,null,null,null,null,null,null,null,null,null,null,"",null,{"$f":"IF(L31994=\"\",\"\",IF(M31994<Results!D$12,1,0))","v":""}]
[null,null,null,null,null,null,null,null,null,null,null,"",null,{"$f":"IF(L31997=\"\",\"\",IF(M31997<Results!D$12,1,0))","v":""}]
[null,null,null,null,null,null,null,null,null,null,null,"",null,{"$f":"IF(L32030=\"\",\"\",IF(M32030<Results!D$12,1,0))","v":""}]
[null,null,null,null,null,null,null,null,null,null,null,"",null,{"$f":"IF(L32055=\"\",\"\",IF(M32055<Results!D$12,1,0))","v":""}]
[null,null,null,null,null,null,null,null,null,null,null,"",null,{"$f":"IF(L32074=\"\",\"\",IF(M32074<Results!D$12,1,0))","v":""}]
[null,null,null,null,null,null,null,null,null,null,null,"",null,{"$f":"IF(L32096=\"\",\"\",IF(M32096<Results!D$12,1,0))","v":""}]
[null,null,null,null,null,null,null,null,null,null,null,"",null,{"$f":"IF(L32121=\"\",\"\",IF(M32121<Results!D$12,1,0))","v":""}]
[null,null,null,null,null,null,null,null,null,null,null,"",null,{"$f":"IF(L32154=\"\",\"\",IF(M32154<Results!D$12,1,0))","v":""}]
[null,null,null,null,null,null,null,null,null,null,null,"",null,{"$f":"IF(L32166=\"\",\"\",IF(M32166<Results!D$12,1,0))","v":""}]
[null,null,null,null,null,null,null,null,null,null,null,"",null,{"$f":"IF(L32187=\"\",\"\",IF(M32187<Results!D$12,1,0))","v":""}]
[null,null,null,null,null,null,null,null,null,null,null,"",null,{"$f":"IF(L32220=\"\",\"\",IF(M32220<Results!D$12,1,0))","v":""}]
[null,null,null,null,null,null,null,null,null,null,null,"",null,{"$f":"IF(L32245=\"\",\"\",IF(M32245<Results!D$12,1,0))","v":""}]
[null,null,null,null,null,null,null,null,null,null,null,"",null,{"$f":"IF(L32269=\"\",\"\",IF(M32269<Results!D$12,1,0))","v":""}]
[null,null,null,null,null,null,null,null,null,null,null,"",null,{"$f":"IF(L32302=\"\",\"\",IF(M32302<Results!D$12,1,0))","v":""}]
[null,null,null,null,null,null,null,null,null,null,null,"",null,{"$f":"IF(L32311=\"\",\"\",IF(M32311<Results!D$12,1,0))","v":""}]
[null,null,null,null,null,null,null,null,null,null,null,"",null,{"$f":"IF(L32344=\"\",\"\",IF(M32344<Results!D$12,1,0))","v":""}]
[null,null,null,null,null,null,null,null,null,null,null,"",null,{"$f":"IF(L32361=\"\",\"\",IF(M32361<Results!D$12,1,0))","v":""}]
[null,null,null,null,null,null,null,null,null,null,null,"",null,{"$f":"IF(L32377=\"\",\"\",IF(M32377<Results!D$12,1,0))","v":""}]
[null,null,null,null,null,null,null,null,null,null,null,"",null,{"$f":"IF(L32410=\"\",\"\",IF(M32410<Results!D$12,1,0))","v":""}]
[null,null,null,null,null,null,null,null,null,null,null,"",null,{"$f":"IF(L32435=\"\",\"\",IF(M32435<Results!D$12,1,0))","v":""}]
[null,null,null,null,null,null,null,null,null,null,null,"",null,{"$f":"IF(L32464=\"\",\"\",IF(M32464<Results!D$12,1,0))","v":""}]
[null,null,null,null,null,null,null,null,null,null,null,"",null,{"$f":"IF(L32492=\"\",\"\",IF(M32492<Results!D$12,1,0))","v":""}]
[null,null,null,null,null,null,null,null,null,null,null,"",null,{"$f":"IF(L32501=\"\",\"\",IF(M32501<Results!D$12,1,0))","v":""}]
[null,null,null,null,null,null,null,null,null,null,null,"",null,{"$f":"IF(L32534=\"\",\"\",IF(M32534<Results!D$12,1,0))","v":""}]
[null,null,null,null,null,null,null,null,null,null,null,"",null,{"$f":"IF(L32556=\"\",\"\",IF(M32556<Results!D$12,1,0))","v":""}]
[null,null,null,null,null,null,null,null,null,null,null,"",null,{"$f":"IF(L32567=\"\",\"\",IF(M32567<Results!D$12,1,0))","v":""}]
[null,null,null,null,null,null,null,null,null,null,null,"",null,{"$f":"IF(L32600=\"\",\"\",IF(M32600<Results!D$12,1,0))","v":""}]
[null,null,null,null,null,null,null,null,null,null,null,"",null,{"$f":"IF(L32625=\"\",\"\",IF(M32625<Results!D$12,1,0))","v":""}]
[null,null,null,null,null,null,null,null,null,null,null,"",null,{"$f":"IF(L32659=\"\",\"\",IF(M32659<Results!D$12,1,0))","v":""}]
[null,null,null,null,null,null,null,null,null,null,null,"",null,{"$f":"IF(L32682=\"\",\"\",IF(M32682<Results!D$12,1,0))","v":""}]
[null,null,null,null,null,null,null,null,null,null,null,"",null,{"$f":"IF(L32691=\"\",\"\",IF(M32691<Results!D$12,1,0))","v":""}]
[null,null,null,null,null,null,null,null,null,null,null,"",null,{"$f":"IF(L32724=\"\",\"\",IF(M32724<Results!D$12,1,0))","v":""}]
[null,null,null,null,null,null,null,null,null,null,null,"",null,{"$f":"IF(L32751=\"\",\"\",IF(M32751<Results!D$12,1,0))","v":""}]
[null,null,null,null,null,null,null,null,null,null,null,"",null,{"$f":"IF(L32757=\"\",\"\",IF(M32757<Results!D$12,1,0))","v":""}]
[null,null,null,null,null,null,null,null,null,null,null,"",null,{"$f":"IF(L32782=\"\",\"\",IF(M32782<Results!D$12,1,0))","v":""}]
[null,null,null,null,null,null,null,null,null,null,null,"",null,{"$f":"IF(L32815=\"\",\"\",IF(M32815<Results!D$12,1,0))","v":""}]
[null,null,null,null,null,null,null,null,null,null,null,"",null,{"$f":"IF(L32831=\"\",\"\",IF(M32831<Results!D$12,1,0))","v":""}]
[null,null,null,null,null,null,null,null,null,null,null,"",null,{"$f":"IF(L32872=\"\",\"\",IF(M32872<Results!D$12,1,0))","v":""}]
[null,null,null,null,null,null,null,null,null,null,null,"",null,{"$f":"IF(L32881=\"\",\"\",IF(M32881<Results!D$12,1,0))","v":""}]
[null,null,null,null,null,null,null,null,null,null,null,"",null,{"$f":"IF(L32914=\"\",\"\",IF(M32914<Results!D$12,1,0))","v":""}]
[null,null,null,null,null,null,null,null,null,null,null,"",null,{"$f":"IF(L32946=\"\",\"\",IF(M32946<Results!D$12,1,0))","v":""}]
[null,null,null,null,null,null,null,null,null,null,null,"",null,{"$f":"IF(L32947=\"\",\"\",IF(M32947<Results!D$12,1,0))","v":""}]
[null,null,null,null,null,null,null,null,null,null,null,"",null,{"$f":"IF(L32972=\"\",\"\",IF(M32972<Results!D$12,1,0))","v":""}]
[null,null,null,null,null,null,null,null,null,null,null,"",null,{"$f":"IF(L33005=\"\",\"\",IF(M33005<Results!D$12,1,0))","v":""}]
[null,null,null,null,null,null,null,null,null,null,null,"",null,{"$f":"IF(L33026=\"\",\"\",IF(M33026<Results!D$12,1,0))","v":""}]
[null,null,null,null,null,null,null,null,null,null,null,"",null,{"$f":"IF(L33062=\"\",\"\",IF(M33062<Results!D$12,1,0))","v":""}]
[null,null,null,null,null,null,null,null,null,null,null,"",null,{"$f":"IF(L33071=\"\",\"\",IF(M33071<Results!D$12,1,0))","v":""}]
[null,null,null,null,null,null,null,null,null,null,null,"",null,{"$f":"IF(L33104=\"\",\"\",IF(M33104<Results!D$12,1,0))","v":""}]
[null,null,null,null,null,null,null,null,null,null,null,"",null,{"$f":"IF(L33118=\"\",\"\",IF(M33118<Results!D$12,1,0))","v":""}]
[null,null,null,null,null,null,null,null,null,null,null,"",null,{"$f":"IF(L33137=\"\",\"\",IF(M33137<Results!D$12,1,0))","v":""}]
[null,null,null,null,null,null,null,null,null,null,null,"",null,{"$f":"IF(L33162=\"\",\"\",IF(M33162<Results!D$12,1,0))","v":""}]
[null,null,null,null,null,null,null,null,null,null,null,"",null,{"$f":"IF(L33195=\"\",\"\",IF(M33195<Results!D$12,1,0))","v":""}]
[null,null,null,null,null,null,null,null,null,null,null,"",null,{"$f":"IF(L33221=\"\",\"\",IF(M33221<Results!D$12,1,0))","v":""}]
[null,null,null,null,null,null,null,null,null,null,null,"",null,{"$f":"IF(L33252=\"\",\"\",IF(M33252<Results!D$12,1,0))","v":""}]
[null,null,null,null,null,null,null,null,null,null,null,"",null,{"$f":"IF(L33261=\"\",\"\",IF(M33261<Results!D$12,1,0))","v":""}]
[null,null,null,null,null,null,null,null,null,null,null,"",null,{"$f":"IF(L33286=\"\",\"\",IF(M33286<Results!D$12,1,0))","v":""}]
[null,null,null,null,null,null,null,null,null,null,null,"",null,{"$f":"IF(L33313=\"\",\"\",IF(M33313<Results!D$12,1,0))","v":""}]
[null,null,null,null,null,null,null,null,null,null,null,"",null,{"$f":"IF(L33327=\"\",\"\",IF(M33327<Results!D$12,1,0))","v":""}]
[null,null,null,null,null,null,null,null,null,null,null,"",null,{"$f":"IF(L33352=\"\",\"\",IF(M33352<Results!D$12,1,0))","v":""}]
[null,null,null,null,null,null,null,null,null,null,null,"",null,{"$f":"IF(L33385=\"\",\"\",IF(M33385<Results!D$12,1,0))","v":""}]
[null,null,null,null,null,null,null,null,null,null,null,"",null,{"$f":"IF(L33416=\"\",\"\",IF(M33416<Results!D$12,1,0))","v":""}]
[null,null,null,null,null,null,null,null,null,null,null,"",null,{"$f":"IF(L33442=\"\",\"\",IF(M33442<Results!D$12,1,0))","v":""}]
[null,null,null,null,null,null,null,null,null,null,null,"",null,{"$f":"IF(L33451=\"\",\"\",IF(M33451<Results!D$12,1,0))","v":""}]
[null,null,null,null,null,null,null,null,null,null,null,"",null,{"$f":"IF(L33476=\"\",\"\",IF(M33476<Results!D$12,1,0))","v":""}]
[null,null,null,null,null,null,null,null,null,null,null,"",null,{"$f":"IF(L33508=\"\",\"\",IF(M33508<Results!D$12,1,0))","v":""}]
[null,null,null,null,null,null,null,null,null,null,null,"",null,{"$f":"IF(L33517=\"\",\"\",IF(M33517<Results!D$12,1,0))","v":""}]
[null,null,null,null,null,null,null,null,null,null,null,"",null,{"$f":"IF(L33542=\"\",\"\",IF(M33542<Results!D$12,1,0))","v":""}]
[null,null,null,null,null,null,null,null,null,null,null,"",null,{"$f":"IF(L33575=\"\",\"\",IF(M33575<Results!D$12,1,0))","v":""}]
[null,null,null,null,null,null,null,null,null,null,null,"",null,{"$f":"IF(L33600=\"\",\"\",IF(M33600<Results!D$12,1,0))","v":""}]
[null,null,null,null,null,null,null,null,null,null,null,"",null,{"$f":"IF(L33632=\"\",\"\",IF(M33632<Results!D$12,1,0))","v":""}]
[null,null,null,null,null,null,null,null,null,null,null,"",null,{"$f":"IF(L33641=\"\",\"\",IF(M33641<Results!D$12,1,0))","v":""}]
[null,null,null,null,null,null,null,null,null,null,null,"",null,{"$f":"IF(L33666=\"\",\"\",IF(M33666<Results!D$12,1,0))","v":""}]
[null,null,null,null,null,null,null,null,null,null,null,"",null,{"$f":"IF(L33703=\"\",\"\",IF(M33703<Results!D$12,1,0))","v":""}]
[null,null,null,null,null,null,null,null,null,null,null,"",null,{"$f":"IF(L33707=\"\",\"\",IF(M33707<Results!D$12,1,0))","v":""}]
[null,null,null,null,null,null,null,null,null,null,null,"",null,{"$f":"IF(L33732=\"\",\"\",IF(M33732<Results!D$12,1,0))","v":""}]
[null,null,null,null,null,null,null,null,null,null,null,"",null,{"$f":"IF(L33765=\"\",\"\",IF(M33765<Results!D$12,1,0))","v":""}]
[null,null,null,null,null,null,null,null,null,null,null,{"$f":"IF(M33795=\"\",\"\",ROW(L33795)-1)","v":""},null,{"$f":"IF(L33795=\"\",\"\",IF(M33795<Results!D$12,1,0))","v":""}]
[null,null,null,null,null,null,null,null,null,null,null,"",null,{"$f":"IF(L33822=\"\",\"\",IF(M33822<Results!D$12,1,0))","v":""}]
[null,null,null,null,null,null,null,null,null,null,null,"",null,{"$f":"IF(L33831=\"\",\"\",IF(M33831<Results!D$12,1,0))","v":""}]
[null,null,null,null,null,null,null,null,null,null,null,"",null,{"$f":"IF(L33856=\"\",\"\",IF(M33856<Results!D$12,1,0))","v":""}]
[null,null,null,null,null,null,null,null,null,null,null,"",null,{"$f":"IF(L33875=\"\",\"\",IF(M33875<Results!D$12,1,0))","v":""}]
[null,null,null,null,null,null,null,null,null,null,null,"",null,{"$f":"IF(L33897=\"\",\"\",IF(M33897<Results!D$12,1,0))","v":""}]
[null,null,null,null,null,null,null,null,null,null,null,"",null,{"$f":"IF(L33922=\"\",\"\",IF(M33922<Results!D$12,1,0))","v":""}]
[null,null,null,null,null,null,null,null,null,null,null,"",null,{"$f":"IF(L33955=\"\",\"\",IF(M33955<Results!D$12,1,0))","v":""}]
[null,null,null,null,null,null,null,null,null,null,null,"",null,{"$f":"IF(L33990=\"\",\"\",IF(M33990<Results!D$12,1,0))","v":""}]
[null,null,null,null,null,null,null,null,null,null,null,"",null,{"$f":"IF(L34012=\"\",\"\",IF(M34012<Results!D$12,1,0))","v":""}]
[null,null,null,null,null,null,null,null,null,null,null,"",null,{"$f":"IF(L34021=\"\",\"\",IF(M34021<Results!D$12,1,0))","v":""}]
[null,null,null,null,null,null,null,null,null,null,null,"",null,{"$f":"IF(L34046=\"\",\"\",IF(M34046<Results!D$12,1,0))","v":""}]
[null,null,null,null,null,null,null,null,null,null,null,"",null,{"$f":"IF(L34070=\"\",\"\",IF(M34070<Results!D$12,1,0))","v":""}]
[null,null,null,null,null,null,null,null,null,null,null,"",null,{"$f":"IF(L34103=\"\",\"\",IF(M34103<Results!D$12,1,0))","v":""}]
[null,null,null,null,null,null,null,null,null,null,null,"",null,{"$f":"IF(L34112=\"\",\"\",IF(M34112<Results!D$12,1,0))","v":""}]
[null,null,null,null,null,null,null,null,null,null,null,"",null,{"$f":"IF(L34145=\"\",\"\",IF(M34145<Results!D$12,1,0))","v":""}]
[null,null,null,null,null,null,null,null,null,null,null,"",null,{"$f":"IF(L34162=\"\",\"\",IF(M34162<Results!D$12,1,0))","v":""}]
[null,null,null,null,null,null,null,null,null,null,null,"",null,{"$f":"IF(L34202=\"\",\"\",IF(M34202<Results!D$12,1,0))","v":""}]
[null,null,null,null,null,null,null,null,null,null,null,"",null,{"$f":"IF(L34211=\"\",\"\",IF(M34211<Results!D$12,1,0))","v":""}]
[null,null,null,null,null,null,null,null,null,null,null,"",null,{"$f":"IF(L34236=\"\",\"\",IF(M34236<Results!D$12,1,0))","v":""}]
[null,null,null,null,null,null,null,null,null,null,null,"",null,{"$f":"IF(L34265=\"\",\"\",IF(M34265<Results!D$12,1,0))","v":""}]
[null,null,null,null,null,null,null,null,null,null,null,"",null,{"$f":"IF(L34293=\"\",\"\",IF(M34293<Results!D$12,1,0))","v":""}]
[null,null,null,null,null,null,null,null,null,null,null,"",null,{"$f":"IF(L34302=\"\",\"\",IF(M34302<Results!D$12,1,0))","v":""}]
[null,null,null,null,null,null,null,null,null,null,null,"",null,{"$f":"IF(L34335=\"\",\"\",IF(M34335<Results!D$12,1,0))","v":""}]
[null,null,null,null,null,null,null,null,null,null,null,"",null,{"$f":"IF(L34357=\"\",\"\",IF(M34357<Results!D$12,1,0))","v":""}]
[null,null,null,null,null,null,null,null,null,null,null,"",null,{"$f":"IF(L34392=\"\",\"\",IF(M34392<Results!D$12,1,0))","v":""}]
[null,null,null,null,null,null,null,null,null,null,null,"",null,{"$f":"IF(L34417=\"\",\"\",IF(M34417<Results!D$12,1,0))","v":""}]
[null,null,null,null,null,null,null,null,null,null,null,"",null,{"$f":"IF(L34426=\"\",\"\",IF(M34426<Results!D$12,1,0))","v":""}]
[null,null,null,null,null,null,null,null,null,null,null,"",null,{"$f":"IF(L34460=\"\",\"\",IF(M34460<Results!D$12,1,0))","v":""}]
[null,null,null,null,null,null,null,null,null,null,null,"",null,{"$f":"IF(L34483=\"\",\"\",IF(M34483<Results!D$12,1,0))","v":""}]
[null,null,null,null,null,null,null,null,null,null,null,"",null,{"$f":"IF(L34492=\"\",\"\",IF(M34492<Results!D$12,1,0))","v":""}]
[null,null,null,null,null,null,null,null,null,null,null,"",null,{"$f":"IF(L34525=\"\",\"\",IF(M34525<Results!D$12,1,0))","v":""}]
[null,null,null,null,null,null,null,null,null,null,null,"",null,{"$f":"IF(L34552=\"\",\"\",IF(M34552<Results!D$12,1,0))","v":""}]
[null,null,null,null,null,null,null,null,null,null,null,"",null,{"$f":"IF(L34582=\"\",\"\",IF(M34582<Results!D$12,1,0))","v":""}]
[null,null,null,null,null,null,null,null,null,null,null,"",null,{"$f":"IF(L34607=\"\",\"\",IF(M34607<Results!D$12,1,0))","v":""}]
[null,null,null,null,null,null,null,null,null,null,null,"",null,{"$f":"IF(L34616=\"\",\"\",IF(M34616<Results!D$12,1,0))","v":""}]
[null,null,null,null,null,null,null,null,null,null,null,"",null,{"$f":"IF(L34655=\"\",\"\",IF(M34655<Results!D$12,1,0))","v":""}]
[null,null,null,null,null,null,null,null,null,null,null,"",null,{"$f":"IF(L34673=\"\",\"\",IF(M34673<Results!D$12,1,0))","v":""}]
[null,null,null,null,null,null,null,null,null,null,null,"",null,{"$f":"IF(L34682=\"\",\"\",IF(M34682<Results!D$12,1,0))","v":""}]
[null,null,null,null,null,null,null,null,null,null,null,"",null,{"$f":"IF(L34715=\"\",\"\",IF(M34715<Results!D$12,1,0))","v":""}]
[null,null,null,null,null,null,null,null,null,null,null,"",null,{"$f":"IF(L34747=\"\",\"\",IF(M34747<Results!D$12,1,0))","v":""}]
[null,null,null,null,null,null,null,null,null,null,null,"",null,{"$f":"IF(L34772=\"\",\"\",IF(M34772<Results!D$12,1,0))","v":""}]
[null,null,null,null,null,null,null,null,null,null,null,"",null,{"$f":"IF(L34797=\"\",\"\",IF(M34797<Results!D$12,1,0))","v":""}]
[null,null,null,null,null,null,null,null,null,null,null,"",null,{"$f":"IF(L34806=\"\",\"\",IF(M34806<Results!D$12,1,0))","v":""}]
[null,null,null,null,null,null,null,null,null,null,null,"",null,{"$f":"IF(L34827=\"\",\"\",IF(M34827<Results!D$12,1,0))","v":""}]
[null,null,null,null,null,null,null,null,null,null,null,"",null,{"$f":"IF(L34863=\"\",\"\",IF(M34863<Results!D$12,1,0))","v":""}]
[null,null,null,null,null,null,null,null,null,null,null,"",null,{"$f":"IF(L34872=\"\",\"\",IF(M34872<Results!D$12,1,0))","v":""}]
[null,null,null,null,null,null,null,null,null,null,null,"",null,{"$f":"IF(L34897=\"\",\"\",IF(M34897<Results!D$12,1,0))","v":""}]
[null,null,null,null,null,null,null,null,null,null,null,"",null,{"$f":"IF(L34919=\"\",\"\",IF(M34919<Results!D$12,1,0))","v":""}]
[null,null,null,null,null,null,null,null,null,null,null,"",null,{"$f":"IF(L34962=\"\",\"\",IF(M34962<Results!D$12,1,0))","v":""}]
[null,null,null,null,null,null,null,null,null,null,null,"",null,{"$f":"IF(L34987=\"\",\"\",IF(M34987<Results!D$12,1,0))","v":""}]
[null,null,null,null,null,null,null,null,null,null,null,"",null,{"$f":"IF(L34996=\"\",\"\",IF(M34996<Results!D$12,1,0))","v":""}]
[null,null,null,null,null,null,null,null,null,null,null,"",null,{"$f":"IF(L35022=\"\",\"\",IF(M35022<Results!D$12,1,0))","v":""}]
[null,null,null,null,null,null,null,null,null,null,null,"",null,{"$f":"IF(L35053=\"\",\"\",IF(M35053<Results!D$12,1,0))","v":""}]
[null,null,null,null,null,null,null,null,null,null,null,"",null,{"$f":"IF(L35062=\"\",\"\",IF(M35062<Results!D$12,1,0))","v":""}]
[null,null,null,null,null,null,null,null,null,null,null,"",null,{"$f":"IF(L35087=\"\",\"\",IF(M35087<Results!D$12,1,0))","v":""}]
[null,null,null,null,null,null,null,null,null,null,null,"",null,{"$f":"IF(L35114=\"\",\"\",IF(M35114<Results!D$12,1,0))","v":""}]
[null,null,null,null,null,null,null,null,null,null,null,"",null,{"$f":"IF(L35152=\"\",\"\",IF(M35152<Results!D$12,1,0))","v":""}]
[null,null,null,null,null,null,null,null,null,null,null,"",null,{"$f":"IF(L35177=\"\",\"\",IF(M35177<Results!D$12,1,0))","v":""}]
[null,null,null,null,null,null,null,null,null,null,null,"",null,{"$f":"IF(L35186=\"\",\"\",IF(M35186<Results!D$12,1,0))","v":""}]
[null,null,null,null,null,null,null,null,null,null,null,"",null,{"$f":"IF(L35217=\"\",\"\",IF(M35217<Results!D$12,1,0))","v":""}]
[null,null,null,null,null,null,null,null,null,null,null,"",null,{"$f":"IF(L35243=\"\",\"\",IF(M35243<Results!D$12,1,0))","v":""}]
[null,null,null,null,null,null,null,null,null,null,null,"",null,{"$f":"IF(L35252=\"\",\"\",IF(M35252<Results!D$12,1,0))","v":""}]
[null,null,null,null,null,null,null,null,null,null,null,"",null,{"$f":"IF(L35277=\"\",\"\",IF(M35277<Results!D$12,1,0))","v":""}]
[null,null,null,null,null,null,null,null,null,null,null,"",null,{"$f":"IF(L35309=\"\",\"\",IF(M35309<Results!D$12,1,0))","v":""}]
[null,null,null,null,null,null,null,null,null,null,null,"",null,{"$f":"IF(L35342=\"\",\"\",IF(M35342<Results!D$12,1,0))","v":""}]
[null,null,null,null,null,null,null,null,null,null,null,"",null,{"$f":"IF(L35367=\"\",\"\",IF(M35367<Results!D$12,1,0))","v":""}]
[null,null,null,null,null,null,null,null,null,null,null,"",null,{"$f":"IF(L35376=\"\",\"\",IF(M35376<Results!D$12,1,0))","v":""}]
[null,null,null,null,null,null,null,null,null,null,null,"",null,{"$f":"IF(L35401=\"\",\"\",IF(M35401<Results!D$12,1,0))","v":""}]
[null,null,null,null,null,null,null,null,null,null,null,"",null,{"$f":"IF(L35433=\"\",\"\",IF(M35433<Results!D$12,1,0))","v":""}]
[null,null,null,null,null,null,null,null,null,null,null,"",null,{"$f":"IF(L35442=\"\",\"\",IF(M35442<Results!D$12,1,0))","v":""}]
[null,null,null,null,null,null,null,null,null,null,null,"",null,{"$f":"IF(L35467=\"\",\"\",IF(M35467<Results!D$12,1,0))","v":""}]
[null,null,null,null,null,null,null,null,null,null,null,"",null,{"$f":"IF(L35504=\"\",\"\",IF(M35504<Results!D$12,1,0))","v":""}]
[null,null,null,null,null,null,null,null,null,null,null,"",null,{"$f":"IF(L35532=\"\",\"\",IF(M35532<Results!D$12,1,0))","v":""}]
[null,null,null,null,null,null,null,null,null,null,null,"",null,{"$f":"IF(L35557=\"\",\"\",IF(M35557<Results!D$12,1,0))","v":""}]
[null,null,null,null,null,null,null,null,null,null,null,"",null,{"$f":"IF(L35566=\"\",\"\",IF(M35566<Results!D$12,1,0))","v":""}]
[null,null,null,null,null,null,null,null,null,null,null,"",null,{"$f":"IF(L35596=\"\",\"\",IF(M35596<Results!D$12,1,0))","v":""}]
[null,null,null,null,null,null,null,null,null,null,null,"",null,{"$f":"IF(L35623=\"\",\"\",IF(M35623<Results!D$12,1,0))","v":""}]
[null,null,null,null,null,null,null,null,null,null,null,"",null,{"$f":"IF(L35632=\"\",\"\",IF(M35632<Results!D$12,1,0))","v":""}]
[null,null,null,null,null,null,null,null,null,null,null,"",null,{"$f":"IF(L35657=\"\",\"\",IF(M35657<Results!D$12,1,0))","v":""}]
[null,null,null,null,null,null,null,null,null,null,null,"",null,{"$f":"IF(L35699=\"\",\"\",IF(M35699<Results!D$12,1,0))","v":""}]
[null,null,null,null,null,null,null,null,null,null,null,"",null,{"$f":"IF(L35714=\"\",\"\",IF(M35714<Results!D$12,1,0))","v":""}]
[null,null,null,null,null,null,null,null,null,null,null,"",null,{"$f":"IF(L35747=\"\",\"\",IF(M35747<Results!D$12,1,0))","v":""}]
[null,null,null,null,null,null,null,null,null,null,null,"",null,{"$f":"IF(L35756=\"\",\"\",IF(M35756<Results!D$12,1,0))","v":""}]
[null,null,null,null,null,null,null,null,null,null,null,"",null,{"$f":"IF(L35791=\"\",\"\",IF(M35791<Results!D$12,1,0))","v":""}]
[null,null,null,null,null,null,null,null,null,null,null,"",null,{"$f":"IF(L35813=\"\",\"\",IF(M35813<Results!D$12,1,0))","v":""}]
[null,null,null,null,null,null,null,null,null,null,null,"",null,{"$f":"IF(L35822=\"\",\"\",IF(M35822<Results!D$12,1,0))","v":""}]
[null,null,null,null,null,null,null,null,null,null,null,"",null,{"$f":"IF(L35847=\"\",\"\",IF(M35847<Results!D$12,1,0))","v":""}]
[null,null,null,null,null,null,null,null,null,null,null,"",null,{"$f":"IF(L35871=\"\",\"\",IF(M35871<Results!D$12,1,0))","v":""}]
[null,null,null,null,null,null,null,null,null,null,null,"",null,{"$f":"IF(L35904=\"\",\"\",IF(M35904<Results!D$12,1,0))","v":""}]
[null,null,null,null,null,null,null,null,null,null,null,"",null,{"$f":"IF(L35937=\"\",\"\",IF(M35937<Results!D$12,1,0))","v":""}]
[null,null,null,null,null,null,null,null,null,null,null,"",null,{"$f":"IF(L35946=\"\",\"\",IF(M35946<Results!D$12,1,0))","v":""}]
[null,null,null,null,null,null,null,null,null,null,null,"",null,{"$f":"IF(L35986=\"\",\"\",IF(M35986<Results!D$12,1,0))","v":""}]
[null,null,null,null,null,null,null,null,null,null,null,"",null,{"$f":"IF(L36003=\"\",\"\",IF(M36003<Results!D$12,1,0))","v":""}]
[null,null,null,null,null,null,null,null,null,null,null,"",null,{"$f":"IF(L36012=\"\",\"\",IF(M36012<Results!D$12,1,0))","v":""}]
[null,null,null,null,null,null,null,null,null,null,null,"",null,{"$f":"IF(L36037=\"\",\"\",IF(M36037<Results!D$12,1,0))","v":""}]
[null,null,null,null,null,null,null,null,null,null,null,"",null,{"$f":"IF(L36066=\"\",\"\",IF(M36066<Results!D$12,1,0))","v":""}]
[null,null,null,null,null,null,null,null,null,null,null,"",null,{"$f":"IF(L36094=\"\",\"\",IF(M36094<Results!D$12,1,0))","v":""}]
[null,null,null,null,null,null,null,null,null,null,null,"",null,{"$f":"IF(L36127=\"\",\"\",IF(M36127<Results!D$12,1,0))","v":""}]
[null,null,null,null,null,null,null,null,null,null,null,"",null,{"$f":"IF(L36136=\"\",\"\",IF(M36136<Results!D$12,1,0))","v":""}]
[null,null,null,null,null,null,null,null,null,null,null,"",null,{"$f":"IF(L36158=\"\",\"\",IF(M36158<Results!D$12,1,0))","v":""}]
[null,null,null,null,null,null,null,null,null,null,null,"",null,{"$f":"IF(L36193=\"\",\"\",IF(M36193<Results!D$12,1,0))","v":""}]
[null,null,null,null,null,null,null,null,null,null,null,"",null,{"$f":"IF(L36218=\"\",\"\",IF(M36218<Results!D$12,1,0))","v":""}]
[null,null,null,null,null,null,null,null,null,null,null,{"$f":"IF(M36227=\"\",\"\",ROW(L36227)-1)","v":""},null,{"$f":"IF(L36227=\"\",\"\",IF(M36227<Results!D$12,1,0))","v":""}]
[null,null,null,null,null,null,null,null,null,null,null,"",null,{"$f":"IF(L36261=\"\",\"\",IF(M36261<Results!D$12,1,0))","v":""}]
[null,null,null,null,null,null,null,null,null,null,null,"",null,{"$f":"IF(L36284=\"\",\"\",IF(M36284<Results!D$12,1,0))","v":""}]
[null,null,null,null,null,null,null,null,null,null,null,"",null,{"$f":"IF(L36317=\"\",\"\",IF(M36317<Results!D$12,1,0))","v":""}]
[null,null,null,null,null,null,null,null,null,null,null,"",null,{"$f":"IF(L36326=\"\",\"\",IF(M36326<Results!D$12,1,0))","v":""}]
[null,null,null,null,null,null,null,null,null,null,null,"",null,{"$f":"IF(L36353=\"\",\"\",IF(M36353<Results!D$12,1,0))","v":""}]
[null,null,null,null,null,null,null,null,null,null,null,"",null,{"$f":"IF(L36383=\"\",\"\",IF(M36383<Results!D$12,1,0))","v":""}]
[null,null,null,null,null,null,null,null,null,null,null,"",null,{"$f":"IF(L36408=\"\",\"\",IF(M36408<Results!D$12,1,0))","v":""}]
[null,null,null,null,null,null,null,null,null,null,null,"",null,{"$f":"IF(L36417=\"\",\"\",IF(M36417<Results!D$12,1,0))","v":""}]
[null,null,null,null,null,null,null,null,null,null,null,"",null,{"$f":"IF(L36456=\"\",\"\",IF(M36456<Results!D$12,1,0))","v":""}]
[null,null,null,null,null,null,null,null,null,null,null,"",null,{"$f":"IF(L36474=\"\",\"\",IF(M36474<Results!D$12,1,0))","v":""}]
[null,null,null,null,null,null,null,null,null,null,null,"",null,{"$f":"IF(L36507=\"\",\"\",IF(M36507<Results!D$12,1,0))","v":""}]
[null,null,null,null,null,null,null,null,null,null,null,"",null,{"$f":"IF(L36516=\"\",\"\",IF(M36516<Results!D$12,1,0))","v":""}]
[null,null,null,null,null,null,null,null,null,null,null,"",null,{"$f":"IF(L36548=\"\",\"\",IF(M36548<Results!D$12,1,0))","v":""}]
[null,null,null,null,null,null,null,null,null,null,null,"",null,{"$f":"IF(L36573=\"\",\"\",IF(M36573<Results!D$12,1,0))","v":""}]
[null,null,null,null,null,null,null,null,null,null,null,"",null,{"$f":"IF(L36598=\"\",\"\",IF(M36598<Results!D$12,1,0))","v":""}]
[null,null,null,null,null,null,null,null,null,null,null,"",null,{"$f":"IF(L36607=\"\",\"\",IF(M36607<Results!D$12,1,0))","v":""}]
[null,null,null,null,null,null,null,null,null,null,null,"",null,{"$f":"IF(L36651=\"\",\"\",IF(M36651<Results!D$12,1,0))","v":""}]
[null,null,null,null,null,null,null,null,null,null,null,"",null,{"$f":"IF(L36664=\"\",\"\",IF(M36664<Results!D$12,1,0))","v":""}]
[null,null,null,null,null,null,null,null,null,null,null,"",null,{"$f":"IF(L36697=\"\",\"\",IF(M36697<Results!D$12,1,0))","v":""}]
[null,null,null,null,null,null,null,null,null,null,null,"",null,{"$f":"IF(L36722=\"\",\"\",IF(M36722<Results!D$12,1,0))","v":""}]
[null,null,null,null,null,null,null,null,null,null,null,"",null,{"$f":"IF(L36743=\"\",\"\",IF(M36743<Results!D$12,1,0))","v":""}]
[null,null,null,null,null,null,null,null,null,null,null,"",null,{"$f":"IF(L36763=\"\",\"\",IF(M36763<Results!D$12,1,0))","v":""}]
[null,null,null,null,null,null,null,null,null,null,null,"",null,{"$f":"IF(L36788=\"\",\"\",IF(M36788<Results!D$12,1,0))","v":""}]
[null,null,null,null,null,null,null,null,null,null,null,"",null,{"$f":"IF(L36797=\"\",\"\",IF(M36797<Results!D$12,1,0))","v":""}]
[null,null,null,null,null,null,null,null,null,null,null,"",null,{"$f":"IF(L36823=\"\",\"\",IF(M36823<Results!D$12,1,0))","v":""}]
[null,null,null,null,null,null,null,null,null,null,null,"",null,{"$f":"IF(L36854=\"\",\"\",IF(M36854<Results!D$12,1,0))","v":""}]
[null,null,null,null,null,null,null,null,null,null,null,"",null,{"$f":"IF(L36887=\"\",\"\",IF(M36887<Results!D$12,1,0))","v":""}]
[null,null,null,null,null,null,null,null,null,null,null,"",null,{"$f":"IF(L36912=\"\",\"\",IF(M36912<Results!D$12,1,0))","v":""}]
[null,null,null,null,null,null,null,null,null,null,null,"",null,{"$f":"IF(L36915=\"\",\"\",IF(M36915<Results!D$12,1,0))","v":""}]
[null,null,null,null,null,null,null,null,null,null,null,"",null,{"$f":"IF(L36953=\"\",\"\",IF(M36953<Results!D$12,1,0))","v":""}]
[null,null,null,null,null,null,null,null,null,null,null,"",null,{"$f":"IF(L36978=\"\",\"\",IF(M36978<Results!D$12,1,0))","v":""}]
[null,null,null,null,null,null,null,null,null,null,null,"",null,{"$f":"IF(L36987=\"\",\"\",IF(M36987<Results!D$12,1,0))","v":""}]
[null,null,null,null,null,null,null,null,null,null,null,"",null,{"$f":"IF(L37030=\"\",\"\",IF(M37030<Results!D$12,1,0))","v":""}]
[null,null,null,null,null,null,null,null,null,null,null,"",null,{"$f":"IF(L37044=\"\",\"\",IF(M37044<Results!D$12,1,0))","v":""}]
[null,null,null,null,null,null,null,null,null,null,null,"",null,{"$f":"IF(L37077=\"\",\"\",IF(M37077<Results!D$12,1,0))","v":""}]
[null,null,null,null,null,null,null,null,null,null,null,"",null,{"$f":"IF(L37102=\"\",\"\",IF(M37102<Results!D$12,1,0))","v":""}]
[null,null,null,null,null,null,null,null,null,null,null,"",null,{"$f":"IF(L37110=\"\",\"\",IF(M37110<Results!D$12,1,0))","v":""}]
[null,null,null,null,null,null,null,null,null,null,null,"",null,{"$f":"IF(L37143=\"\",\"\",IF(M37143<Results!D$12,1,0))","v":""}]
[null,null,null,null,null,null,null,null,null,null,null,"",null,{"$f":"IF(L37168=\"\",\"\",IF(M37168<Results!D$12,1,0))","v":""}]
[null,null,null,null,null,null,null,null,null,null,null,"",null,{"$f":"IF(L37177=\"\",\"\",IF(M37177<Results!D$12,1,0))","v":""}]
[null,null,null,null,null,null,null,null,null,null,null,"",null,{"$f":"IF(L37202=\"\",\"\",IF(M37202<Results!D$12,1,0))","v":""}]
[null,null,null,null,null,null,null,null,null,null,null,"",null,{"$f":"IF(L37234=\"\",\"\",IF(M37234<Results!D$12,1,0))","v":""}]
[null,null,null,null,null,null,null,null,null,null,null,"",null,{"$f":"IF(L37267=\"\",\"\",IF(M37267<Results!D$12,1,0))","v":""}]
[null,null,null,null,null,null,null,null,null,null,null,"",null,{"$f":"IF(L37292=\"\",\"\",IF(M37292<Results!D$12,1,0))","v":""}]
[null,null,null,null,null,null,null,null,null,null,null,"",null,{"$f":"IF(L37305=\"\",\"\",IF(M37305<Results!D$12,1,0))","v":""}]
[null,null,null,null,null,null,null,null,null,null,null,"",null,{"$f":"IF(L37333=\"\",\"\",IF(M37333<Results!D$12,1,0))","v":""}]
[null,null,null,null,null,null,null,null,null,null,null,"",null,{"$f":"IF(L37358=\"\",\"\",IF(M37358<Results!D$12,1,0))","v":""}]
[null,null,null,null,null,null,null,null,null,null,null,"",null,{"$f":"IF(L37367=\"\",\"\",IF(M37367<Results!D$12,1,0))","v":""}]
[null,null,null,null,null,null,null,null,null,null,null,"",null,{"$f":"IF(L37397=\"\",\"\",IF(M37397<Results!D$12,1,0))","v":""}]
[null,null,null,null,null,null,null,null,null,null,null,"",null,{"$f":"IF(L37424=\"\",\"\",IF(M37424<Results!D$12,1,0))","v":""}]
[null,null,null,null,null,null,null,null,null,null,null,"",null,{"$f":"IF(L37457=\"\",\"\",IF(M37457<Results!D$12,1,0))","v":""}]
[null,null,null,null,null,null,null,null,null,null,null,"",null,{"$f":"IF(L37482=\"\",\"\",IF(M37482<Results!D$12,1,0))","v":""}]
[null,null,null,null,null,null,null,null,null,null,null,"",null,{"$f":"IF(L37500=\"\",\"\",IF(M37500<Results!D$12,1,0))","v":""}]
[null,null,null,null,null,null,null,null,null,null,null,"",null,{"$f":"IF(L37515=\"\",\"\",IF(M37515<Results!D$12,1,0))","v":""}]
[null,null,null,null,null,null,null,null,null,null,null,"",null,{"$f":"IF(L37548=\"\",\"\",IF(M37548<Results!D$12,1,0))","v":""}]
[null,null,null,null,null,null,null,null,null,null,null,"",null,{"$f":"IF(L37557=\"\",\"\",IF(M37557<Results!D$12,1,0))","v":""}]
[null,null,null,null,null,null,null,null,null,null,null,"",null,{"$f":"IF(L37592=\"\",\"\",IF(M37592<Results!D$12,1,0))","v":""}]
[null,null,null,null,null,null,null,null,null,null,null,"",null,{"$f":"IF(L37614=\"\",\"\",IF(M37614<Results!D$12,1,0))","v":""}]
[null,null,null,null,null,null,null,null,null,null,null,"",null,{"$f":"IF(L37647=\"\",\"\",IF(M37647<Results!D$12,1,0))","v":""}]
[null,null,null,null,null,null,null,null,null,null,null,"",null,{"$f":"IF(L37672=\"\",\"\",IF(M37672<Results!D$12,1,0))","v":""}]
[null,null,null,null,null,null,null,null,null,null,null,"",null,{"$f":"IF(L37681=\"\",\"\",IF(M37681<Results!D$12,1,0))","v":""}]
[null,null,null,null,null,null,null,null,null,null,null,"",null,{"$f":"IF(L37707=\"\",\"\",IF(M37707<Results!D$12,1,0))","v":""}]
[null,null,null,null,null,null,null,null,null,null,null,"",null,{"$f":"IF(L37738=\"\",\"\",IF(M37738<Results!D$12,1,0))","v":""}]
[null,null,null,null,null,null,null,null,null,null,null,"",null,{"$f":"IF(L37747=\"\",\"\",IF(M37747<Results!D$12,1,0))","v":""}]
[null,null,null,null,null,null,null,null,null,null,null,"",null,{"$f":"IF(L37772=\"\",\"\",IF(M37772<Results!D$12,1,0))","v":""}]
[null,null,null,null,null,null,null,null,null,null,null,"",null,{"$f":"IF(L37810=\"\",\"\",IF(M37810<Results!D$12,1,0))","v":""}]
[null,null,null,null,null,null,null,null,null,null,null,"",null,{"$f":"IF(L37829=\"\",\"\",IF(M37829<Results!D$12,1,0))","v":""}]
[null,null,null,null,null,null,null,null,null,null,null,"",null,{"$f":"IF(L37862=\"\",\"\",IF(M37862<Results!D$12,1,0))","v":""}]
[null,null,null,null,null,null,null,null,null,null,null,"",null,{"$f":"IF(L37871=\"\",\"\",IF(M37871<Results!D$12,1,0))","v":""}]
[null,null,null,null,null,null,null,null,null,null,null,"",null,{"$f":"IF(L37902=\"\",\"\",IF(M37902<Results!D$12,1,0))","v":""}]
[null,null,null,null,null,null,null,null,null,null,null,"",null,{"$f":"IF(L37928=\"\",\"\",IF(M37928<Results!D$12,1,0))","v":""}]
[null,null,null,null,null,null,null,null,null,null,null,"",null,{"$f":"IF(L37937=\"\",\"\",IF(M37937<Results!D$12,1,0))","v":""}]
[null,null,null,null,null,null,null,null,null,null,null,"",null,{"$f":"IF(L37962=\"\",\"\",IF(M37962<Results!D$12,1,0))","v":""}]
[null,null,null,null,null,null,null,null,null,null,null,"",null,{"$f":"IF(L38005=\"\",\"\",IF(M38005<Results!D$12,1,0))","v":""}]
[null,null,null,null,null,null,null,null,null,null,null,{"$f":"IF(M38019=\"\",\"\",ROW(L38019)-1)","v":""},null,{"$f":"IF(L38019=\"\",\"\",IF(M38019<Results!D$12,1,0))","v":""}]
[null,null,null,null,null,null,null,null,null,null,null,"",null,{"$f":"IF(L38052=\"\",\"\",IF(M38052<Results!D$12,1,0))","v":""}]
[null,null,null,null,null,null,null,null,null,null,null,"",null,{"$f":"IF(L38061=\"\",\"\",IF(M38061<Results!D$12,1,0))","v":""}]
[null,null,null,null,null,null,null,null,null,null,null,"",null,{"$f":"IF(L38097=\"\",\"\",IF(M38097<Results!D$12,1,0))","v":""}]
[null,null,null,null,null,null,null,null,null,null,null,"",null,{"$f":"IF(L38118=\"\",\"\",IF(M38118<Results!D$12,1,0))","v":""}]
[null,null,null,null,null,null,null,null,null,null,null,"",null,{"$f":"IF(L38127=\"\",\"\",IF(M38127<Results!D$12,1,0))","v":""}]
[null,null,null,null,null,null,null,null,null,null,null,"",null,{"$f":"IF(L38152=\"\",\"\",IF(M38152<Results!D$12,1,0))","v":""}]
[null,null,null,null,null,null,null,null,null,null,null,"",null,{"$f":"IF(L38177=\"\",\"\",IF(M38177<Results!D$12,1,0))","v":""}]
[null,null,null,null,null,null,null,null,null,null,null,"",null,{"$f":"IF(L38209=\"\",\"\",IF(M38209<Results!D$12,1,0))","v":""}]
[null,null,null,null,null,null,null,null,null,null,null,"",null,{"$f":"IF(L38242=\"\",\"\",IF(M38242<Results!D$12,1,0))","v":""}]
[null,null,null,null,null,null,null,null,null,null,null,"",null,{"$f":"IF(L38251=\"\",\"\",IF(M38251<Results!D$12,1,0))","v":""}]
[null,null,null,null,null,null,null,null,null,null,null,"",null,{"$f":"IF(L38269=\"\",\"\",IF(M38269<Results!D$12,1,0))","v":""}]
[null,null,null,null,null,null,null,null,null,null,null,"",null,{"$f":"IF(L38308=\"\",\"\",IF(M38308<Results!D$12,1,0))","v":""}]
[null,null,null,null,null,null,null,null,null,null,null,"",null,{"$f":"IF(L38333=\"\",\"\",IF(M38333<Results!D$12,1,0))","v":""}]
[null,null,null,null,null,null,null,null,null,null,null,"",null,{"$f":"IF(L38342=\"\",\"\",IF(M38342<Results!D$12,1,0))","v":""}]
[null,null,null,null,null,null,null,null,null,null,null,"",null,{"$f":"IF(L38372=\"\",\"\",IF(M38372<Results!D$12,1,0))","v":""}]
[null,null,null,null,null,null,null,null,null,null,null,"",null,{"$f":"IF(L38399=\"\",\"\",IF(M38399<Results!D$12,1,0))","v":""}]
[null,null,null,null,null,null,null,null,null,null,null,"",null,{"$f":"IF(L38432=\"\",\"\",IF(M38432<Results!D$12,1,0))","v":""}]
[null,null,null,null,null,null,null,null,null,null,null,"",null,{"$f":"IF(L38441=\"\",\"\",IF(M38441<Results!D$12,1,0))","v":""}]
[null,null,null,null,null,null,null,null,null,null,null,"",null,{"$f":"IF(L38464=\"\",\"\",IF(M38464<Results!D$12,1,0))","v":""}]
[null,null,null,null,null,null,null,null,null,null,null,"",null,{"$f":"IF(L38498=\"\",\"\",IF(M38498<Results!D$12,1,0))","v":""}]
[null,null,null,null,null,null,null,null,null,null,null,"",null,{"$f":"IF(L38523=\"\",\"\",IF(M38523<Results!D$12,1,0))","v":""}]
[null,null,null,null,null,null,null,null,null,null,null,"",null,{"$f":"IF(L38532=\"\",\"\",IF(M38532<Results!D$12,1,0))","v":""}]
[null,null,null,null,null,null,null,null,null,null,null,"",null,{"$f":"IF(L38567=\"\",\"\",IF(M38567<Results!D$12,1,0))","v":""}]
[null,null,null,null,null,null,null,null,null,null,null,"",null,{"$f":"IF(L38589=\"\",\"\",IF(M38589<Results!D$12,1,0))","v":""}]
[null,null,null,null,null,null,null,null,null,null,null,"",null,{"$f":"IF(L38622=\"\",\"\",IF(M38622<Results!D$12,1,0))","v":""}]
[null,null,null,null,null,null,null,null,null,null,null,"",null,{"$f":"IF(L38631=\"\",\"\",IF(M38631<Results!D$12,1,0))","v":""}]
[null,null,null,null,null,null,null,null,null,null,null,{"$f":"IF(M38659=\"\",\"\",ROW(L38659)-1)","v":""},null,{"$f":"IF(L38659=\"\",\"\",IF(M38659<Results!D$12,1,0))","v":""}]
[null,null,null,null,null,null,null,null,null,null,null,"",null,{"$f":"IF(L38688=\"\",\"\",IF(M38688<Results!D$12,1,0))","v":""}]
[null,null,null,null,null,null,null,null,null,null,null,"",null,{"$f":"IF(L38713=\"\",\"\",IF(M38713<Results!D$12,1,0))","v":""}]
[null,null,null,null,null,null,null,null,null,null,null,"",null,{"$f":"IF(L38722=\"\",\"\",IF(M38722<Results!D$12,1,0))","v":""}]
[null,null,null,null,null,null,null,null,null,null,null,"",null,{"$f":"IF(L38762=\"\",\"\",IF(M38762<Results!D$12,1,0))","v":""}]
[null,null,null,null,null,null,null,null,null,null,null,"",null,{"$f":"IF(L38779=\"\",\"\",IF(M38779<Results!D$12,1,0))","v":""}]
[null,null,null,null,null,null,null,null,null,null,null,"",null,{"$f":"IF(L38812=\"\",\"\",IF(M38812<Results!D$12,1,0))","v":""}]
[null,null,null,null,null,null,null,null,null,null,null,"",null,{"$f":"IF(L38837=\"\",\"\",IF(M38837<Results!D$12,1,0))","v":""}]
[null,null,null,null,null,null,null,null,null,null,null,"",null,{"$f":"IF(L38854=\"\",\"\",IF(M38854<Results!D$12,1,0))","v":""}]
[null,null,null,null,null,null,null,null,null,null,null,"",null,{"$f":"IF(L38878=\"\",\"\",IF(M38878<Results!D$12,1,0))","v":""}]
[null,null,null,null,null,null,null,null,null,null,null,"",null,{"$f":"IF(L38903=\"\",\"\",IF(M38903<Results!D$12,1,0))","v":""}]
[null,null,null,null,null,null,null,null,null,null,null,"",null,{"$f":"IF(L38912=\"\",\"\",IF(M38912<Results!D$12,1,0))","v":""}]
[null,null,null,null,null,null,null,null,null,null,null,"",null,{"$f":"IF(L38934=\"\",\"\",IF(M38934<Results!D$12,1,0))","v":""}]
[null,null,null,null,null,null,null,null,null,null,null,"",null,{"$f":"IF(L38969=\"\",\"\",IF(M38969<Results!D$12,1,0))","v":""}]
[null,null,null,null,null,null,null,null,null,null,null,"",null,{"$f":"IF(L39002=\"\",\"\",IF(M39002<Results!D$12,1,0))","v":""}]
[null,null,null,null,null,null,null,null,null,null,null,"",null,{"$f":"IF(L39027=\"\",\"\",IF(M39027<Results!D$12,1,0))","v":""}]
[null,null,null,null,null,null,null,null,null,null,null,"",null,{"$f":"IF(L39049=\"\",\"\",IF(M39049<Results!D$12,1,0))","v":""}]
[null,null,null,null,null,null,null,null,null,null,null,"",null,{"$f":"IF(L39068=\"\",\"\",IF(M39068<Results!D$12,1,0))","v":""}]
[null,null,null,null,null,null,null,null,null,null,null,"",null,{"$f":"IF(L39093=\"\",\"\",IF(M39093<Results!D$12,1,0))","v":""}]
[null,null,null,null,null,null,null,null,null,null,null,"",null,{"$f":"IF(L39102=\"\",\"\",IF(M39102<Results!D$12,1,0))","v":""}]
[null,null,null,null,null,null,null,null,null,null,null,"",null,{"$f":"IF(L39141=\"\",\"\",IF(M39141<Results!D$12,1,0))","v":""}]
[null,null,null,null,null,null,null,null,null,null,null,"",null,{"$f":"IF(L39159=\"\",\"\",IF(M39159<Results!D$12,1,0))","v":""}]
[null,null,null,null,null,null,null,null,null,null,null,"",null,{"$f":"IF(L39192=\"\",\"\",IF(M39192<Results!D$12,1,0))","v":""}]
[null,null,null,null,null,null,null,null,null,null,null,"",null,{"$f":"IF(L39217=\"\",\"\",IF(M39217<Results!D$12,1,0))","v":""}]
[null,null,null,null,null,null,null,null,null,null,null,"",null,{"$f":"IF(L39221=\"\",\"\",IF(M39221<Results!D$12,1,0))","v":""}]
[null,null,null,null,null,null,null,null,null,null,null,"",null,{"$f":"IF(L39258=\"\",\"\",IF(M39258<Results!D$12,1,0))","v":""}]
[null,null,null,null,null,null,null,null,null,null,null,"",null,{"$f":"IF(L39283=\"\",\"\",IF(M39283<Results!D$12,1,0))","v":""}]
[null,null,null,null,null,null,null,null,null,null,null,"",null,{"$f":"IF(L39292=\"\",\"\",IF(M39292<Results!D$12,1,0))","v":""}]
[null,null,null,null,null,null,null,null,null,null,null,"",null,{"$f":"IF(L39313=\"\",\"\",IF(M39313<Results!D$12,1,0))","v":""}]
[null,null,null,null,null,null,null,null,null,null,null,"",null,{"$f":"IF(L39349=\"\",\"\",IF(M39349<Results!D$12,1,0))","v":""}]
[null,null,null,null,null,null,null,null,null,null,null,"",null,{"$f":"IF(L39382=\"\",\"\",IF(M39382<Results!D$12,1,0))","v":""}]
[null,null,null,null,null,null,null,null,null,null,null,"",null,{"$f":"IF(L39407=\"\",\"\",IF(M39407<Results!D$12,1,0))","v":""}]
[null,null,null,null,null,null,null,null,null,null,null,"",null,{"$f":"IF(L39416=\"\",\"\",IF(M39416<Results!D$12,1,0))","v":""}]
[null,null,null,null,null,null,null,null,null,null,null,"",null,{"$f":"IF(L39448=\"\",\"\",IF(M39448<Results!D$12,1,0))","v":""}]
[null,null,null,null,null,null,null,null,null,null,null,"",null,{"$f":"IF(L39473=\"\",\"\",IF(M39473<Results!D$12,1,0))","v":""}]
[null,null,null,null,null,null,null,null,null,null,null,"",null,{"$f":"IF(L39482=\"\",\"\",IF(M39482<Results!D$12,1,0))","v":""}]
[null,null,null,null,null,null,null,null,null,null,null,"",null,{"$f":"IF(L39508=\"\",\"\",IF(M39508<Results!D$12,1,0))","v":""}]
[null,null,null,null,null,null,null,null,null,null,null,"",null,{"$f":"IF(L39539=\"\",\"\",IF(M39539<Results!D$12,1,0))","v":""}]
[null,null,null,null,null,null,null,null,null,null,null,"",null,{"$f":"IF(L39572=\"\",\"\",IF(M39572<Results!D$12,1,0))","v":""}]
[null,null,null,null,null,null,null,null,null,null,null,"",null,{"$f":"IF(L39597=\"\",\"\",IF(M39597<Results!D$12,1,0))","v":""}]
[null,null,null,null,null,null,null,null,null,null,null,"",null,{"$f":"IF(L39611=\"\",\"\",IF(M39611<Results!D$12,1,0))","v":""}]
[null,null,null,null,null,null,null,null,null,null,null,"",null,{"$f":"IF(L39630=\"\",\"\",IF(M39630<Results!D$12,1,0))","v":""}]
[null,null,null,null,null,null,null,null,null,null,null,"",null,{"$f":"IF(L39663=\"\",\"\",IF(M39663<Results!D$12,1,0))","v":""}]
[null,null,null,null,null,null,null,null,null,null,null,"",null,{"$f":"IF(L39672=\"\",\"\",IF(M39672<Results!D$12,1,0))","v":""}]
[null,null,null,null,null,null,null,null,null,null,null,"",null,{"$f":"IF(L39703=\"\",\"\",IF(M39703<Results!D$12,1,0))","v":""}]
[null,null,null,null,null,null,null,null,null,null,null,"",null,{"$f":"IF(L39729=\"\",\"\",IF(M39729<Results!D$12,1,0))","v":""}]
[null,null,null,null,null,null,null,null,null,null,null,"",null,{"$f":"IF(L39762=\"\",\"\",IF(M39762<Results!D$12,1,0))","v":""}]
[null,null,null,null,null,null,null,null,null,null,null,"",null,{"$f":"IF(L39787=\"\",\"\",IF(M39787<Results!D$12,1,0))","v":""}]
[null,null,null,null,null,null,null,null,null,null,null,"",null,{"$f":"IF(L39806=\"\",\"\",IF(M39806<Results!D$12,1,0))","v":""}]
[null,null,null,null,null,null,null,null,null,null,null,"",null,{"$f":"IF(L39820=\"\",\"\",IF(M39820<Results!D$12,1,0))","v":""}]
[null,null,null,null,null,null,null,null,null,null,null,"",null,{"$f":"IF(L39853=\"\",\"\",IF(M39853<Results!D$12,1,0))","v":""}]
[null,null,null,null,null,null,null,null,null,null,null,"",null,{"$f":"IF(L39862=\"\",\"\",IF(M39862<Results!D$12,1,0))","v":""}]
[null,null,null,null,null,null,null,null,null,null,null,"",null,{"$f":"IF(L39898=\"\",\"\",IF(M39898<Results!D$12,1,0))","v":""}]
[null,null,null,null,null,null,null,null,null,null,null,"",null,{"$f":"IF(L39919=\"\",\"\",IF(M39919<Results!D$12,1,0))","v":""}]
[null,null,null,null,null,null,null,null,null,null,null,"",null,{"$f":"IF(L39952=\"\",\"\",IF(M39952<Results!D$12,1,0))","v":""}]
[null,null,null,null,null,null,null,null,null,null,null,"",null,{"$f":"IF(L39977=\"\",\"\",IF(M39977<Results!D$12,1,0))","v":""}]
[null,null,null,null,null,null,null,null,null,null,null,"",null,{"$f":"IF(L39978=\"\",\"\",IF(M39978<Results!D$12,1,0))","v":""}]
[null,null,null,null,null,null,null,null,null,null,null,"",null,{"$f":"IF(L40010=\"\",\"\",IF(M40010<Results!D$12,1,0))","v":""}]
[null,null,null,null,null,null,null,null,null,null,null,"",null,{"$f":"IF(L40043=\"\",\"\",IF(M40043<Results!D$12,1,0))","v":""}]
[null,null,null,null,null,null,null,null,null,null,null,"",null,{"$f":"IF(L40052=\"\",\"\",IF(M40052<Results!D$12,1,0))","v":""}]
[null,null,null,null,null,null,null,null,null,null,null,"",null,{"$f":"IF(L40093=\"\",\"\",IF(M40093<Results!D$12,1,0))","v":""}]
[null,null,null,null,null,null,null,null,null,null,null,"",null,{"$f":"IF(L40109=\"\",\"\",IF(M40109<Results!D$12,1,0))","v":""}]
[null,null,null,null,null,null,null,null,null,null,null,"",null,{"$f":"IF(L40134=\"\",\"\",IF(M40134<Results!D$12,1,0))","v":""}]
[null,null,null,null,null,null,null,null,null,null,null,"",null,{"$f":"IF(L40167=\"\",\"\",IF(M40167<Results!D$12,1,0))","v":""}]
[null,null,null,null,null,null,null,null,null,null,null,"",null,{"$f":"IF(L40173=\"\",\"\",IF(M40173<Results!D$12,1,0))","v":""}]
[null,null,null,null,null,null,null,null,null,null,null,"",null,{"$f":"IF(L40200=\"\",\"\",IF(M40200<Results!D$12,1,0))","v":""}]
[null,null,null,null,null,null,null,null,null,null,null,"",null,{"$f":"IF(L40233=\"\",\"\",IF(M40233<Results!D$12,1,0))","v":""}]
[null,null,null,null,null,null,null,null,null,null,null,"",null,{"$f":"IF(L40242=\"\",\"\",IF(M40242<Results!D$12,1,0))","v":""}]
[null,null,null,null,null,null,null,null,null,null,null,"",null,{"$f":"IF(L40265=\"\",\"\",IF(M40265<Results!D$12,1,0))","v":""}]
[null,null,null,null,null,null,null,null,null,null,null,"",null,{"$f":"IF(L40299=\"\",\"\",IF(M40299<Results!D$12,1,0))","v":""}]
[null,null,null,null,null,null,null,null,null,null,null,"",null,{"$f":"IF(L40324=\"\",\"\",IF(M40324<Results!D$12,1,0))","v":""}]
[null,null,null,null,null,null,null,null,null,null,null,"",null,{"$f":"IF(L40357=\"\",\"\",IF(M40357<Results!D$12,1,0))","v":""}]
[null,null,null,null,null,null,null,null,null,null,null,"",null,{"$f":"IF(L40368=\"\",\"\",IF(M40368<Results!D$12,1,0))","v":""}]
[null,null,null,null,null,null,null,null,null,null,null,"",null,{"$f":"IF(L40390=\"\",\"\",IF(M40390<Results!D$12,1,0))","v":""}]
[null,null,null,null,null,null,null,null,null,null,null,"",null,{"$f":"IF(L40423=\"\",\"\",IF(M40423<Results!D$12,1,0))","v":""}]
[null,null,null,null,null,null,null,null,null,null,null,"",null,{"$f":"IF(L40448=\"\",\"\",IF(M40448<Results!D$12,1,0))","v":""}]
[null,null,null,null,null,null,null,null,null,null,null,"",null,{"$f":"IF(L40460=\"\",\"\",IF(M40460<Results!D$12,1,0))","v":""}]
[null,null,null,null,null,null,null,null,null,null,null,"",null,{"$f":"IF(L40489=\"\",\"\",IF(M40489<Results!D$12,1,0))","v":""}]
[null,null,null,null,null,null,null,null,null,null,null,"",null,{"$f":"IF(L40514=\"\",\"\",IF(M40514<Results!D$12,1,0))","v":""}]
[null,null,null,null,null,null,null,null,null,null,null,"",null,{"$f":"IF(L40547=\"\",\"\",IF(M40547<Results!D$12,1,0))","v":""}]
[null,null,null,null,null,null,null,null,null,null,null,"",null,{"$f":"IF(L40563=\"\",\"\",IF(M40563<Results!D$12,1,0))","v":""}]
[null,null,null,null,null,null,null,null,null,null,null,"",null,{"$f":"IF(L40580=\"\",\"\",IF(M40580<Results!D$12,1,0))","v":""}]
[null,null,null,null,null,null,null,null,null,null,null,"",null,{"$f":"IF(L40613=\"\",\"\",IF(M40613<Results!D$12,1,0))","v":""}]
[null,null,null,null,null,null,null,null,null,null,null,"",null,{"$f":"IF(L40638=\"\",\"\",IF(M40638<Results!D$12,1,0))","v":""}]
[null,null,null,null,null,null,null,null,null,null,null,"",null,{"$f":"IF(L40655=\"\",\"\",IF(M40655<Results!D$12,1,0))","v":""}]
[null,null,null,null,null,null,null,null,null,null,null,"",null,{"$f":"IF(L40679=\"\",\"\",IF(M40679<Results!D$12,1,0))","v":""}]
[null,null,null,null,null,null,null,null,null,null,null,"",null,{"$f":"IF(L40704=\"\",\"\",IF(M40704<Results!D$12,1,0))","v":""}]
[null,null,null,null,null,null,null,null,null,null,null,"",null,{"$f":"IF(L40737=\"\",\"\",IF(M40737<Results!D$12,1,0))","v":""}]
[null,null,null,null,null,null,null,null,null,null,null,"",null,{"$f":"IF(L40758=\"\",\"\",IF(M40758<Results!D$12,1,0))","v":""}]
[null,null,null,null,null,null,null,null,null,null,null,"",null,{"$f":"IF(L40770=\"\",\"\",IF(M40770<Results!D$12,1,0))","v":""}]
[null,null,null,null,null,null,null,null,null,null,null,"",null,{"$f":"IF(L40803=\"\",\"\",IF(M40803<Results!D$12,1,0))","v":""}]
[null,null,null,null,null,null,null,null,null,null,null,"",null,{"$f":"IF(L40828=\"\",\"\",IF(M40828<Results!D$12,1,0))","v":""}]
[null,null,null,null,null,null,null,null,null,null,null,"",null,{"$f":"IF(L40850=\"\",\"\",IF(M40850<Results!D$12,1,0))","v":""}]
[null,null,null,null,null,null,null,null,null,null,null,"",null,{"$f":"IF(L40869=\"\",\"\",IF(M40869<Results!D$12,1,0))","v":""}]
[null,null,null,null,null,null,null,null,null,null,null,"",null,{"$f":"IF(L40894=\"\",\"\",IF(M40894<Results!D$12,1,0))","v":""}]
[null,null,null,null,null,null,null,null,null,null,null,"",null,{"$f":"IF(L40927=\"\",\"\",IF(M40927<Results!D$12,1,0))","v":""}]
[null,null,null,null,null,null,null,null,null,null,null,"",null,{"$f":"IF(L40942=\"\",\"\",IF(M40942<Results!D$12,1,0))","v":""}]
[null,null,null,null,null,null,null,null,null,null,null,"",null,{"$f":"IF(L40960=\"\",\"\",IF(M40960<Results!D$12,1,0))","v":""}]
[null,null,null,null,null,null,null,null,null,null,null,"",null,{"$f":"IF(L40993=\"\",\"\",IF(M40993<Results!D$12,1,0))","v":""}]
[null,null,null,null,null,null,null,null,null,null,null,"",null,{"$f":"IF(L41018=\"\",\"\",IF(M41018<Results!D$12,1,0))","v":""}]
[null,null,null,null,null,null,null,null,null,null,null,"",null,{"$f":"IF(L41045=\"\",\"\",IF(M41045<Results!D$12,1,0))","v":""}]
[null,null,null,null,null,null,null,null,null,null,null,"",null,{"$f":"IF(L41059=\"\",\"\",IF(M41059<Results!D$12,1,0))","v":""}]
[null,null,null,null,null,null,null,null,null,null,null,"",null,{"$f":"IF(L41084=\"\",\"\",IF(M41084<Results!D$12,1,0))","v":""}]
[null,null,null,null,null,null,null,null,null,null,null,"",null,{"$f":"IF(L41117=\"\",\"\",IF(M41117<Results!D$12,1,0))","v":""}]
[null,null,null,null,null,null,null,null,null,null,null,"",null,{"$f":"IF(L41137=\"\",\"\",IF(M41137<Results!D$12,1,0))","v":""}]
[null,null,null,null,null,null,null,null,null,null,null,"",null,{"$f":"IF(L41150=\"\",\"\",IF(M41150<Results!D$12,1,0))","v":""}]
[null,null,null,null,null,null,null,null,null,null,null,"",null,{"$f":"IF(L41183=\"\",\"\",IF(M41183<Results!D$12,1,0))","v":""}]
[null,null,null,null,null,null,null,null,null,null,null,"",null,{"$f":"IF(L41208=\"\",\"\",IF(M41208<Results!D$12,1,0))","v":""}]
[null,null,null,null,null,null,null,null,null,null,null,"",null,{"$f":"IF(L41217=\"\",\"\",IF(M41217<Results!D$12,1,0))","v":""}]
[null,null,null,null,null,null,null,null,null,null,null,"",null,{"$f":"IF(L41241=\"\",\"\",IF(M41241<Results!D$12,1,0))","v":""}]
[null,null,null,null,null,null,null,null,null,null,null,"",null,{"$f":"IF(L41274=\"\",\"\",IF(M41274<Results!D$12,1,0))","v":""}]
[null,null,null,null,null,null,null,null,null,null,null,"",null,{"$f":"IF(L41307=\"\",\"\",IF(M41307<Results!D$12,1,0))","v":""}]
[null,null,null,null,null,null,null,null,null,null,null,"",null,{"$f":"IF(L41309=\"\",\"\",IF(M41309<Results!D$12,1,0))","v":""}]
[null,null,null,null,null,null,null,null,null,null,null,"",null,{"$f":"IF(L41340=\"\",\"\",IF(M41340<Results!D$12,1,0))","v":""}]
[null,null,null,null,null,null,null,null,null,null,null,"",null,{"$f":"IF(L41373=\"\",\"\",IF(M41373<Results!D$12,1,0))","v":""}]
[null,null,null,null,null,null,null,null,null,null,null,"",null,{"$f":"IF(L41398=\"\",\"\",IF(M41398<Results!D$12,1,0))","v":""}]
[null,null,null,null,null,null,null,null,null,null,null,"",null,{"$f":"IF(L41412=\"\",\"\",IF(M41412<Results!D$12,1,0))","v":""}]
[null,null,null,null,null,null,null,null,null,null,null,"",null,{"$f":"IF(L41431=\"\",\"\",IF(M41431<Results!D$12,1,0))","v":""}]
[null,null,null,null,null,null,null,null,null,null,null,"",null,{"$f":"IF(L41464=\"\",\"\",IF(M41464<Results!D$12,1,0))","v":""}]
[null,null,null,null,null,null,null,null,null,null,null,"",null,{"$f":"IF(L41497=\"\",\"\",IF(M41497<Results!D$12,1,0))","v":""}]
[null,null,null,null,null,null,null,null,null,null,null,"",null,{"$f":"IF(L41504=\"\",\"\",IF(M41504<Results!D$12,1,0))","v":""}]
[null,null,null,null,null,null,null,null,null,null,null,"",null,{"$f":"IF(L41530=\"\",\"\",IF(M41530<Results!D$12,1,0))","v":""}]
[null,null,null,null,null,null,null,null,null,null,null,"",null,{"$f":"IF(L41563=\"\",\"\",IF(M41563<Results!D$12,1,0))","v":""}]
[null,null,null,null,null,null,null,null,null,null,null,"",null,{"$f":"IF(L41588=\"\",\"\",IF(M41588<Results!D$12,1,0))","v":""}]
[null,null,null,null,null,null,null,null,null,null,null,"",null,{"$f":"IF(L41607=\"\",\"\",IF(M41607<Results!D$12,1,0))","v":""}]
[null,null,null,null,null,null,null,null,null,null,null,"",null,{"$f":"IF(L41621=\"\",\"\",IF(M41621<Results!D$12,1,0))","v":""}]
[null,null,null,null,null,null,null,null,null,null,null,"",null,{"$f":"IF(L41654=\"\",\"\",IF(M41654<Results!D$12,1,0))","v":""}]
[null,null,null,null,null,null,null,null,null,null,null,"",null,{"$f":"IF(L41687=\"\",\"\",IF(M41687<Results!D$12,1,0))","v":""}]
[null,null,null,null,null,null,null,null,null,null,null,"",null,{"$f":"IF(L41699=\"\",\"\",IF(M41699<Results!D$12,1,0))","v":""}]
[null,null,null,null,null,null,null,null,null,null,null,"",null,{"$f":"IF(L41720=\"\",\"\",IF(M41720<Results!D$12,1,0))","v":""}]
[null,null,null,null,null,null,null,null,null,null,null,"",null,{"$f":"IF(L41745=\"\",\"\",IF(M41745<Results!D$12,1,0))","v":""}]
[null,null,null,null,null,null,null,null,null,null,null,"",null,{"$f":"IF(L41778=\"\",\"\",IF(M41778<Results!D$12,1,0))","v":""}]
[null,null,null,null,null,null,null,null,null,null,null,"",null,{"$f":"IF(L41802=\"\",\"\",IF(M41802<Results!D$12,1,0))","v":""}]
[null,null,null,null,null,null,null,null,null,null,null,"",null,{"$f":"IF(L41811=\"\",\"\",IF(M41811<Results!D$12,1,0))","v":""}]
[null,null,null,null,null,null,null,null,null,null,null,"",null,{"$f":"IF(L41844=\"\",\"\",IF(M41844<Results!D$12,1,0))","v":""}]
[null,null,null,null,null,null,null,null,null,null,null,"",null,{"$f":"IF(L41877=\"\",\"\",IF(M41877<Results!D$12,1,0))","v":""}]
[null,null,null,null,null,null,null,null,null,null,null,"",null,{"$f":"IF(L41894=\"\",\"\",IF(M41894<Results!D$12,1,0))","v":""}]
[null,null,null,null,null,null,null,null,null,null,null,"",null,{"$f":"IF(L41910=\"\",\"\",IF(M41910<Results!D$12,1,0))","v":""}]
[null,null,null,null,null,null,null,null,null,null,null,"",null,{"$f":"IF(L41935=\"\",\"\",IF(M41935<Results!D$12,1,0))","v":""}]
[null,null,null,null,null,null,null,null,null,null,null,"",null,{"$f":"IF(L41968=\"\",\"\",IF(M41968<Results!D$12,1,0))","v":""}]
[null,null,null,null,null,null,null,null,null,null,null,"",null,{"$f":"IF(L41974=\"\",\"\",IF(M41974<Results!D$12,1,0))","v":""}]
[null,null,null,null,null,null,null,null,null,null,null,"",null,{"$f":"IF(L42001=\"\",\"\",IF(M42001<Results!D$12,1,0))","v":""}]
[null,null,null,null,null,null,null,null,null,null,null,"",null,{"$f":"IF(L42034=\"\",\"\",IF(M42034<Results!D$12,1,0))","v":""}]
[null,null,null,null,null,null,null,null,null,null,null,"",null,{"$f":"IF(L42067=\"\",\"\",IF(M42067<Results!D$12,1,0))","v":""}]
[null,null,null,null,null,null,null,null,null,null,null,"",null,{"$f":"IF(L42089=\"\",\"\",IF(M42089<Results!D$12,1,0))","v":""}]
[null,null,null,null,null,null,null,null,null,null,null,"",null,{"$f":"IF(L42100=\"\",\"\",IF(M42100<Results!D$12,1,0))","v":""}]
[null,null,null,null,null,null,null,null,null,null,null,"",null,{"$f":"IF(L42125=\"\",\"\",IF(M42125<Results!D$12,1,0))","v":""}]
[null,null,null,null,null,null,null,null,null,null,null,"",null,{"$f":"IF(L42158=\"\",\"\",IF(M42158<Results!D$12,1,0))","v":""}]
[null,null,null,null,null,null,null,null,null,null,null,"",null,{"$f":"IF(L42169=\"\",\"\",IF(M42169<Results!D$12,1,0))","v":""}]
[null,null,null,null,null,null,null,null,null,null,null,"",null,{"$f":"IF(L42191=\"\",\"\",IF(M42191<Results!D$12,1,0))","v":""}]
[null,null,null,null,null,null,null,null,null,null,null,"",null,{"$f":"IF(L42224=\"\",\"\",IF(M42224<Results!D$12,1,0))","v":""}]
[null,null,null,null,null,null,null,null,null,null,null,"",null,{"$f":"IF(L42249=\"\",\"\",IF(M42249<Results!D$12,1,0))","v":""}]
[null,null,null,null,null,null,null,null,null,null,null,"",null,{"$f":"IF(L42261=\"\",\"\",IF(M42261<Results!D$12,1,0))","v":""}]
[null,null,null,null,null,null,null,null,null,null,null,"",null,{"$f":"IF(L42290=\"\",\"\",IF(M42290<Results!D$12,1,0))","v":""}]
[null,null,null,null,null,null,null,null,null,null,null,"",null,{"$f":"IF(L42315=\"\",\"\",IF(M42315<Results!D$12,1,0))","v":""}]
[null,null,null,null,null,null,null,null,null,null,null,"",null,{"$f":"IF(L42348=\"\",\"\",IF(M42348<Results!D$12,1,0))","v":""}]
[null,null,null,null,null,null,null,null,null,null,null,"",null,{"$f":"IF(L42364=\"\",\"\",IF(M42364<Results!D$12,1,0))","v":""}]
[null,null,null,null,null,null,null,null,null,null,null,"",null,{"$f":"IF(L42381=\"\",\"\",IF(M42381<Results!D$12,1,0))","v":""}]
[null,null,null,null,null,null,null,null,null,null,null,"",null,{"$f":"IF(L42414=\"\",\"\",IF(M42414<Results!D$12,1,0))","v":""}]
[null,null,null,null,null,null,null,null,null,null,null,"",null,{"$f":"IF(L42439=\"\",\"\",IF(M42439<Results!D$12,1,0))","v":""}]
[null,null,null,null,null,null,null,null,null,null,null,"",null,{"$f":"IF(L42456=\"\",\"\",IF(M42456<Results!D$12,1,0))","v":""}]
[null,null,null,null,null,null,null,null,null,null,null,"",null,{"$f":"IF(L42480=\"\",\"\",IF(M42480<Results!D$12,1,0))","v":""}]
[null,null,null,null,null,null,null,null,null,null,null,"",null,{"$f":"IF(L42505=\"\",\"\",IF(M42505<Results!D$12,1,0))","v":""}]
[null,null,null,null,null,null,null,null,null,null,null,"",null,{"$f":"IF(L42538=\"\",\"\",IF(M42538<Results!D$12,1,0))","v":""}]
[null,null,null,null,null,null,null,null,null,null,null,"",null,{"$f":"IF(L42548=\"\",\"\",IF(M42548<Results!D$12,1,0))","v":""}]
[null,null,null,null,null,null,null,null,null,null,null,"",null,{"$f":"IF(L42571=\"\",\"\",IF(M42571<Results!D$12,1,0))","v":""}]
[null,null,null,null,null,null,null,null,null,null,null,"",null,{"$f":"IF(L42604=\"\",\"\",IF(M42604<Results!D$12,1,0))","v":""}]
[null,null,null,null,null,null,null,null,null,null,null,"",null,{"$f":"IF(L42629=\"\",\"\",IF(M42629<Results!D$12,1,0))","v":""}]
[null,null,null,null,null,null,null,null,null,null,null,"",null,{"$f":"IF(L42651=\"\",\"\",IF(M42651<Results!D$12,1,0))","v":""}]
[null,null,null,null,null,null,null,null,null,null,null,"",null,{"$f":"IF(L42670=\"\",\"\",IF(M42670<Results!D$12,1,0))","v":""}]
[null,null,null,null,null,null,null,null,null,null,null,"",null,{"$f":"IF(L42695=\"\",\"\",IF(M42695<Results!D$12,1,0))","v":""}]
[null,null,null,null,null,null,null,null,null,null,null,"",null,{"$f":"IF(L42728=\"\",\"\",IF(M42728<Results!D$12,1,0))","v":""}]
[null,null,null,null,null,null,null,null,null,null,null,"",null,{"$f":"IF(L42743=\"\",\"\",IF(M42743<Results!D$12,1,0))","v":""}]
[null,null,null,null,null,null,null,null,null,null,null,"",null,{"$f":"IF(L42761=\"\",\"\",IF(M42761<Results!D$12,1,0))","v":""}]
[null,null,null,null,null,null,null,null,null,null,null,"",null,{"$f":"IF(L42794=\"\",\"\",IF(M42794<Results!D$12,1,0))","v":""}]
[null,null,null,null,null,null,null,null,null,null,null,{"$f":"IF(M42819=\"\",\"\",ROW(L42819)-1)","v":""},null,{"$f":"IF(L42819=\"\",\"\",IF(M42819<Results!D$12,1,0))","v":""}]
[null,null,null,null,null,null,null,null,null,null,null,"",null,{"$f":"IF(L42846=\"\",\"\",IF(M42846<Results!D$12,1,0))","v":""}]
[null,null,null,null,null,null,null,null,null,null,null,"",null,{"$f":"IF(L42860=\"\",\"\",IF(M42860<Results!D$12,1,0))","v":""}]
[null,null,null,null,null,null,null,null,null,null,null,"",null,{"$f":"IF(L42885=\"\",\"\",IF(M42885<Results!D$12,1,0))","v":""}]
[null,null,null,null,null,null,null,null,null,null,null,"",null,{"$f":"IF(L42918=\"\",\"\",IF(M42918<Results!D$12,1,0))","v":""}]
[null,null,null,null,null,null,null,null,null,null,null,"",null,{"$f":"IF(L42938=\"\",\"\",IF(M42938<Results!D$12,1,0))","v":""}]
[null,null,null,null,null,null,null,null,null,null,null,"",null,{"$f":"IF(L42951=\"\",\"\",IF(M42951<Results!D$12,1,0))","v":""}]
[null,null,null,null,null,null,null,null,null,null,null,"",null,{"$f":"IF(L42984=\"\",\"\",IF(M42984<Results!D$12,1,0))","v":""}]
[null,null,null,null,null,null,null,null,null,null,null,"",null,{"$f":"IF(L43009=\"\",\"\",IF(M43009<Results!D$12,1,0))","v":""}]
[null,null,null,null,null,null,null,null,null,null,null,"",null,{"$f":"IF(L43018=\"\",\"\",IF(M43018<Results!D$12,1,0))","v":""}]
[null,null,null,null,null,null,null,null,null,null,null,"",null,{"$f":"IF(L43042=\"\",\"\",IF(M43042<Results!D$12,1,0))","v":""}]
[null,null,null,null,null,null,null,null,null,null,null,{"$f":"IF(M43075=\"\",\"\",ROW(L43075)-1)","v":""},null,{"$f":"IF(L43075=\"\",\"\",IF(M43075<Results!D$12,1,0))","v":""}]
[null,null,null,null,null,null,null,null,null,null,null,"",null,{"$f":"IF(L43108=\"\",\"\",IF(M43108<Results!D$12,1,0))","v":""}]
[null,null,null,null,null,null,null,null,null,null,null,"",null,{"$f":"IF(L43133=\"\",\"\",IF(M43133<Results!D$12,1,0))","v":""}]
[null,null,null,null,null,null,null,null,null,null,null,"",null,{"$f":"IF(L43141=\"\",\"\",IF(M43141<Results!D$12,1,0))","v":""}]
[null,null,null,null,null,null,null,null,null,null,null,"",null,{"$f":"IF(L43174=\"\",\"\",IF(M43174<Results!D$12,1,0))","v":""}]
[null,null,null,null,null,null,null,null,null,null,null,"",null,{"$f":"IF(L43199=\"\",\"\",IF(M43199<Results!D$12,1,0))","v":""}]
[null,null,null,null,null,null,null,null,null,null,null,"",null,{"$f":"IF(L43213=\"\",\"\",IF(M43213<Results!D$12,1,0))","v":""}]
[null,null,null,null,null,null,null,null,null,null,null,"",null,{"$f":"IF(L43232=\"\",\"\",IF(M43232<Results!D$12,1,0))","v":""}]
[null,null,null,null,null,null,null,null,null,null,null,"",null,{"$f":"IF(L43265=\"\",\"\",IF(M43265<Results!D$12,1,0))","v":""}]
[null,null,null,null,null,null,null,null,null,null,null,"",null,{"$f":"IF(L43298=\"\",\"\",IF(M43298<Results!D$12,1,0))","v":""}]
[null,null,null,null,null,null,null,null,null,null,null,"",null,{"$f":"IF(L43305=\"\",\"\",IF(M43305<Results!D$12,1,0))","v":""}]
[null,null,null,null,null,null,null,null,null,null,null,{"$f":"IF(M43331=\"\",\"\",ROW(L43331)-1)","v":""},null,{"$f":"IF(L43331=\"\",\"\",IF(M43331<Results!D$12,1,0))","v":""}]
[null,null,null,null,null,null,null,null,null,null,null,"",null,{"$f":"IF(L43356=\"\",\"\",IF(M43356<Results!D$12,1,0))","v":""}]
[null,null,null,null,null,null,null,null,null,null,null,"",null,{"$f":"IF(L43389=\"\",\"\",IF(M43389<Results!D$12,1,0))","v":""}]
[null,null,null,null,null,null,null,null,null,null,null,"",null,{"$f":"IF(L43408=\"\",\"\",IF(M43408<Results!D$12,1,0))","v":""}]
[null,null,null,null,null,null,null,null,null,null,null,"",null,{"$f":"IF(L43422=\"\",\"\",IF(M43422<Results!D$12,1,0))","v":""}]
[null,null,null,null,null,null,null,null,null,null,null,"",null,{"$f":"IF(L43455=\"\",\"\",IF(M43455<Results!D$12,1,0))","v":""}]
[null,null,null,null,null,null,null,null,null,null,null,"",null,{"$f":"IF(L43488=\"\",\"\",IF(M43488<Results!D$12,1,0))","v":""}]
[null,null,null,null,null,null,null,null,null,null,null,"",null,{"$f":"IF(L43500=\"\",\"\",IF(M43500<Results!D$12,1,0))","v":""}]
[null,null,null,null,null,null,null,null,null,null,null,"",null,{"$f":"IF(L43521=\"\",\"\",IF(M43521<Results!D$12,1,0))","v":""}]
[null,null,null,null,null,null,null,null,null,null,null,"",null,{"$f":"IF(L43546=\"\",\"\",IF(M43546<Results!D$12,1,0))","v":""}]
[null,null,null,null,null,null,null,null,null,null,null,"",null,{"$f":"IF(L43579=\"\",\"\",IF(M43579<Results!D$12,1,0))","v":""}]
[null,null,null,null,null,null,null,null,null,null,null,"",null,{"$f":"IF(L43603=\"\",\"\",IF(M43603<Results!D$12,1,0))","v":""}]
[null,null,null,null,null,null,null,null,null,null,null,"",null,{"$f":"IF(L43612=\"\",\"\",IF(M43612<Results!D$12,1,0))","v":""}]
[null,null,null,null,null,null,null,null,null,null,null,"",null,{"$f":"IF(L43645=\"\",\"\",IF(M43645<Results!D$12,1,0))","v":""}]
[null,null,null,null,null,null,null,null,null,null,null,"",null,{"$f":"IF(L43678=\"\",\"\",IF(M43678<Results!D$12,1,0))","v":""}]
[null,null,null,null,null,null,null,null,null,null,null,"",null,{"$f":"IF(L43695=\"\",\"\",IF(M43695<Results!D$12,1,0))","v":""}]
[null,null,null,null,null,null,null,null,null,null,null,"",null,{"$f":"IF(L43711=\"\",\"\",IF(M43711<Results!D$12,1,0))","v":""}]
[null,null,null,null,null,null,null,null,null,null,null,"",null,{"$f":"IF(L43736=\"\",\"\",IF(M43736<Results!D$12,1,0))","v":""}]
[null,null,null,null,null,null,null,null,null,null,null,"",null,{"$f":"IF(L43769=\"\",\"\",IF(M43769<Results!D$12,1,0))","v":""}]
[null,null,null,null,null,null,null,null,null,null,null,"",null,{"$f":"IF(L43798=\"\",\"\",IF(M43798<Results!D$12,1,0))","v":""}]
[null,null,null,null,null,null,null,null,null,null,null,"",null,{"$f":"IF(L43802=\"\",\"\",IF(M43802<Results!D$12,1,0))","v":""}]
[null,null,null,null,null,null,null,null,null,null,null,"",null,{"$f":"IF(L43835=\"\",\"\",IF(M43835<Results!D$12,1,0))","v":""}]
[null,null,null,null,null,null,null,null,null,null,null,"",null,{"$f":"IF(L43860=\"\",\"\",IF(M43860<Results!D$12,1,0))","v":""}]
[null,null,null,null,null,null,null,null,null,null,null,"",null,{"$f":"IF(L43890=\"\",\"\",IF(M43890<Results!D$12,1,0))","v":""}]
[null,null,null,null,null,null,null,null,null,null,null,"",null,{"$f":"IF(L43901=\"\",\"\",IF(M43901<Results!D$12,1,0))","v":""}]
[null,null,null,null,null,null,null,null,null,null,null,"",null,{"$f":"IF(L43926=\"\",\"\",IF(M43926<Results!D$12,1,0))","v":""}]
[null,null,null,null,null,null,null,null,null,null,null,"",null,{"$f":"IF(L43959=\"\",\"\",IF(M43959<Results!D$12,1,0))","v":""}]
[null,null,null,null,null,null,null,null,null,null,null,"",null,{"$f":"IF(L43970=\"\",\"\",IF(M43970<Results!D$12,1,0))","v":""}]
[null,null,null,null,null,null,null,null,null,null,null,"",null,{"$f":"IF(L43992=\"\",\"\",IF(M43992<Results!D$12,1,0))","v":""}]
[null,null,null,null,null,null,null,null,null,null,null,"",null,{"$f":"IF(L44025=\"\",\"\",IF(M44025<Results!D$12,1,0))","v":""}]
[null,null,null,null,null,null,null,null,null,null,null,"",null,{"$f":"IF(L44050=\"\",\"\",IF(M44050<Results!D$12,1,0))","v":""}]
[null,null,null,null,null,null,null,null,null,null,null,"",null,{"$f":"IF(L44085=\"\",\"\",IF(M44085<Results!D$12,1,0))","v":""}]
[null,null,null,null,null,null,null,null,null,null,null,"",null,{"$f":"IF(L44091=\"\",\"\",IF(M44091<Results!D$12,1,0))","v":""}]
[null,null,null,null,null,null,null,null,null,null,null,"",null,{"$f":"IF(L44116=\"\",\"\",IF(M44116<Results!D$12,1,0))","v":""}]
[null,null,null,null,null,null,null,null,null,null,null,"",null,{"$f":"IF(L44149=\"\",\"\",IF(M44149<Results!D$12,1,0))","v":""}]
[null,null,null,null,null,null,null,null,null,null,null,"",null,{"$f":"IF(L44165=\"\",\"\",IF(M44165<Results!D$12,1,0))","v":""}]
[null,null,null,null,null,null,null,null,null,null,null,"",null,{"$f":"IF(L44182=\"\",\"\",IF(M44182<Results!D$12,1,0))","v":""}]
[null,null,null,null,null,null,null,null,null,null,null,"",null,{"$f":"IF(L44215=\"\",\"\",IF(M44215<Results!D$12,1,0))","v":""}]
[null,null,null,null,null,null,null,null,null,null,null,"",null,{"$f":"IF(L44240=\"\",\"\",IF(M44240<Results!D$12,1,0))","v":""}]
[null,null,null,null,null,null,null,null,null,null,null,"",null,{"$f":"IF(L44257=\"\",\"\",IF(M44257<Results!D$12,1,0))","v":""}]
[null,null,null,null,null,null,null,null,null,null,null,"",null,{"$f":"IF(L44281=\"\",\"\",IF(M44281<Results!D$12,1,0))","v":""}]
[null,null,null,null,null,null,null,null,null,null,null,"",null,{"$f":"IF(L44306=\"\",\"\",IF(M44306<Results!D$12,1,0))","v":""}]
[null,null,null,null,null,null,null,null,null,null,null,"",null,{"$f":"IF(L44339=\"\",\"\",IF(M44339<Results!D$12,1,0))","v":""}]
[null,null,null,null,null,null,null,null,null,null,null,"",null,{"$f":"IF(L44349=\"\",\"\",IF(M44349<Results!D$12,1,0))","v":""}]
[null,null,null,null,null,null,null,null,null,null,null,"",null,{"$f":"IF(L44372=\"\",\"\",IF(M44372<Results!D$12,1,0))","v":""}]
[null,null,null,null,null,null,null,null,null,null,null,"",null,{"$f":"IF(L44405=\"\",\"\",IF(M44405<Results!D$12,1,0))","v":""}]
[null,null,null,null,null,null,null,null,null,null,null,"",null,{"$f":"IF(L44430=\"\",\"\",IF(M44430<Results!D$12,1,0))","v":""}]
[null,null,null,null,null,null,null,null,null,null,null,"",null,{"$f":"IF(L44452=\"\",\"\",IF(M44452<Results!D$12,1,0))","v":""}]
[null,null,null,null,null,null,null,null,null,null,null,"",null,{"$f":"IF(L44471=\"\",\"\",IF(M44471<Results!D$12,1,0))","v":""}]
[null,null,null,null,null,null,null,null,null,null,null,"",null,{"$f":"IF(L44496=\"\",\"\",IF(M44496<Results!D$12,1,0))","v":""}]
[null,null,null,null,null,null,null,null,null,null,null,"",null,{"$f":"IF(L44529=\"\",\"\",IF(M44529<Results!D$12,1,0))","v":""}]
[null,null,null,null,null,null,null,null,null,null,null,"",null,{"$f":"IF(L44544=\"\",\"\",IF(M44544<Results!D$12,1,0))","v":""}]
[null,null,null,null,null,null,null,null,null,null,null,"",null,{"$f":"IF(L44562=\"\",\"\",IF(M44562<Results!D$12,1,0))","v":""}]
[null,null,null,null,null,null,null,null,null,null,null,"",null,{"$f":"IF(L44595=\"\",\"\",IF(M44595<Results!D$12,1,0))","v":""}]
[null,null,null,null,null,null,null,null,null,null,null,"",null,{"$f":"IF(L44620=\"\",\"\",IF(M44620<Results!D$12,1,0))","v":""}]
[null,null,null,null,null,null,null,null,null,null,null,"",null,{"$f":"IF(L44647=\"\",\"\",IF(M44647<Results!D$12,1,0))","v":""}]
[null,null,null,null,null,null,null,null,null,null,null,"",null,{"$f":"IF(L44677=\"\",\"\",IF(M44677<Results!D$12,1,0))","v":""}]
[null,null,null,null,null,null,null,null,null,null,null,"",null,{"$f":"IF(L44686=\"\",\"\",IF(M44686<Results!D$12,1,0))","v":""}]
[null,null,null,null,null,null,null,null,null,null,null,"",null,{"$f":"IF(L44719=\"\",\"\",IF(M44719<Results!D$12,1,0))","v":""}]
[null,null,null,null,null,null,null,null,null,null,null,{"$f":"IF(M44739=\"\",\"\",ROW(L44739)-1)","v":""},null,{"$f":"IF(L44739=\"\",\"\",IF(M44739<Results!D$12,1,0))","v":""}]
[null,null,null,null,null,null,null,null,null,null,null,"",null,{"$f":"IF(L44752=\"\",\"\",IF(M44752<Results!D$12,1,0))","v":""}]
[null,null,null,null,null,null,null,null,null,null,null,"",null,{"$f":"IF(L44785=\"\",\"\",IF(M44785<Results!D$12,1,0))","v":""}]
[null,null,null,null,null,null,null,null,null,null,null,"",null,{"$f":"IF(L44810=\"\",\"\",IF(M44810<Results!D$12,1,0))","v":""}]
[null,null,null,null,null,null,null,null,null,null,null,"",null,{"$f":"IF(L44842=\"\",\"\",IF(M44842<Results!D$12,1,0))","v":""}]
[null,null,null,null,null,null,null,null,null,null,null,{"$f":"IF(M44867=\"\",\"\",ROW(L44867)-1)","v":""},null,{"$f":"IF(L44867=\"\",\"\",IF(M44867<Results!D$12,1,0))","v":""}]
[null,null,null,null,null,null,null,null,null,null,null,"",null,{"$f":"IF(L44876=\"\",\"\",IF(M44876<Results!D$12,1,0))","v":""}]
[null,null,null,null,null,null,null,null,null,null,null,"",null,{"$f":"IF(L44909=\"\",\"\",IF(M44909<Results!D$12,1,0))","v":""}]
[null,null,null,null,null,null,null,null,null,null,null,"",null,{"$f":"IF(L44934=\"\",\"\",IF(M44934<Results!D$12,1,0))","v":""}]
[null,null,null,null,null,null,null,null,null,null,null,"",null,{"$f":"IF(L44942=\"\",\"\",IF(M44942<Results!D$12,1,0))","v":""}]
[null,null,null,null,null,null,null,null,null,null,null,"",null,{"$f":"IF(L44975=\"\",\"\",IF(M44975<Results!D$12,1,0))","v":""}]
[null,null,null,null,null,null,null,null,null,null,null,"",null,{"$f":"IF(L45000=\"\",\"\",IF(M45000<Results!D$12,1,0))","v":""}]
[null,null,null,null,null,null,null,null,null,null,null,"",null,{"$f":"IF(L45014=\"\",\"\",IF(M45014<Results!D$12,1,0))","v":""}]
[null,null,null,null,null,null,null,null,null,null,null,"",null,{"$f":"IF(L45057=\"\",\"\",IF(M45057<Results!D$12,1,0))","v":""}]
[null,null,null,null,null,null,null,null,null,null,null,"",null,{"$f":"IF(L45066=\"\",\"\",IF(M45066<Results!D$12,1,0))","v":""}]
[null,null,null,null,null,null,null,null,null,null,null,"",null,{"$f":"IF(L45099=\"\",\"\",IF(M45099<Results!D$12,1,0))","v":""}]
[null,null,null,null,null,null,null,null,null,null,null,"",null,{"$f":"IF(L45129=\"\",\"\",IF(M45129<Results!D$12,1,0))","v":""}]
[null,null,null,null,null,null,null,null,null,null,null,"",null,{"$f":"IF(L45132=\"\",\"\",IF(M45132<Results!D$12,1,0))","v":""}]
[null,null,null,null,null,null,null,null,null,null,null,"",null,{"$f":"IF(L45157=\"\",\"\",IF(M45157<Results!D$12,1,0))","v":""}]
[null,null,null,null,null,null,null,null,null,null,null,"",null,{"$f":"IF(L45190=\"\",\"\",IF(M45190<Results!D$12,1,0))","v":""}]
[null,null,null,null,null,null,null,null,null,null,null,"",null,{"$f":"IF(L45209=\"\",\"\",IF(M45209<Results!D$12,1,0))","v":""}]
[null,null,null,null,null,null,null,null,null,null,null,"",null,{"$f":"IF(L45247=\"\",\"\",IF(M45247<Results!D$12,1,0))","v":""}]
[null,null,null,null,null,null,null,null,null,null,null,"",null,{"$f":"IF(L45256=\"\",\"\",IF(M45256<Results!D$12,1,0))","v":""}]
[null,null,null,null,null,null,null,null,null,null,null,"",null,{"$f":"IF(L45289=\"\",\"\",IF(M45289<Results!D$12,1,0))","v":""}]
[null,null,null,null,null,null,null,null,null,null,null,"",null,{"$f":"IF(L45301=\"\",\"\",IF(M45301<Results!D$12,1,0))","v":""}]
[null,null,null,null,null,null,null,null,null,null,null,"",null,{"$f":"IF(L45322=\"\",\"\",IF(M45322<Results!D$12,1,0))","v":""}]
[null,null,null,null,null,null,null,null,null,null,null,"",null,{"$f":"IF(L45347=\"\",\"\",IF(M45347<Results!D$12,1,0))","v":""}]
[null,null,null,null,null,null,null,null,null,null,null,"",null,{"$f":"IF(L45380=\"\",\"\",IF(M45380<Results!D$12,1,0))","v":""}]
[null,null,null,null,null,null,null,null,null,null,null,"",null,{"$f":"IF(L45404=\"\",\"\",IF(M45404<Results!D$12,1,0))","v":""}]
[null,null,null,null,null,null,null,null,null,null,null,"",null,{"$f":"IF(L45437=\"\",\"\",IF(M45437<Results!D$12,1,0))","v":""}]
[null,null,null,null,null,null,null,null,null,null,null,"",null,{"$f":"IF(L45446=\"\",\"\",IF(M45446<Results!D$12,1,0))","v":""}]
[null,null,null,null,null,null,null,null,null,null,null,"",null,{"$f":"IF(L45479=\"\",\"\",IF(M45479<Results!D$12,1,0))","v":""}]
[null,null,null,null,null,null,null,null,null,null,null,"",null,{"$f":"IF(L45496=\"\",\"\",IF(M45496<Results!D$12,1,0))","v":""}]
[null,null,null,null,null,null,null,null,null,null,null,"",null,{"$f":"IF(L45512=\"\",\"\",IF(M45512<Results!D$12,1,0))","v":""}]
[null,null,null,null,null,null,null,null,null,null,null,"",null,{"$f":"IF(L45537=\"\",\"\",IF(M45537<Results!D$12,1,0))","v":""}]
[null,null,null,null,null,null,null,null,null,null,null,"",null,{"$f":"IF(L45570=\"\",\"\",IF(M45570<Results!D$12,1,0))","v":""}]
[null,null,null,null,null,null,null,null,null,null,null,"",null,{"$f":"IF(L45599=\"\",\"\",IF(M45599<Results!D$12,1,0))","v":""}]
[null,null,null,null,null,null,null,null,null,null,null,"",null,{"$f":"IF(L45627=\"\",\"\",IF(M45627<Results!D$12,1,0))","v":""}]
[null,null,null,null,null,null,null,null,null,null,null,"",null,{"$f":"IF(L45636=\"\",\"\",IF(M45636<Results!D$12,1,0))","v":""}]
[null,null,null,null,null,null,null,null,null,null,null,"",null,{"$f":"IF(L45661=\"\",\"\",IF(M45661<Results!D$12,1,0))","v":""}]
[null,null,null,null,null,null,null,null,null,null,null,"",null,{"$f":"IF(L45691=\"\",\"\",IF(M45691<Results!D$12,1,0))","v":""}]
[null,null,null,null,null,null,null,null,null,null,null,"",null,{"$f":"IF(L45702=\"\",\"\",IF(M45702<Results!D$12,1,0))","v":""}]
[null,null,null,null,null,null,null,null,null,null,null,"",null,{"$f":"IF(L45727=\"\",\"\",IF(M45727<Results!D$12,1,0))","v":""}]
[null,null,null,null,null,null,null,null,null,null,null,"",null,{"$f":"IF(L45760=\"\",\"\",IF(M45760<Results!D$12,1,0))","v":""}]
[null,null,null,null,null,null,null,null,null,null,null,"",null,{"$f":"IF(L45794=\"\",\"\",IF(M45794<Results!D$12,1,0))","v":""}]
[null,null,null,null,null,null,null,null,null,null,null,"",null,{"$f":"IF(L45817=\"\",\"\",IF(M45817<Results!D$12,1,0))","v":""}]
[null,null,null,null,null,null,null,null,null,null,null,"",null,{"$f":"IF(L45826=\"\",\"\",IF(M45826<Results!D$12,1,0))","v":""}]
[null,null,null,null,null,null,null,null,null,null,null,"",null,{"$f":"IF(L45851=\"\",\"\",IF(M45851<Results!D$12,1,0))","v":""}]
[null,null,null,null,null,null,null,null,null,null,null,"",null,{"$f":"IF(L45886=\"\",\"\",IF(M45886<Results!D$12,1,0))","v":""}]
[null,null,null,null,null,null,null,null,null,null,null,"",null,{"$f":"IF(L45892=\"\",\"\",IF(M45892<Results!D$12,1,0))","v":""}]
[null,null,null,null,null,null,null,null,null,null,null,"",null,{"$f":"IF(L45917=\"\",\"\",IF(M45917<Results!D$12,1,0))","v":""}]
[null,null,null,null,null,null,null,null,null,null,null,"",null,{"$f":"IF(L45950=\"\",\"\",IF(M45950<Results!D$12,1,0))","v":""}]
[null,null,null,null,null,null,null,null,null,null,null,"",null,{"$f":"IF(L45978=\"\",\"\",IF(M45978<Results!D$12,1,0))","v":""}]
[null,null,null,null,null,null,null,null,null,null,null,"",null,{"$f":"IF(L46007=\"\",\"\",IF(M46007<Results!D$12,1,0))","v":""}]
[null,null,null,null,null,null,null,null,null,null,null,"",null,{"$f":"IF(L46016=\"\",\"\",IF(M46016<Results!D$12,1,0))","v":""}]
[null,null,null,null,null,null,null,null,null,null,null,"",null,{"$f":"IF(L46041=\"\",\"\",IF(M46041<Results!D$12,1,0))","v":""}]
[null,null,null,null,null,null,null,null,null,null,null,"",null,{"$f":"IF(L46058=\"\",\"\",IF(M46058<Results!D$12,1,0))","v":""}]
[null,null,null,null,null,null,null,null,null,null,null,"",null,{"$f":"IF(L46082=\"\",\"\",IF(M46082<Results!D$12,1,0))","v":""}]
[null,null,null,null,null,null,null,null,null,null,null,"",null,{"$f":"IF(L46107=\"\",\"\",IF(M46107<Results!D$12,1,0))","v":""}]
[null,null,null,null,null,null,null,null,null,null,null,"",null,{"$f":"IF(L46140=\"\",\"\",IF(M46140<Results!D$12,1,0))","v":""}]
[null,null,null,null,null,null,null,null,null,null,null,"",null,{"$f":"IF(L46173=\"\",\"\",IF(M46173<Results!D$12,1,0))","v":""}]
[null,null,null,null,null,null,null,null,null,null,null,"",null,{"$f":"IF(L46197=\"\",\"\",IF(M46197<Results!D$12,1,0))","v":""}]
[null,null,null,null,null,null,null,null,null,null,null,"",null,{"$f":"IF(L46206=\"\",\"\",IF(M46206<Results!D$12,1,0))","v":""}]
[null,null,null,null,null,null,null,null,null,null,null,"",null,{"$f":"IF(L46231=\"\",\"\",IF(M46231<Results!D$12,1,0))","v":""}]
[null,null,null,null,null,null,null,null,null,null,null,"",null,{"$f":"IF(L46253=\"\",\"\",IF(M46253<Results!D$12,1,0))","v":""}]
[null,null,null,null,null,null,null,null,null,null,null,"",null,{"$f":"IF(L46272=\"\",\"\",IF(M46272<Results!D$12,1,0))","v":""}]
[null,null,null,null,null,null,null,null,null,null,null,"",null,{"$f":"IF(L46297=\"\",\"\",IF(M46297<Results!D$12,1,0))","v":""}]
[null,null,null,null,null,null,null,null,null,null,null,"",null,{"$f":"IF(L46330=\"\",\"\",IF(M46330<Results!D$12,1,0))","v":""}]
[null,null,null,null,null,null,null,null,null,null,null,"",null,{"$f":"IF(L46345=\"\",\"\",IF(M46345<Results!D$12,1,0))","v":""}]
[null,null,null,null,null,null,null,null,null,null,null,"",null,{"$f":"IF(L46387=\"\",\"\",IF(M46387<Results!D$12,1,0))","v":""}]
[null,null,null,null,null,null,null,null,null,null,null,"",null,{"$f":"IF(L46396=\"\",\"\",IF(M46396<Results!D$12,1,0))","v":""}]
[null,null,null,null,null,null,null,null,null,null,null,"",null,{"$f":"IF(L46421=\"\",\"\",IF(M46421<Results!D$12,1,0))","v":""}]
[null,null,null,null,null,null,null,null,null,null,null,"",null,{"$f":"IF(L46448=\"\",\"\",IF(M46448<Results!D$12,1,0))","v":""}]
[null,null,null,null,null,null,null,null,null,null,null,"",null,{"$f":"IF(L46478=\"\",\"\",IF(M46478<Results!D$12,1,0))","v":""}]
[null,null,null,null,null,null,null,null,null,null,null,"",null,{"$f":"IF(L46487=\"\",\"\",IF(M46487<Results!D$12,1,0))","v":""}]
[null,null,null,null,null,null,null,null,null,null,null,"",null,{"$f":"IF(L46520=\"\",\"\",IF(M46520<Results!D$12,1,0))","v":""}]
[null,null,null,null,null,null,null,null,null,null,null,"",null,{"$f":"IF(L46540=\"\",\"\",IF(M46540<Results!D$12,1,0))","v":""}]
[null,null,null,null,null,null,null,null,null,null,null,"",null,{"$f":"IF(L46577=\"\",\"\",IF(M46577<Results!D$12,1,0))","v":""}]
[null,null,null,null,null,null,null,null,null,null,null,"",null,{"$f":"IF(L46586=\"\",\"\",IF(M46586<Results!D$12,1,0))","v":""}]
[null,null,null,null,null,null,null,null,null,null,null,"",null,{"$f":"IF(L46611=\"\",\"\",IF(M46611<Results!D$12,1,0))","v":""}]
[null,null,null,null,null,null,null,null,null,null,null,"",null,{"$f":"IF(L46643=\"\",\"\",IF(M46643<Results!D$12,1,0))","v":""}]
[null,null,null,null,null,null,null,null,null,null,null,"",null,{"$f":"IF(L46668=\"\",\"\",IF(M46668<Results!D$12,1,0))","v":""}]
[null,null,null,null,null,null,null,null,null,null,null,"",null,{"$f":"IF(L46677=\"\",\"\",IF(M46677<Results!D$12,1,0))","v":""}]
[null,null,null,null,null,null,null,null,null,null,null,"",null,{"$f":"IF(L46710=\"\",\"\",IF(M46710<Results!D$12,1,0))","v":""}]
[null,null,null,null,null,null,null,null,null,null,null,"",null,{"$f":"IF(L46735=\"\",\"\",IF(M46735<Results!D$12,1,0))","v":""}]
[null,null,null,null,null,null,null,null,null,null,null,"",null,{"$f":"IF(L46767=\"\",\"\",IF(M46767<Results!D$12,1,0))","v":""}]
[null,null,null,null,null,null,null,null,null,null,null,"",null,{"$f":"IF(L46792=\"\",\"\",IF(M46792<Results!D$12,1,0))","v":""}]
[null,null,null,null,null,null,null,null,null,null,null,"",null,{"$f":"IF(L46801=\"\",\"\",IF(M46801<Results!D$12,1,0))","v":""}]
[null,null,null,null,null,null,null,null,null,null,null,"",null,{"$f":"IF(L46838=\"\",\"\",IF(M46838<Results!D$12,1,0))","v":""}]
[null,null,null,null,null,null,null,null,null,null,null,"",null,{"$f":"IF(L46858=\"\",\"\",IF(M46858<Results!D$12,1,0))","v":""}]
[null,null,null,null,null,null,null,null,null,null,null,"",null,{"$f":"IF(L46867=\"\",\"\",IF(M46867<Results!D$12,1,0))","v":""}]
[null,null,null,null,null,null,null,null,null,null,null,"",null,{"$f":"IF(L46900=\"\",\"\",IF(M46900<Results!D$12,1,0))","v":""}]
[null,null,null,null,null,null,null,null,null,null,null,"",null,{"$f":"IF(L46930=\"\",\"\",IF(M46930<Results!D$12,1,0))","v":""}]
[null,null,null,null,null,null,null,null,null,null,null,"",null,{"$f":"IF(L46957=\"\",\"\",IF(M46957<Results!D$12,1,0))","v":""}]
[null,null,null,null,null,null,null,null,null,null,null,"",null,{"$f":"IF(L46982=\"\",\"\",IF(M46982<Results!D$12,1,0))","v":""}]
[null,null,null,null,null,null,null,null,null,null,null,"",null,{"$f":"IF(L46991=\"\",\"\",IF(M46991<Results!D$12,1,0))","v":""}]
[null,null,null,null,null,null,null,null,null,null,null,"",null,{"$f":"IF(L47010=\"\",\"\",IF(M47010<Results!D$12,1,0))","v":""}]
[null,null,null,null,null,null,null,null,null,null,null,"",null,{"$f":"IF(L47048=\"\",\"\",IF(M47048<Results!D$12,1,0))","v":""}]
[null,null,null,null,null,null,null,null,null,null,null,"",null,{"$f":"IF(L47057=\"\",\"\",IF(M47057<Results!D$12,1,0))","v":""}]
[null,null,null,null,null,null,null,null,null,null,null,"",null,{"$f":"IF(L47090=\"\",\"\",IF(M47090<Results!D$12,1,0))","v":""}]
[null,null,null,null,null,null,null,null,null,null,null,"",null,{"$f":"IF(L47125=\"\",\"\",IF(M47125<Results!D$12,1,0))","v":""}]
[null,null,null,null,null,null,null,null,null,null,null,"",null,{"$f":"IF(L47147=\"\",\"\",IF(M47147<Results!D$12,1,0))","v":""}]
[null,null,null,null,null,null,null,null,null,null,null,"",null,{"$f":"IF(L47172=\"\",\"\",IF(M47172<Results!D$12,1,0))","v":""}]
[null,null,null,null,null,null,null,null,null,null,null,"",null,{"$f":"IF(L47181=\"\",\"\",IF(M47181<Results!D$12,1,0))","v":""}]
[null,null,null,null,null,null,null,null,null,null,null,"",null,{"$f":"IF(L47205=\"\",\"\",IF(M47205<Results!D$12,1,0))","v":""}]
[null,null,null,null,null,null,null,null,null,null,null,"",null,{"$f":"IF(L47238=\"\",\"\",IF(M47238<Results!D$12,1,0))","v":""}]
[null,null,null,null,null,null,null,null,null,null,null,"",null,{"$f":"IF(L47247=\"\",\"\",IF(M47247<Results!D$12,1,0))","v":""}]
[null,null,null,null,null,null,null,null,null,null,null,"",null,{"$f":"IF(L47272=\"\",\"\",IF(M47272<Results!D$12,1,0))","v":""}]
[null,null,null,null,null,null,null,null,null,null,null,"",null,{"$f":"IF(L47297=\"\",\"\",IF(M47297<Results!D$12,1,0))","v":""}]
[null,null,null,null,null,null,null,null,null,null,null,"",null,{"$f":"IF(L47337=\"\",\"\",IF(M47337<Results!D$12,1,0))","v":""}]
[null,null,null,null,null,null,null,null,null,null,null,"",null,{"$f":"IF(L47362=\"\",\"\",IF(M47362<Results!D$12,1,0))","v":""}]
[null,null,null,null,null,null,null,null,null,null,null,"",null,{"$f":"IF(L47371=\"\",\"\",IF(M47371<Results!D$12,1,0))","v":""}]
[null,null,null,null,null,null,null,null,null,null,null,"",null,{"$f":"IF(L47400=\"\",\"\",IF(M47400<Results!D$12,1,0))","v":""}]
[null,null,null,null,null,null,null,null,null,null,null,"",null,{"$f":"IF(L47428=\"\",\"\",IF(M47428<Results!D$12,1,0))","v":""}]
[null,null,null,null,null,null,null,null,null,null,null,"",null,{"$f":"IF(L47437=\"\",\"\",IF(M47437<Results!D$12,1,0))","v":""}]
[null,null,null,null,null,null,null,null,null,null,null,"",null,{"$f":"IF(L47462=\"\",\"\",IF(M47462<Results!D$12,1,0))","v":""}]
[null,null,null,null,null,null,null,null,null,null,null,"",null,{"$f":"IF(L47492=\"\",\"\",IF(M47492<Results!D$12,1,0))","v":""}]
[null,null,null,null,null,null,null,null,null,null,null,"",null,{"$f":"IF(L47527=\"\",\"\",IF(M47527<Results!D$12,1,0))","v":""}]
[null,null,null,null,null,null,null,null,null,null,null,"",null,{"$f":"IF(L47552=\"\",\"\",IF(M47552<Results!D$12,1,0))","v":""}]
[null,null,null,null,null,null,null,null,null,null,null,"",null,{"$f":"IF(L47561=\"\",\"\",IF(M47561<Results!D$12,1,0))","v":""}]
[null,null,null,null,null,null,null,null,null,null,null,"",null,{"$f":"IF(L47595=\"\",\"\",IF(M47595<Results!D$12,1,0))","v":""}]
[null,null,null,null,null,null,null,null,null,null,null,"",null,{"$f":"IF(L47618=\"\",\"\",IF(M47618<Results!D$12,1,0))","v":""}]
[null,null,null,null,null,null,null,null,null,null,null,"",null,{"$f":"IF(L47627=\"\",\"\",IF(M47627<Results!D$12,1,0))","v":""}]
[null,null,null,null,null,null,null,null,null,null,null,"",null,{"$f":"IF(L47652=\"\",\"\",IF(M47652<Results!D$12,1,0))","v":""}]
[null,null,null,null,null,null,null,null,null,null,null,"",null,{"$f":"IF(L47687=\"\",\"\",IF(M47687<Results!D$12,1,0))","v":""}]
[null,null,null,null,null,null,null,null,null,null,null,"",null,{"$f":"IF(L47717=\"\",\"\",IF(M47717<Results!D$12,1,0))","v":""}]
[null,null,null,null,null,null,null,null,null,null,null,"",null,{"$f":"IF(L47742=\"\",\"\",IF(M47742<Results!D$12,1,0))","v":""}]
[null,null,null,null,null,null,null,null,null,null,null,"",null,{"$f":"IF(L47751=\"\",\"\",IF(M47751<Results!D$12,1,0))","v":""}]
[null,null,null,null,null,null,null,null,null,null,null,"",null,{"$f":"IF(L47779=\"\",\"\",IF(M47779<Results!D$12,1,0))","v":""}]
[null,null,null,null,null,null,null,null,null,null,null,"",null,{"$f":"IF(L47808=\"\",\"\",IF(M47808<Results!D$12,1,0))","v":""}]
[null,null,null,null,null,null,null,null,null,null,null,"",null,{"$f":"IF(L47817=\"\",\"\",IF(M47817<Results!D$12,1,0))","v":""}]
[null,null,null,null,null,null,null,null,null,null,null,"",null,{"$f":"IF(L47842=\"\",\"\",IF(M47842<Results!D$12,1,0))","v":""}]
[null,null,null,null,null,null,null,null,null,null,null,"",null,{"$f":"IF(L47882=\"\",\"\",IF(M47882<Results!D$12,1,0))","v":""}]
[null,null,null,null,null,null,null,null,null,null,null,"",null,{"$f":"IF(L47907=\"\",\"\",IF(M47907<Results!D$12,1,0))","v":""}]
[null,null,null,null,null,null,null,null,null,null,null,"",null,{"$f":"IF(L47932=\"\",\"\",IF(M47932<Results!D$12,1,0))","v":""}]
[null,null,null,null,null,null,null,null,null,null,null,"",null,{"$f":"IF(L47941=\"\",\"\",IF(M47941<Results!D$12,1,0))","v":""}]
[null,null,null,null,null,null,null,null,null,null,null,"",null,{"$f":"IF(L47974=\"\",\"\",IF(M47974<Results!D$12,1,0))","v":""}]
[null,null,null,null,null,null,null,null,null,null,null,"",null,{"$f":"IF(L47998=\"\",\"\",IF(M47998<Results!D$12,1,0))","v":""}]
[null,null,null,null,null,null,null,null,null,null,null,"",null,{"$f":"IF(L48007=\"\",\"\",IF(M48007<Results!D$12,1,0))","v":""}]
[null,null,null,null,null,null,null,null,null,null,null,"",null,{"$f":"IF(L48032=\"\",\"\",IF(M48032<Results!D$12,1,0))","v":""}]
[null,null,null,null,null,null,null,null,null,null,null,"",null,{"$f":"IF(L48054=\"\",\"\",IF(M48054<Results!D$12,1,0))","v":""}]
[null,null,null,null,null,null,null,null,null,null,null,"",null,{"$f":"IF(L48089=\"\",\"\",IF(M48089<Results!D$12,1,0))","v":""}]
[null,null,null,null,null,null,null,null,null,null,null,"",null,{"$f":"IF(L48122=\"\",\"\",IF(M48122<Results!D$12,1,0))","v":""}]
[null,null,null,null,null,null,null,null,null,null,null,{"$f":"IF(M48131=\"\",\"\",ROW(L48131)-1)","v":""},null,{"$f":"IF(L48131=\"\",\"\",IF(M48131<Results!D$12,1,0))","v":""}]
[null,null,null,null,null,null,null,null,null,null,null,"",null,{"$f":"IF(L48169=\"\",\"\",IF(M48169<Results!D$12,1,0))","v":""}]
[null,null,null,null,null,null,null,null,null,null,null,"",null,{"$f":"IF(L48188=\"\",\"\",IF(M48188<Results!D$12,1,0))","v":""}]
[null,null,null,null,null,null,null,null,null,null,null,"",null,{"$f":"IF(L48197=\"\",\"\",IF(M48197<Results!D$12,1,0))","v":""}]
[null,null,null,null,null,null,null,null,null,null,null,"",null,{"$f":"IF(L48222=\"\",\"\",IF(M48222<Results!D$12,1,0))","v":""}]
[null,null,null,null,null,null,null,null,null,null,null,"",null,{"$f":"IF(L48249=\"\",\"\",IF(M48249<Results!D$12,1,0))","v":""}]
[null,null,null,null,null,null,null,null,null,null,null,"",null,{"$f":"IF(L48279=\"\",\"\",IF(M48279<Results!D$12,1,0))","v":""}]
[null,null,null,null,null,null,null,null,null,null,null,"",null,{"$f":"IF(L48312=\"\",\"\",IF(M48312<Results!D$12,1,0))","v":""}]
[null,null,null,null,null,null,null,null,null,null,null,"",null,{"$f":"IF(L48321=\"\",\"\",IF(M48321<Results!D$12,1,0))","v":""}]
[null,null,null,null,null,null,null,null,null,null,null,"",null,{"$f":"IF(L48341=\"\",\"\",IF(M48341<Results!D$12,1,0))","v":""}]
[null,null,null,null,null,null,null,null,null,null,null,"",null,{"$f":"IF(L48378=\"\",\"\",IF(M48378<Results!D$12,1,0))","v":""}]
[null,null,null,null,null,null,null,null,null,null,null,{"$f":"IF(M48387=\"\",\"\",ROW(L48387)-1)","v":""},null,{"$f":"IF(L48387=\"\",\"\",IF(M48387<Results!D$12,1,0))","v":""}]
[null,null,null,null,null,null,null,null,null,null,null,"",null,{"$f":"IF(L48412=\"\",\"\",IF(M48412<Results!D$12,1,0))","v":""}]
[null,null,null,null,null,null,null,null,null,null,null,"",null,{"$f":"IF(L48444=\"\",\"\",IF(M48444<Results!D$12,1,0))","v":""}]
[null,null,null,null,null,null,null,null,null,null,null,"",null,{"$f":"IF(L48469=\"\",\"\",IF(M48469<Results!D$12,1,0))","v":""}]
[null,null,null,null,null,null,null,null,null,null,null,"",null,{"$f":"IF(L48502=\"\",\"\",IF(M48502<Results!D$12,1,0))","v":""}]
[null,null,null,null,null,null,null,null,null,null,null,"",null,{"$f":"IF(L48511=\"\",\"\",IF(M48511<Results!D$12,1,0))","v":""}]
[null,null,null,null,null,null,null,null,null,null,null,"",null,{"$f":"IF(L48536=\"\",\"\",IF(M48536<Results!D$12,1,0))","v":""}]
[null,null,null,null,null,null,null,null,null,null,null,"",null,{"$f":"IF(L48568=\"\",\"\",IF(M48568<Results!D$12,1,0))","v":""}]
[null,null,null,null,null,null,null,null,null,null,null,"",null,{"$f":"IF(L48593=\"\",\"\",IF(M48593<Results!D$12,1,0))","v":""}]
[null,null,null,null,null,null,null,null,null,null,null,"",null,{"$f":"IF(L48602=\"\",\"\",IF(M48602<Results!D$12,1,0))","v":""}]
[null,null,null,null,null,null,null,null,null,null,null,"",null,{"$f":"IF(L48639=\"\",\"\",IF(M48639<Results!D$12,1,0))","v":""}]
[null,null,null,null,null,null,null,null,null,null,null,"",null,{"$f":"IF(L48659=\"\",\"\",IF(M48659<Results!D$12,1,0))","v":""}]
[null,null,null,null,null,null,null,null,null,null,null,"",null,{"$f":"IF(L48692=\"\",\"\",IF(M48692<Results!D$12,1,0))","v":""}]
[null,null,null,null,null,null,null,null,null,null,null,"",null,{"$f":"IF(L48701=\"\",\"\",IF(M48701<Results!D$12,1,0))","v":""}]
[null,null,null,null,null,null,null,null,null,null,null,"",null,{"$f":"IF(L48731=\"\",\"\",IF(M48731<Results!D$12,1,0))","v":""}]
[null,null,null,null,null,null,null,null,null,null,null,"",null,{"$f":"IF(L48758=\"\",\"\",IF(M48758<Results!D$12,1,0))","v":""}]
[null,null,null,null,null,null,null,null,null,null,null,"",null,{"$f":"IF(L48783=\"\",\"\",IF(M48783<Results!D$12,1,0))","v":""}]
[null,null,null,null,null,null,null,null,null,null,null,"",null,{"$f":"IF(L48792=\"\",\"\",IF(M48792<Results!D$12,1,0))","v":""}]
[null,null,null,null,null,null,null,null,null,null,null,"",null,{"$f":"IF(L48834=\"\",\"\",IF(M48834<Results!D$12,1,0))","v":""}]
[null,null,null,null,null,null,null,null,null,null,null,"",null,{"$f":"IF(L48849=\"\",\"\",IF(M48849<Results!D$12,1,0))","v":""}]
[null,null,null,null,null,null,null,null,null,null,null,"",null,{"$f":"IF(L48882=\"\",\"\",IF(M48882<Results!D$12,1,0))","v":""}]
[null,null,null,null,null,null,null,null,null,null,null,"",null,{"$f":"IF(L48907=\"\",\"\",IF(M48907<Results!D$12,1,0))","v":""}]
[null,null,null,null,null,null,null,null,null,null,null,"",null,{"$f":"IF(L48926=\"\",\"\",IF(M48926<Results!D$12,1,0))","v":""}]
[null,null,null,null,null,null,null,null,null,null,null,"",null,{"$f":"IF(L48948=\"\",\"\",IF(M48948<Results!D$12,1,0))","v":""}]
[null,null,null,null,null,null,null,null,null,null,null,"",null,{"$f":"IF(L48973=\"\",\"\",IF(M48973<Results!D$12,1,0))","v":""}]
[null,null,null,null,null,null,null,null,null,null,null,"",null,{"$f":"IF(L48982=\"\",\"\",IF(M48982<Results!D$12,1,0))","v":""}]
[null,null,null,null,null,null,null,null,null,null,null,"",null,{"$f":"IF(L49006=\"\",\"\",IF(M49006<Results!D$12,1,0))","v":""}]
[null,null,null,null,null,null,null,null,null,null,null,"",null,{"$f":"IF(L49039=\"\",\"\",IF(M49039<Results!D$12,1,0))","v":""}]
[null,null,null,null,null,null,null,null,null,null,null,"",null,{"$f":"IF(L49072=\"\",\"\",IF(M49072<Results!D$12,1,0))","v":""}]
[null,null,null,null,null,null,null,null,null,null,null,"",null,{"$f":"IF(L49097=\"\",\"\",IF(M49097<Results!D$12,1,0))","v":""}]
[null,null,null,null,null,null,null,null,null,null,null,"",null,{"$f":"IF(L49098=\"\",\"\",IF(M49098<Results!D$12,1,0))","v":""}]
[null,null,null,null,null,null,null,null,null,null,null,"",null,{"$f":"IF(L49138=\"\",\"\",IF(M49138<Results!D$12,1,0))","v":""}]
[null,null,null,null,null,null,null,null,null,null,null,"",null,{"$f":"IF(L49163=\"\",\"\",IF(M49163<Results!D$12,1,0))","v":""}]
[null,null,null,null,null,null,null,null,null,null,null,"",null,{"$f":"IF(L49172=\"\",\"\",IF(M49172<Results!D$12,1,0))","v":""}]
[null,null,null,null,null,null,null,null,null,null,null,"",null,{"$f":"IF(L49201=\"\",\"\",IF(M49201<Results!D$12,1,0))","v":""}]
[null,null,null,null,null,null,null,null,null,null,null,"",null,{"$f":"IF(L49229=\"\",\"\",IF(M49229<Results!D$12,1,0))","v":""}]
[null,null,null,null,null,null,null,null,null,null,null,"",null,{"$f":"IF(L49262=\"\",\"\",IF(M49262<Results!D$12,1,0))","v":""}]
[null,null,null,null,null,null,null,null,null,null,null,"",null,{"$f":"IF(L49287=\"\",\"\",IF(M49287<Results!D$12,1,0))","v":""}]
[null,null,null,null,null,null,null,null,null,null,null,"",null,{"$f":"IF(L49293=\"\",\"\",IF(M49293<Results!D$12,1,0))","v":""}]
[null,null,null,null,null,null,null,null,null,null,null,"",null,{"$f":"IF(L49328=\"\",\"\",IF(M49328<Results!D$12,1,0))","v":""}]
[null,null,null,null,null,null,null,null,null,null,null,"",null,{"$f":"IF(L49353=\"\",\"\",IF(M49353<Results!D$12,1,0))","v":""}]
[null,null,null,null,null,null,null,null,null,null,null,"",null,{"$f":"IF(L49362=\"\",\"\",IF(M49362<Results!D$12,1,0))","v":""}]
[null,null,null,null,null,null,null,null,null,null,null,"",null,{"$f":"IF(L49385=\"\",\"\",IF(M49385<Results!D$12,1,0))","v":""}]
[null,null,null,null,null,null,null,null,null,null,null,"",null,{"$f":"IF(L49419=\"\",\"\",IF(M49419<Results!D$12,1,0))","v":""}]
[null,null,null,null,null,null,null,null,null,null,null,"",null,{"$f":"IF(L49452=\"\",\"\",IF(M49452<Results!D$12,1,0))","v":""}]
[null,null,null,null,null,null,null,null,null,null,null,"",null,{"$f":"IF(L49477=\"\",\"\",IF(M49477<Results!D$12,1,0))","v":""}]
[null,null,null,null,null,null,null,null,null,null,null,"",null,{"$f":"IF(L49486=\"\",\"\",IF(M49486<Results!D$12,1,0))","v":""}]
[null,null,null,null,null,null,null,null,null,null,null,"",null,{"$f":"IF(L49502=\"\",\"\",IF(M49502<Results!D$12,1,0))","v":""}]
[null,null,null,null,null,null,null,null,null,null,null,"",null,{"$f":"IF(L49503=\"\",\"\",IF(M49503<Results!D$12,1,0))","v":""}]
[null,null,null,null,null,null,null,null,null,null,null,"",null,{"$f":"IF(L49504=\"\",\"\",IF(M49504<Results!D$12,1,0))","v":""}]
[null,null,null,null,null,null,null,null,null,null,null,"",null,{"$f":"IF(L49505=\"\",\"\",IF(M49505<Results!D$12,1,0))","v":""}]
[null,null,null,null,null,null,null,null,null,null,null,"",null,{"$f":"IF(L49506=\"\",\"\",IF(M49506<Results!D$12,1,0))","v":""}]
[null,null,null,null,null,null,null,null,null,null,null,"",null,{"$f":"IF(L49507=\"\",\"\",IF(M49507<Results!D$12,1,0))","v":""}]
[null,null,null,null,null,null,null,null,null,null,null,"",null,{"$f":"IF(L49508=\"\",\"\",IF(M49508<Results!D$12,1,0))","v":""}]
[null,null,null,null,null,null,null,null,null,null,null,"",null,{"$f":"IF(L49509=\"\",\"\",IF(M49509<Results!D$12,1,0))","v":""}]
[null,null,null,null,null,null,null,null,null,null,null,"",null,{"$f":"IF(L49510=\"\",\"\",IF(M49510<Results!D$12,1,0))","v":""}]
[null,null,null,null,null,null,null,null,null,null,null,"",null,{"$f":"IF(L49511=\"\",\"\",IF(M49511<Results!D$12,1,0))","v":""}]
[null,null,null,null,null,null,null,null,null,null,null,"",null,{"$f":"IF(L49512=\"\",\"\",IF(M49512<Results!D$12,1,0))","v":""}]
[null,null,null,null,null,null,null,null,null,null,null,"",null,{"$f":"IF(L49513=\"\",\"\",IF(M49513<Results!D$12,1,0))","v":""}]
[null,null,null,null,null,null,null,null,null,null,null,"",null,{"$f":"IF(L49514=\"\",\"\",IF(M49514<Results!D$12,1,0))","v":""}]
[null,null,null,null,null,null,null,null,null,null,null,"",null,{"$f":"IF(L49515=\"\",\"\",IF(M49515<Results!D$12,1,0))","v":""}]
[null,null,null,null,null,null,null,null,null,null,null,"",null,{"$f":"IF(L49516=\"\",\"\",IF(M49516<Results!D$12,1,0))","v":""}]
[null,null,null,null,null,null,null,null,null,null,null,"",null,{"$f":"IF(L49517=\"\",\"\",IF(M49517<Results!D$12,1,0))","v":""}]
[null,null,null,null,null,null,null,null,null,null,null,"",null,{"$f":"IF(L49518=\"\",\"\",IF(M49518<Results!D$12,1,0))","v":""}]
[null,null,null,null,null,null,null,null,null,null,null,"",null,{"$f":"IF(L49519=\"\",\"\",IF(M49519<Results!D$12,1,0))","v":""}]
[null,null,null,null,null,null,null,null,null,null,null,"",null,{"$f":"IF(L49520=\"\",\"\",IF(M49520<Results!D$12,1,0))","v":""}]
[null,null,null,null,null,null,null,null,null,null,null,"",null,{"$f":"IF(L49521=\"\",\"\",IF(M49521<Results!D$12,1,0))","v":""}]
[null,null,null,null,null,null,null,null,null,null,null,"",null,{"$f":"IF(L49522=\"\",\"\",IF(M49522<Results!D$12,1,0))","v":""}]
[null,null,null,null,null,null,null,null,null,null,null,"",null,{"$f":"IF(L49523=\"\",\"\",IF(M49523<Results!D$12,1,0))","v":""}]
[null,null,null,null,null,null,null,null,null,null,null,"",null,{"$f":"IF(L49524=\"\",\"\",IF(M49524<Results!D$12,1,0))","v":""}]
[null,null,null,null,null,null,null,null,null,null,null,"",null,{"$f":"IF(L49525=\"\",\"\",IF(M49525<Results!D$12,1,0))","v":""}]
[null,null,null,null,null,null,null,null,null,null,null,"",null,{"$f":"IF(L49526=\"\",\"\",IF(M49526<Results!D$12,1,0))","v":""}]
[null,null,null,null,null,null,null,null,null,null,null,"",null,{"$f":"IF(L49527=\"\",\"\",IF(M49527<Results!D$12,1,0))","v":""}]
[null,null,null,null,null,null,null,null,null,null,null,"",null,{"$f":"IF(L49528=\"\",\"\",IF(M49528<Results!D$12,1,0))","v":""}]
[null,null,null,null,null,null,null,null,null,null,null,"",null,{"$f":"IF(L49529=\"\",\"\",IF(M49529<Results!D$12,1,0))","v":""}]
[null,null,null,null,null,null,null,null,null,null,null,"",null,{"$f":"IF(L49530=\"\",\"\",IF(M49530<Results!D$12,1,0))","v":""}]
[null,null,null,null,null,null,null,null,null,null,null,"",null,{"$f":"IF(L49531=\"\",\"\",IF(M49531<Results!D$12,1,0))","v":""}]
[null,null,null,null,null,null,null,null,null,null,null,"",null,{"$f":"IF(L49532=\"\",\"\",IF(M49532<Results!D$12,1,0))","v":""}]
[null,null,null,null,null,null,null,null,null,null,null,"",null,{"$f":"IF(L49533=\"\",\"\",IF(M49533<Results!D$12,1,0))","v":""}]
[null,null,null,null,null,null,null,null,null,null,null,"",null,{"$f":"IF(L49534=\"\",\"\",IF(M49534<Results!D$12,1,0))","v":""}]
[null,null,null,null,null,null,null,null,null,null,null,"",null,{"$f":"IF(L49535=\"\",\"\",IF(M49535<Results!D$12,1,0))","v":""}]
[null,null,null,null,null,null,null,null,null,null,null,"",null,{"$f":"IF(L49536=\"\",\"\",IF(M49536<Results!D$12,1,0))","v":""}]
[null,null,null,null,null,null,null,null,null,null,null,"",null,{"$f":"IF(L49537=\"\",\"\",IF(M49537<Results!D$12,1,0))","v":""}]
[null,null,null,null,null,null,null,null,null,null,null,"",null,{"$f":"IF(L49538=\"\",\"\",IF(M49538<Results!D$12,1,0))","v":""}]
[null,null,null,null,null,null,null,null,null,null,null,{"$f":"IF(M49539=\"\",\"\",ROW(L49539)-1)","v":""},null,{"$f":"IF(L49539=\"\",\"\",IF(M49539<Results!D$12,1,0))","v":""}]
[null,null,null,null,null,null,null,null,null,null,null,"",null,{"$f":"IF(L49540=\"\",\"\",IF(M49540<Results!D$12,1,0))","v":""}]
[null,null,null,null,null,null,null,null,null,null,null,"",null,{"$f":"IF(L49541=\"\",\"\",IF(M49541<Results!D$12,1,0))","v":""}]
[null,null,null,null,null,null,null,null,null,null,null,"",null,{"$f":"IF(L49542=\"\",\"\",IF(M49542<Results!D$12,1,0))","v":""}]
[null,null,null,null,null,null,null,null,null,null,null,"",null,{"$f":"IF(L49543=\"\",\"\",IF(M49543<Results!D$12,1,0))","v":""}]
[null,null,null,null,null,null,null,null,null,null,null,"",null,{"$f":"IF(L49544=\"\",\"\",IF(M49544<Results!D$12,1,0))","v":""}]
[null,null,null,null,null,null,null,null,null,null,null,"",null,{"$f":"IF(L49545=\"\",\"\",IF(M49545<Results!D$12,1,0))","v":""}]
[null,null,null,null,null,null,null,null,null,null,null,"",null,{"$f":"IF(L49546=\"\",\"\",IF(M49546<Results!D$12,1,0))","v":""}]
[null,null,null,null,null,null,null,null,null,null,null,"",null,{"$f":"IF(L49547=\"\",\"\",IF(M49547<Results!D$12,1,0))","v":""}]
[null,null,null,null,null,null,null,null,null,null,null,"",null,{"$f":"IF(L49548=\"\",\"\",IF(M49548<Results!D$12,1,0))","v":""}]
[null,null,null,null,null,null,null,null,null,null,null,"",null,{"$f":"IF(L49549=\"\",\"\",IF(M49549<Results!D$12,1,0))","v":""}]
[null,null,null,null,null,null,null,null,null,null,null,"",null,{"$f":"IF(L49550=\"\",\"\",IF(M49550<Results!D$12,1,0))","v":""}]
[null,null,null,null,null,null,null,null,null,null,null,"",null,{"$f":"IF(L49551=\"\",\"\",IF(M49551<Results!D$12,1,0))","v":""}]
[null,null,null,null,null,null,null,null,null,null,null,"",null,{"$f":"IF(L49552=\"\",\"\",IF(M49552<Results!D$12,1,0))","v":""}]
[null,null,null,null,null,null,null,null,null,null,null,"",null,{"$f":"IF(L49553=\"\",\"\",IF(M49553<Results!D$12,1,0))","v":""}]
[null,null,null,null,null,null,null,null,null,null,null,"",null,{"$f":"IF(L49554=\"\",\"\",IF(M49554<Results!D$12,1,0))","v":""}]
[null,null,null,null,null,null,null,null,null,null,null,"",null,{"$f":"IF(L49555=\"\",\"\",IF(M49555<Results!D$12,1,0))","v":""}]
[null,null,null,null,null,null,null,null,null,null,null,"",null,{"$f":"IF(L49556=\"\",\"\",IF(M49556<Results!D$12,1,0))","v":""}]
[null,null,null,null,null,null,null,null,null,null,null,"",null,{"$f":"IF(L49557=\"\",\"\",IF(M49557<Results!D$12,1,0))","v":""}]
[null,null,null,null,null,null,null,null,null,null,null,"",null,{"$f":"IF(L49558=\"\",\"\",IF(M49558<Results!D$12,1,0))","v":""}]
[null,null,null,null,null,null,null,null,null,null,null,"",null,{"$f":"IF(L49559=\"\",\"\",IF(M49559<Results!D$12,1,0))","v":""}]
[null,null,null,null,null,null,null,null,null,null,null,"",null,{"$f":"IF(L49560=\"\",\"\",IF(M49560<Results!D$12,1,0))","v":""}]
[null,null,null,null,null,null,null,null,null,null,null,"",null,{"$f":"IF(L49561=\"\",\"\",IF(M49561<Results!D$12,1,0))","v":""}]
[null,null,null,null,null,null,null,null,null,null,null,"",null,{"$f":"IF(L49562=\"\",\"\",IF(M49562<Results!D$12,1,0))","v":""}]
[null,null,null,null,null,null,null,null,null,null,null,"",null,{"$f":"IF(L49563=\"\",\"\",IF(M49563<Results!D$12,1,0))","v":""}]
[null,null,null,null,null,null,null,null,null,null,null,"",null,{"$f":"IF(L49564=\"\",\"\",IF(M49564<Results!D$12,1,0))","v":""}]
[null,null,null,null,null,null,null,null,null,null,null,"",null,{"$f":"IF(L49565=\"\",\"\",IF(M49565<Results!D$12,1,0))","v":""}]
[null,null,null,null,null,null,null,null,null,null,null,"",null,{"$f":"IF(L49566=\"\",\"\",IF(M49566<Results!D$12,1,0))","v":""}]
[null,null,null,null,null,null,null,null,null,null,null,"",null,{"$f":"IF(L49567=\"\",\"\",IF(M49567<Results!D$12,1,0))","v":""}]
[null,null,null,null,null,null,null,null,null,null,null,"",null,{"$f":"IF(L49568=\"\",\"\",IF(M49568<Results!D$12,1,0))","v":""}]
[null,null,null,null,null,null,null,null,null,null,null,"",null,{"$f":"IF(L49569=\"\",\"\",IF(M49569<Results!D$12,1,0))","v":""}]
[null,null,null,null,null,null,null,null,null,null,null,"",null,{"$f":"IF(L49570=\"\",\"\",IF(M49570<Results!D$12,1,0))","v":""}]
[null,null,null,null,null,null,null,null,null,null,null,"",null,{"$f":"IF(L49571=\"\",\"\",IF(M49571<Results!D$12,1,0))","v":""}]
[null,null,null,null,null,null,null,null,null,null,null,"",null,{"$f":"IF(L49572=\"\",\"\",IF(M49572<Results!D$12,1,0))","v":""}]
[null,null,null,null,null,null,null,null,null,null,null,"",null,{"$f":"IF(L49573=\"\",\"\",IF(M49573<Results!D$12,1,0))","v":""}]
[null,null,null,null,null,null,null,null,null,null,null,"",null,{"$f":"IF(L49574=\"\",\"\",IF(M49574<Results!D$12,1,0))","v":""}]
[null,null,null,null,null,null,null,null,null,null,null,"",null,{"$f":"IF(L49575=\"\",\"\",IF(M49575<Results!D$12,1,0))","v":""}]
[null,null,null,null,null,null,null,null,null,null,null,"",null,{"$f":"IF(L49576=\"\",\"\",IF(M49576<Results!D$12,1,0))","v":""}]
[null,null,null,null,null,null,null,null,null,null,null,"",null,{"$f":"IF(L49577=\"\",\"\",IF(M49577<Results!D$12,1,0))","v":""}]
[null,null,null,null,null,null,null,null,null,null,null,"",null,{"$f":"IF(L49578=\"\",\"\",IF(M49578<Results!D$12,1,0))","v":""}]
[null,null,null,null,null,null,null,null,null,null,null,"",null,{"$f":"IF(L49579=\"\",\"\",IF(M49579<Results!D$12,1,0))","v":""}]
[null,null,null,null,null,null,null,null,null,null,null,"",null,{"$f":"IF(L49580=\"\",\"\",IF(M49580<Results!D$12,1,0))","v":""}]
[null,null,null,null,null,null,null,null,null,null,null,"",null,{"$f":"IF(L49581=\"\",\"\",IF(M49581<Results!D$12,1,0))","v":""}]
[null,null,null,null,null,null,null,null,null,null,null,"",null,{"$f":"IF(L49582=\"\",\"\",IF(M49582<Results!D$12,1,0))","v":""}]
[null,null,null,null,null,null,null,null,null,null,null,"",null,{"$f":"IF(L49583=\"\",\"\",IF(M49583<Results!D$12,1,0))","v":""}]
[null,null,null,null,null,null,null,null,null,null,null,"",null,{"$f":"IF(L49584=\"\",\"\",IF(M49584<Results!D$12,1,0))","v":""}]
[null,null,null,null,null,null,null,null,null,null,null,"",null,{"$f":"IF(L49585=\"\",\"\",IF(M49585<Results!D$12,1,0))","v":""}]
[null,null,null,null,null,null,null,null,null,null,null,"",null,{"$f":"IF(L49586=\"\",\"\",IF(M49586<Results!D$12,1,0))","v":""}]
[null,null,null,null,null,null,null,null,null,null,null,"",null,{"$f":"IF(L49587=\"\",\"\",IF(M49587<Results!D$12,1,0))","v":""}]
[null,null,null,null,null,null,null,null,null,null,null,"",null,{"$f":"IF(L49588=\"\",\"\",IF(M49588<Results!D$12,1,0))","v":""}]
[null,null,null,null,null,null,null,null,null,null,null,"",null,{"$f":"IF(L49589=\"\",\"\",IF(M49589<Results!D$12,1,0))","v":""}]
[null,null,null,null,null,null,null,null,null,null,null,"",null,{"$f":"IF(L49590=\"\",\"\",IF(M49590<Results!D$12,1,0))","v":""}]
[null,null,null,null,null,null,null,null,null,null,null,"",null,{"$f":"IF(L49591=\"\",\"\",IF(M49591<Results!D$12,1,0))","v":""}]
[null,null,null,null,null,null,null,null,null,null,null,"",null,{"$f":"IF(L49592=\"\",\"\",IF(M49592<Results!D$12,1,0))","v":""}]
[null,null,null,null,null,null,null,null,null,null,null,"",null,{"$f":"IF(L49593=\"\",\"\",IF(M49593<Results!D$12,1,0))","v":""}]
[null,null,null,null,null,null,null,null,null,null,null,"",null,{"$f":"IF(L49594=\"\",\"\",IF(M49594<Results!D$12,1,0))","v":""}]
[null,null,null,null,null,null,null,null,null,null,null,"",null,{"$f":"IF(L49595=\"\",\"\",IF(M49595<Results!D$12,1,0))","v":""}]
[null,null,null,null,null,null,null,null,null,null,null,"",null,{"$f":"IF(L49596=\"\",\"\",IF(M49596<Results!D$12,1,0))","v":""}]
[null,null,null,null,null,null,null,null,null,null,null,"",null,{"$f":"IF(L49597=\"\",\"\",IF(M49597<Results!D$12,1,0))","v":""}]
[null,null,null,null,null,null,null,null,null,null,null,"",null,{"$f":"IF(L49598=\"\",\"\",IF(M49598<Results!D$12,1,0))","v":""}]
[null,null,null,null,null,null,null,null,null,null,null,"",null,{"$f":"IF(L49599=\"\",\"\",IF(M49599<Results!D$12,1,0))","v":""}]
[null,null,null,null,null,null,null,null,null,null,null,"",null,{"$f":"IF(L49600=\"\",\"\",IF(M49600<Results!D$12,1,0))","v":""}]
[null,null,null,null,null,null,null,null,null,null,null,"",null,{"$f":"IF(L49601=\"\",\"\",IF(M49601<Results!D$12,1,0))","v":""}]
[null,null,null,null,null,null,null,null,null,null,null,"",null,{"$f":"IF(L49602=\"\",\"\",IF(M49602<Results!D$12,1,0))","v":""}]
[null,null,null,null,null,null,null,null,null,null,null,{"$f":"IF(M49603=\"\",\"\",ROW(L49603)-1)","v":""},null,{"$f":"IF(L49603=\"\",\"\",IF(M49603<Results!D$12,1,0))","v":""}]
[null,null,null,null,null,null,null,null,null,null,null,"",null,{"$f":"IF(L49604=\"\",\"\",IF(M49604<Results!D$12,1,0))","v":""}]
[null,null,null,null,null,null,null,null,null,null,null,"",null,{"$f":"IF(L49605=\"\",\"\",IF(M49605<Results!D$12,1,0))","v":""}]
[null,null,null,null,null,null,null,null,null,null,null,"",null,{"$f":"IF(L49606=\"\",\"\",IF(M49606<Results!D$12,1,0))","v":""}]
[null,null,null,null,null,null,null,null,null,null,null,"",null,{"$f":"IF(L49607=\"\",\"\",IF(M49607<Results!D$12,1,0))","v":""}]
[null,null,null,null,null,null,null,null,null,null,null,"",null,{"$f":"IF(L49608=\"\",\"\",IF(M49608<Results!D$12,1,0))","v":""}]
[null,null,null,null,null,null,null,null,null,null,null,"",null,{"$f":"IF(L49609=\"\",\"\",IF(M49609<Results!D$12,1,0))","v":""}]
[null,null,null,null,null,null,null,null,null,null,null,"",null,{"$f":"IF(L49610=\"\",\"\",IF(M49610<Results!D$12,1,0))","v":""}]
[null,null,null,null,null,null,null,null,null,null,null,"",null,{"$f":"IF(L49611=\"\",\"\",IF(M49611<Results!D$12,1,0))","v":""}]
[null,null,null,null,null,null,null,null,null,null,null,"",null,{"$f":"IF(L49612=\"\",\"\",IF(M49612<Results!D$12,1,0))","v":""}]
[null,null,null,null,null,null,null,null,null,null,null,"",null,{"$f":"IF(L49613=\"\",\"\",IF(M49613<Results!D$12,1,0))","v":""}]
[null,null,null,null,null,null,null,null,null,null,null,"",null,{"$f":"IF(L49614=\"\",\"\",IF(M49614<Results!D$12,1,0))","v":""}]
[null,null,null,null,null,null,null,null,null,null,null,"",null,{"$f":"IF(L49615=\"\",\"\",IF(M49615<Results!D$12,1,0))","v":""}]
[null,null,null,null,null,null,null,null,null,null,null,"",null,{"$f":"IF(L49616=\"\",\"\",IF(M49616<Results!D$12,1,0))","v":""}]
[null,null,null,null,null,null,null,null,null,null,null,"",null,{"$f":"IF(L49617=\"\",\"\",IF(M49617<Results!D$12,1,0))","v":""}]
[null,null,null,null,null,null,null,null,null,null,null,"",null,{"$f":"IF(L49618=\"\",\"\",IF(M49618<Results!D$12,1,0))","v":""}]
[null,null,null,null,null,null,null,null,null,null,null,"",null,{"$f":"IF(L49619=\"\",\"\",IF(M49619<Results!D$12,1,0))","v":""}]
[null,null,null,null,null,null,null,null,null,null,null,"",null,{"$f":"IF(L49620=\"\",\"\",IF(M49620<Results!D$12,1,0))","v":""}]
[null,null,null,null,null,null,null,null,null,null,null,"",null,{"$f":"IF(L49621=\"\",\"\",IF(M49621<Results!D$12,1,0))","v":""}]
[null,null,null,null,null,null,null,null,null,null,null,"",null,{"$f":"IF(L49622=\"\",\"\",IF(M49622<Results!D$12,1,0))","v":""}]
[null,null,null,null,null,null,null,null,null,null,null,"",null,{"$f":"IF(L49623=\"\",\"\",IF(M49623<Results!D$12,1,0))","v":""}]
[null,null,null,null,null,null,null,null,null,null,null,"",null,{"$f":"IF(L49624=\"\",\"\",IF(M49624<Results!D$12,1,0))","v":""}]
[null,null,null,null,null,null,null,null,null,null,null,"",null,{"$f":"IF(L49625=\"\",\"\",IF(M49625<Results!D$12,1,0))","v":""}]
[null,null,null,null,null,null,null,null,null,null,null,"",null,{"$f":"IF(L49626=\"\",\"\",IF(M49626<Results!D$12,1,0))","v":""}]
[null,null,null,null,null,null,null,null,null,null,null,"",null,{"$f":"IF(L49627=\"\",\"\",IF(M49627<Results!D$12,1,0))","v":""}]
[null,null,null,null,null,null,null,null,null,null,null,"",null,{"$f":"IF(L49628=\"\",\"\",IF(M49628<Results!D$12,1,0))","v":""}]
[null,null,null,null,null,null,null,null,null,null,null,"",null,{"$f":"IF(L49629=\"\",\"\",IF(M49629<Results!D$12,1,0))","v":""}]
[null,null,null,null,null,null,null,null,null,null,null,"",null,{"$f":"IF(L49630=\"\",\"\",IF(M49630<Results!D$12,1,0))","v":""}]
[null,null,null,null,null,null,null,null,null,null,null,"",null,{"$f":"IF(L49631=\"\",\"\",IF(M49631<Results!D$12,1,0))","v":""}]
[null,null,null,null,null,null,null,null,null,null,null,"",null,{"$f":"IF(L49632=\"\",\"\",IF(M49632<Results!D$12,1,0))","v":""}]
[null,null,null,null,null,null,null,null,null,null,null,"",null,{"$f":"IF(L49633=\"\",\"\",IF(M49633<Results!D$12,1,0))","v":""}]
[null,null,null,null,null,null,null,null,null,null,null,"",null,{"$f":"IF(L49634=\"\",\"\",IF(M49634<Results!D$12,1,0))","v":""}]
[null,null,null,null,null,null,null,null,null,null,null,"",null,{"$f":"IF(L49635=\"\",\"\",IF(M49635<Results!D$12,1,0))","v":""}]
[null,null,null,null,null,null,null,null,null,null,null,"",null,{"$f":"IF(L49636=\"\",\"\",IF(M49636<Results!D$12,1,0))","v":""}]
[null,null,null,null,null,null,null,null,null,null,null,"",null,{"$f":"IF(L49637=\"\",\"\",IF(M49637<Results!D$12,1,0))","v":""}]
[null,null,null,null,null,null,null,null,null,null,null,"",null,{"$f":"IF(L49638=\"\",\"\",IF(M49638<Results!D$12,1,0))","v":""}]
[null,null,null,null,null,null,null,null,null,null,null,"",null,{"$f":"IF(L49639=\"\",\"\",IF(M49639<Results!D$12,1,0))","v":""}]
[null,null,null,null,null,null,null,null,null,null,null,"",null,{"$f":"IF(L49640=\"\",\"\",IF(M49640<Results!D$12,1,0))","v":""}]
[null,null,null,null,null,null,null,null,null,null,null,"",null,{"$f":"IF(L49641=\"\",\"\",IF(M49641<Results!D$12,1,0))","v":""}]
[null,null,null,null,null,null,null,null,null,null,null,"",null,{"$f":"IF(L49642=\"\",\"\",IF(M49642<Results!D$12,1,0))","v":""}]
[null,null,null,null,null,null,null,null,null,null,null,"",null,{"$f":"IF(L49643=\"\",\"\",IF(M49643<Results!D$12,1,0))","v":""}]
[null,null,null,null,null,null,null,null,null,null,null,"",null,{"$f":"IF(L49644=\"\",\"\",IF(M49644<Results!D$12,1,0))","v":""}]
[null,null,null,null,null,null,null,null,null,null,null,"",null,{"$f":"IF(L49645=\"\",\"\",IF(M49645<Results!D$12,1,0))","v":""}]
[null,null,null,null,null,null,null,null,null,null,null,"",null,{"$f":"IF(L49646=\"\",\"\",IF(M49646<Results!D$12,1,0))","v":""}]
[null,null,null,null,null,null,null,null,null,null,null,"",null,{"$f":"IF(L49647=\"\",\"\",IF(M49647<Results!D$12,1,0))","v":""}]
[null,null,null,null,null,null,null,null,null,null,null,"",null,{"$f":"IF(L49648=\"\",\"\",IF(M49648<Results!D$12,1,0))","v":""}]
[null,null,null,null,null,null,null,null,null,null,null,"",null,{"$f":"IF(L49649=\"\",\"\",IF(M49649<Results!D$12,1,0))","v":""}]
[null,null,null,null,null,null,null,null,null,null,null,"",null,{"$f":"IF(L49650=\"\",\"\",IF(M49650<Results!D$12,1,0))","v":""}]
[null,null,null,null,null,null,null,null,null,null,null,"",null,{"$f":"IF(L49651=\"\",\"\",IF(M49651<Results!D$12,1,0))","v":""}]
[null,null,null,null,null,null,null,null,null,null,null,"",null,{"$f":"IF(L49652=\"\",\"\",IF(M49652<Results!D$12,1,0))","v":""}]
[null,null,null,null,null,null,null,null,null,null,null,"",null,{"$f":"IF(L49653=\"\",\"\",IF(M49653<Results!D$12,1,0))","v":""}]
[null,null,null,null,null,null,null,null,null,null,null,"",null,{"$f":"IF(L49654=\"\",\"\",IF(M49654<Results!D$12,1,0))","v":""}]
[null,null,null,null,null,null,null,null,null,null,null,"",null,{"$f":"IF(L49655=\"\",\"\",IF(M49655<Results!D$12,1,0))","v":""}]
[null,null,null,null,null,null,null,null,null,null,null,"",null,{"$f":"IF(L49656=\"\",\"\",IF(M49656<Results!D$12,1,0))","v":""}]
[null,null,null,null,null,null,null,null,null,null,null,"",null,{"$f":"IF(L49657=\"\",\"\",IF(M49657<Results!D$12,1,0))","v":""}]
[null,null,null,null,null,null,null,null,null,null,null,"",null,{"$f":"IF(L49658=\"\",\"\",IF(M49658<Results!D$12,1,0))","v":""}]
[null,null,null,null,null,null,null,null,null,null,null,"",null,{"$f":"IF(L49659=\"\",\"\",IF(M49659<Results!D$12,1,0))","v":""}]
[null,null,null,null,null,null,null,null,null,null,null,"",null,{"$f":"IF(L49660=\"\",\"\",IF(M49660<Results!D$12,1,0))","v":""}]
[null,null,null,null,null,null,null,null,null,null,null,"",null,{"$f":"IF(L49661=\"\",\"\",IF(M49661<Results!D$12,1,0))","v":""}]
[null,null,null,null,null,null,null,null,null,null,null,"",null,{"$f":"IF(L49662=\"\",\"\",IF(M49662<Results!D$12,1,0))","v":""}]
[null,null,null,null,null,null,null,null,null,null,null,"",null,{"$f":"IF(L49663=\"\",\"\",IF(M49663<Results!D$12,1,0))","v":""}]
[null,null,null,null,null,null,null,null,null,null,null,"",null,{"$f":"IF(L49664=\"\",\"\",IF(M49664<Results!D$12,1,0))","v":""}]
[null,null,null,null,null,null,null,null,null,null,null,"",null,{"$f":"IF(L49665=\"\",\"\",IF(M49665<Results!D$12,1,0))","v":""}]
[null,null,null,null,null,null,null,null,null,null,null,"",null,{"$f":"IF(L49666=\"\",\"\",IF(M49666<Results!D$12,1,0))","v":""}]
[null,null,null,null,null,null,null,null,null,null,null,{"$f":"IF(M49667=\"\",\"\",ROW(L49667)-1)","v":""},null,{"$f":"IF(L49667=\"\",\"\",IF(M49667<Results!D$12,1,0))","v":""}]
[null,null,null,null,null,null,null,null,null,null,null,"",null,{"$f":"IF(L49668=\"\",\"\",IF(M49668<Results!D$12,1,0))","v":""}]
[null,null,null,null,null,null,null,null,null,null,null,"",null,{"$f":"IF(L49669=\"\",\"\",IF(M49669<Results!D$12,1,0))","v":""}]
[null,null,null,null,null,null,null,null,null,null,null,"",null,{"$f":"IF(L49670=\"\",\"\",IF(M49670<Results!D$12,1,0))","v":""}]
[null,null,null,null,null,null,null,null,null,null,null,"",null,{"$f":"IF(L49671=\"\",\"\",IF(M49671<Results!D$12,1,0))","v":""}]
[null,null,null,null,null,null,null,null,null,null,null,"",null,{"$f":"IF(L49672=\"\",\"\",IF(M49672<Results!D$12,1,0))","v":""}]
[null,null,null,null,null,null,null,null,null,null,null,"",null,{"$f":"IF(L49673=\"\",\"\",IF(M49673<Results!D$12,1,0))","v":""}]
[null,null,null,null,null,null,null,null,null,null,null,"",null,{"$f":"IF(L49674=\"\",\"\",IF(M49674<Results!D$12,1,0))","v":""}]
[null,null,null,null,null,null,null,null,null,null,null,"",null,{"$f":"IF(L49675=\"\",\"\",IF(M49675<Results!D$12,1,0))","v":""}]
[null,null,null,null,null,null,null,null,null,null,null,"",null,{"$f":"IF(L49676=\"\",\"\",IF(M49676<Results!D$12,1,0))","v":""}]
[null,null,null,null,null,null,null,null,null,null,null,"",null,{"$f":"IF(L49677=\"\",\"\",IF(M49677<Results!D$12,1,0))","v":""}]
[null,null,null,null,null,null,null,null,null,null,null,"",null,{"$f":"IF(L49678=\"\",\"\",IF(M49678<Results!D$12,1,0))","v":""}]
[null,null,null,null,null,null,null,null,null,null,null,"",null,{"$f":"IF(L49679=\"\",\"\",IF(M49679<Results!D$12,1,0))","v":""}]
[null,null,null,null,null,null,null,null,null,null,null,"",null,{"$f":"IF(L49680=\"\",\"\",IF(M49680<Results!D$12,1,0))","v":""}]
[null,null,null,null,null,null,null,null,null,null,null,"",null,{"$f":"IF(L49681=\"\",\"\",IF(M49681<Results!D$12,1,0))","v":""}]
[null,null,null,null,null,null,null,null,null,null,null,"",null,{"$f":"IF(L49682=\"\",\"\",IF(M49682<Results!D$12,1,0))","v":""}]
[null,null,null,null,null,null,null,null,null,null,null,"",null,{"$f":"IF(L49683=\"\",\"\",IF(M49683<Results!D$12,1,0))","v":""}]
[null,null,null,null,null,null,null,null,null,null,null,"",null,{"$f":"IF(L49684=\"\",\"\",IF(M49684<Results!D$12,1,0))","v":""}]
[null,null,null,null,null,null,null,null,null,null,null,"",null,{"$f":"IF(L49685=\"\",\"\",IF(M49685<Results!D$12,1,0))","v":""}]
[null,null,null,null,null,null,null,null,null,null,null,"",null,{"$f":"IF(L49686=\"\",\"\",IF(M49686<Results!D$12,1,0))","v":""}]
[null,null,null,null,null,null,null,null,null,null,null,"",null,{"$f":"IF(L49687=\"\",\"\",IF(M49687<Results!D$12,1,0))","v":""}]
[null,null,null,null,null,null,null,null,null,null,null,"",null,{"$f":"IF(L49688=\"\",\"\",IF(M49688<Results!D$12,1,0))","v":""}]
[null,null,null,null,null,null,null,null,null,null,null,"",null,{"$f":"IF(L49689=\"\",\"\",IF(M49689<Results!D$12,1,0))","v":""}]
[null,null,null,null,null,null,null,null,null,null,null,"",null,{"$f":"IF(L49690=\"\",\"\",IF(M49690<Results!D$12,1,0))","v":""}]
[null,null,null,null,null,null,null,null,null,null,null,"",null,{"$f":"IF(L49691=\"\",\"\",IF(M49691<Results!D$12,1,0))","v":""}]
[null,null,null,null,null,null,null,null,null,null,null,"",null,{"$f":"IF(L49692=\"\",\"\",IF(M49692<Results!D$12,1,0))","v":""}]
[null,null,null,null,null,null,null,null,null,null,null,"",null,{"$f":"IF(L49693=\"\",\"\",IF(M49693<Results!D$12,1,0))","v":""}]
[null,null,null,null,null,null,null,null,null,null,null,"",null,{"$f":"IF(L49694=\"\",\"\",IF(M49694<Results!D$12,1,0))","v":""}]
[null,null,null,null,null,null,null,null,null,null,null,"",null,{"$f":"IF(L49695=\"\",\"\",IF(M49695<Results!D$12,1,0))","v":""}]
[null,null,null,null,null,null,null,null,null,null,null,"",null,{"$f":"IF(L49696=\"\",\"\",IF(M49696<Results!D$12,1,0))","v":""}]
[null,null,null,null,null,null,null,null,null,null,null,"",null,{"$f":"IF(L49697=\"\",\"\",IF(M49697<Results!D$12,1,0))","v":""}]
[null,null,null,null,null,null,null,null,null,null,null,"",null,{"$f":"IF(L49698=\"\",\"\",IF(M49698<Results!D$12,1,0))","v":""}]
[null,null,null,null,null,null,null,null,null,null,null,"",null,{"$f":"IF(L49699=\"\",\"\",IF(M49699<Results!D$12,1,0))","v":""}]
[null,null,null,null,null,null,null,null,null,null,null,"",null,{"$f":"IF(L49700=\"\",\"\",IF(M49700<Results!D$12,1,0))","v":""}]
[null,null,null,null,null,null,null,null,null,null,null,"",null,{"$f":"IF(L49701=\"\",\"\",IF(M49701<Results!D$12,1,0))","v":""}]
[null,null,null,null,null,null,null,null,null,null,null,"",null,{"$f":"IF(L49702=\"\",\"\",IF(M49702<Results!D$12,1,0))","v":""}]
[null,null,null,null,null,null,null,null,null,null,null,"",null,{"$f":"IF(L49703=\"\",\"\",IF(M49703<Results!D$12,1,0))","v":""}]
[null,null,null,null,null,null,null,null,null,null,null,"",null,{"$f":"IF(L49704=\"\",\"\",IF(M49704<Results!D$12,1,0))","v":""}]
[null,null,null,null,null,null,null,null,null,null,null,"",null,{"$f":"IF(L49705=\"\",\"\",IF(M49705<Results!D$12,1,0))","v":""}]
[null,null,null,null,null,null,null,null,null,null,null,"",null,{"$f":"IF(L49706=\"\",\"\",IF(M49706<Results!D$12,1,0))","v":""}]
[null,null,null,null,null,null,null,null,null,null,null,"",null,{"$f":"IF(L49707=\"\",\"\",IF(M49707<Results!D$12,1,0))","v":""}]
[null,null,null,null,null,null,null,null,null,null,null,"",null,{"$f":"IF(L49708=\"\",\"\",IF(M49708<Results!D$12,1,0))","v":""}]
[null,null,null,null,null,null,null,null,null,null,null,"",null,{"$f":"IF(L49709=\"\",\"\",IF(M49709<Results!D$12,1,0))","v":""}]
[null,null,null,null,null,null,null,null,null,null,null,"",null,{"$f":"IF(L49710=\"\",\"\",IF(M49710<Results!D$12,1,0))","v":""}]
[null,null,null,null,null,null,null,null,null,null,null,"",null,{"$f":"IF(L49711=\"\",\"\",IF(M49711<Results!D$12,1,0))","v":""}]
[null,null,null,null,null,null,null,null,null,null,null,"",null,{"$f":"IF(L49712=\"\",\"\",IF(M49712<Results!D$12,1,0))","v":""}]
[null,null,null,null,null,null,null,null,null,null,null,"",null,{"$f":"IF(L49713=\"\",\"\",IF(M49713<Results!D$12,1,0))","v":""}]
[null,null,null,null,null,null,null,null,null,null,null,"",null,{"$f":"IF(L49714=\"\",\"\",IF(M49714<Results!D$12,1,0))","v":""}]
[null,null,null,null,null,null,null,null,null,null,null,"",null,{"$f":"IF(L49715=\"\",\"\",IF(M49715<Results!D$12,1,0))","v":""}]
[null,null,null,null,null,null,null,null,null,null,null,"",null,{"$f":"IF(L49716=\"\",\"\",IF(M49716<Results!D$12,1,0))","v":""}]
[null,null,null,null,null,null,null,null,null,null,null,"",null,{"$f":"IF(L49717=\"\",\"\",IF(M49717<Results!D$12,1,0))","v":""}]
[null,null,null,null,null,null,null,null,null,null,null,"",null,{"$f":"IF(L49718=\"\",\"\",IF(M49718<Results!D$12,1,0))","v":""}]
[null,null,null,null,null,null,null,null,null,null,null,"",null,{"$f":"IF(L49719=\"\",\"\",IF(M49719<Results!D$12,1,0))","v":""}]
[null,null,null,null,null,null,null,null,null,null,null,"",null,{"$f":"IF(L49720=\"\",\"\",IF(M49720<Results!D$12,1,0))","v":""}]
[null,null,null,null,null,null,null,null,null,null,null,"",null,{"$f":"IF(L49721=\"\",\"\",IF(M49721<Results!D$12,1,0))","v":""}]
[null,null,null,null,null,null,null,null,null,null,null,"",null,{"$f":"IF(L49722=\"\",\"\",IF(M49722<Results!D$12,1,0))","v":""}]
[null,null,null,null,null,null,null,null,null,null,null,"",null,{"$f":"IF(L49723=\"\",\"\",IF(M49723<Results!D$12,1,0))","v":""}]
[null,null,null,null,null,null,null,null,null,null,null,"",null,{"$f":"IF(L49724=\"\",\"\",IF(M49724<Results!D$12,1,0))","v":""}]
[null,null,null,null,null,null,null,null,null,null,null,"",null,{"$f":"IF(L49725=\"\",\"\",IF(M49725<Results!D$12,1,0))","v":""}]
[null,null,null,null,null,null,null,null,null,null,null,"",null,{"$f":"IF(L49726=\"\",\"\",IF(M49726<Results!D$12,1,0))","v":""}]
[null,null,null,null,null,null,null,null,null,null,null,"",null,{"$f":"IF(L49727=\"\",\"\",IF(M49727<Results!D$12,1,0))","v":""}]
[null,null,null,null,null,null,null,null,null,null,null,"",null,{"$f":"IF(L49728=\"\",\"\",IF(M49728<Results!D$12,1,0))","v":""}]
[null,null,null,null,null,null,null,null,null,null,null,"",null,{"$f":"IF(L49729=\"\",\"\",IF(M49729<Results!D$12,1,0))","v":""}]
[null,null,null,null,null,null,null,null,null,null,null,"",null,{"$f":"IF(L49730=\"\",\"\",IF(M49730<Results!D$12,1,0))","v":""}]
[null,null,null,null,null,null,null,null,null,null,null,{"$f":"IF(M49731=\"\",\"\",ROW(L49731)-1)","v":""},null,{"$f":"IF(L49731=\"\",\"\",IF(M49731<Results!D$12,1,0))","v":""}]
[null,null,null,null,null,null,null,null,null,null,null,"",null,{"$f":"IF(L49732=\"\",\"\",IF(M49732<Results!D$12,1,0))","v":""}]
[null,null,null,null,null,null,null,null,null,null,null,"",null,{"$f":"IF(L49733=\"\",\"\",IF(M49733<Results!D$12,1,0))","v":""}]
[null,null,null,null,null,null,null,null,null,null,null,"",null,{"$f":"IF(L49734=\"\",\"\",IF(M49734<Results!D$12,1,0))","v":""}]
[null,null,null,null,null,null,null,null,null,null,null,"",null,{"$f":"IF(L49735=\"\",\"\",IF(M49735<Results!D$12,1,0))","v":""}]
[null,null,null,null,null,null,null,null,null,null,null,"",null,{"$f":"IF(L49736=\"\",\"\",IF(M49736<Results!D$12,1,0))","v":""}]
[null,null,null,null,null,null,null,null,null,null,null,"",null,{"$f":"IF(L49737=\"\",\"\",IF(M49737<Results!D$12,1,0))","v":""}]
[null,null,null,null,null,null,null,null,null,null,null,"",null,{"$f":"IF(L49738=\"\",\"\",IF(M49738<Results!D$12,1,0))","v":""}]
[null,null,null,null,null,null,null,null,null,null,null,"",null,{"$f":"IF(L49739=\"\",\"\",IF(M49739<Results!D$12,1,0))","v":""}]
[null,null,null,null,null,null,null,null,null,null,null,"",null,{"$f":"IF(L49740=\"\",\"\",IF(M49740<Results!D$12,1,0))","v":""}]
[null,null,null,null,null,null,null,null,null,null,null,"",null,{"$f":"IF(L49741=\"\",\"\",IF(M49741<Results!D$12,1,0))","v":""}]
[null,null,null,null,null,null,null,null,null,null,null,"",null,{"$f":"IF(L49742=\"\",\"\",IF(M49742<Results!D$12,1,0))","v":""}]
[null,null,null,null,null,null,null,null,null,null,null,"",null,{"$f":"IF(L49743=\"\",\"\",IF(M49743<Results!D$12,1,0))","v":""}]
[null,null,null,null,null,null,null,null,null,null,null,"",null,{"$f":"IF(L49744=\"\",\"\",IF(M49744<Results!D$12,1,0))","v":""}]
[null,null,null,null,null,null,null,null,null,null,null,"",null,{"$f":"IF(L49745=\"\",\"\",IF(M49745<Results!D$12,1,0))","v":""}]
[null,null,null,null,null,null,null,null,null,null,null,"",null,{"$f":"IF(L49746=\"\",\"\",IF(M49746<Results!D$12,1,0))","v":""}]
[null,null,null,null,null,null,null,null,null,null,null,"",null,{"$f":"IF(L49747=\"\",\"\",IF(M49747<Results!D$12,1,0))","v":""}]
[null,null,null,null,null,null,null,null,null,null,null,"",null,{"$f":"IF(L49748=\"\",\"\",IF(M49748<Results!D$12,1,0))","v":""}]
[null,null,null,null,null,null,null,null,null,null,null,"",null,{"$f":"IF(L49749=\"\",\"\",IF(M49749<Results!D$12,1,0))","v":""}]
[null,null,null,null,null,null,null,null,null,null,null,"",null,{"$f":"IF(L49750=\"\",\"\",IF(M49750<Results!D$12,1,0))","v":""}]
[null,null,null,null,null,null,null,null,null,null,null,"",null,{"$f":"IF(L49751=\"\",\"\",IF(M49751<Results!D$12,1,0))","v":""}]
[null,null,null,null,null,null,null,null,null,null,null,"",null,{"$f":"IF(L49752=\"\",\"\",IF(M49752<Results!D$12,1,0))","v":""}]
[null,null,null,null,null,null,null,null,null,null,null,"",null,{"$f":"IF(L49753=\"\",\"\",IF(M49753<Results!D$12,1,0))","v":""}]
[null,null,null,null,null,null,null,null,null,null,null,"",null,{"$f":"IF(L49754=\"\",\"\",IF(M49754<Results!D$12,1,0))","v":""}]
[null,null,null,null,null,null,null,null,null,null,null,"",null,{"$f":"IF(L49755=\"\",\"\",IF(M49755<Results!D$12,1,0))","v":""}]
[null,null,null,null,null,null,null,null,null,null,null,"",null,{"$f":"IF(L49756=\"\",\"\",IF(M49756<Results!D$12,1,0))","v":""}]
[null,null,null,null,null,null,null,null,null,null,null,"",null,{"$f":"IF(L49757=\"\",\"\",IF(M49757<Results!D$12,1,0))","v":""}]
[null,null,null,null,null,null,null,null,null,null,null,"",null,{"$f":"IF(L49758=\"\",\"\",IF(M49758<Results!D$12,1,0))","v":""}]
[null,null,null,null,null,null,null,null,null,null,null,"",null,{"$f":"IF(L49759=\"\",\"\",IF(M49759<Results!D$12,1,0))","v":""}]
[null,null,null,null,null,null,null,null,null,null,null,"",null,{"$f":"IF(L49760=\"\",\"\",IF(M49760<Results!D$12,1,0))","v":""}]
[null,null,null,null,null,null,null,null,null,null,null,"",null,{"$f":"IF(L49761=\"\",\"\",IF(M49761<Results!D$12,1,0))","v":""}]
[null,null,null,null,null,null,null,null,null,null,null,"",null,{"$f":"IF(L49762=\"\",\"\",IF(M49762<Results!D$12,1,0))","v":""}]
[null,null,null,null,null,null,null,null,null,null,null,"",null,{"$f":"IF(L49763=\"\",\"\",IF(M49763<Results!D$12,1,0))","v":""}]
[null,null,null,null,null,null,null,null,null,null,null,"",null,{"$f":"IF(L49764=\"\",\"\",IF(M49764<Results!D$12,1,0))","v":""}]
[null,null,null,null,null,null,null,null,null,null,null,"",null,{"$f":"IF(L49765=\"\",\"\",IF(M49765<Results!D$12,1,0))","v":""}]
[null,null,null,null,null,null,null,null,null,null,null,"",null,{"$f":"IF(L49766=\"\",\"\",IF(M49766<Results!D$12,1,0))","v":""}]
[null,null,null,null,null,null,null,null,null,null,null,"",null,{"$f":"IF(L49767=\"\",\"\",IF(M49767<Results!D$12,1,0))","v":""}]
[null,null,null,null,null,null,null,null,null,null,null,"",null,{"$f":"IF(L49768=\"\",\"\",IF(M49768<Results!D$12,1,0))","v":""}]
[null,null,null,null,null,null,null,null,null,null,null,"",null,{"$f":"IF(L49769=\"\",\"\",IF(M49769<Results!D$12,1,0))","v":""}]
[null,null,null,null,null,null,null,null,null,null,null,"",null,{"$f":"IF(L49770=\"\",\"\",IF(M49770<Results!D$12,1,0))","v":""}]
[null,null,null,null,null,null,null,null,null,null,null,"",null,{"$f":"IF(L49771=\"\",\"\",IF(M49771<Results!D$12,1,0))","v":""}]
[null,null,null,null,null,null,null,null,null,null,null,"",null,{"$f":"IF(L49772=\"\",\"\",IF(M49772<Results!D$12,1,0))","v":""}]
[null,null,null,null,null,null,null,null,null,null,null,"",null,{"$f":"IF(L49773=\"\",\"\",IF(M49773<Results!D$12,1,0))","v":""}]
[null,null,null,null,null,null,null,null,null,null,null,"",null,{"$f":"IF(L49774=\"\",\"\",IF(M49774<Results!D$12,1,0))","v":""}]
[null,null,null,null,null,null,null,null,null,null,null,"",null,{"$f":"IF(L49775=\"\",\"\",IF(M49775<Results!D$12,1,0))","v":""}]
[null,null,null,null,null,null,null,null,null,null,null,"",null,{"$f":"IF(L49776=\"\",\"\",IF(M49776<Results!D$12,1,0))","v":""}]
[null,null,null,null,null,null,null,null,null,null,null,"",null,{"$f":"IF(L49777=\"\",\"\",IF(M49777<Results!D$12,1,0))","v":""}]
[null,null,null,null,null,null,null,null,null,null,null,"",null,{"$f":"IF(L49778=\"\",\"\",IF(M49778<Results!D$12,1,0))","v":""}]
[null,null,null,null,null,null,null,null,null,null,null,"",null,{"$f":"IF(L49779=\"\",\"\",IF(M49779<Results!D$12,1,0))","v":""}]
[null,null,null,null,null,null,null,null,null,null,null,"",null,{"$f":"IF(L49780=\"\",\"\",IF(M49780<Results!D$12,1,0))","v":""}]
[null,null,null,null,null,null,null,null,null,null,null,"",null,{"$f":"IF(L49781=\"\",\"\",IF(M49781<Results!D$12,1,0))","v":""}]
[null,null,null,null,null,null,null,null,null,null,null,"",null,{"$f":"IF(L49782=\"\",\"\",IF(M49782<Results!D$12,1,0))","v":""}]
[null,null,null,null,null,null,null,null,null,null,null,"",null,{"$f":"IF(L49783=\"\",\"\",IF(M49783<Results!D$12,1,0))","v":""}]
[null,null,null,null,null,null,null,null,null,null,null,"",null,{"$f":"IF(L49784=\"\",\"\",IF(M49784<Results!D$12,1,0))","v":""}]
[null,null,null,null,null,null,null,null,null,null,null,"",null,{"$f":"IF(L49785=\"\",\"\",IF(M49785<Results!D$12,1,0))","v":""}]
[null,null,null,null,null,null,null,null,null,null,null,"",null,{"$f":"IF(L49786=\"\",\"\",IF(M49786<Results!D$12,1,0))","v":""}]
[null,null,null,null,null,null,null,null,null,null,null,"",null,{"$f":"IF(L49787=\"\",\"\",IF(M49787<Results!D$12,1,0))","v":""}]
[null,null,null,null,null,null,null,null,null,null,null,"",null,{"$f":"IF(L49788=\"\",\"\",IF(M49788<Results!D$12,1,0))","v":""}]
[null,null,null,null,null,null,null,null,null,null,null,"",null,{"$f":"IF(L49789=\"\",\"\",IF(M49789<Results!D$12,1,0))","v":""}]
[null,null,null,null,null,null,null,null,null,null,null,"",null,{"$f":"IF(L49790=\"\",\"\",IF(M49790<Results!D$12,1,0))","v":""}]
[null,null,null,null,null,null,null,null,null,null,null,"",null,{"$f":"IF(L49791=\"\",\"\",IF(M49791<Results!D$12,1,0))","v":""}]
[null,null,null,null,null,null,null,null,null,null,null,"",null,{"$f":"IF(L49792=\"\",\"\",IF(M49792<Results!D$12,1,0))","v":""}]
[null,null,null,null,null,null,null,null,null,null,null,"",null,{"$f":"IF(L49793=\"\",\"\",IF(M49793<Results!D$12,1,0))","v":""}]
[null,null,null,null,null,null,null,null,null,null,null,"",null,{"$f":"IF(L49794=\"\",\"\",IF(M49794<Results!D$12,1,0))","v":""}]
[null,null,null,null,null,null,null,null,null,null,null,{"$f":"IF(M49795=\"\",\"\",ROW(L49795)-1)","v":""},null,{"$f":"IF(L49795=\"\",\"\",IF(M49795<Results!D$12,1,0))","v":""}]
[null,null,null,null,null,null,null,null,null,null,null,"",null,{"$f":"IF(L49796=\"\",\"\",IF(M49796<Results!D$12,1,0))","v":""}]
[null,null,null,null,null,null,null,null,null,null,null,"",null,{"$f":"IF(L49797=\"\",\"\",IF(M49797<Results!D$12,1,0))","v":""}]
[null,null,null,null,null,null,null,null,null,null,null,"",null,{"$f":"IF(L49798=\"\",\"\",IF(M49798<Results!D$12,1,0))","v":""}]
[null,null,null,null,null,null,null,null,null,null,null,"",null,{"$f":"IF(L49799=\"\",\"\",IF(M49799<Results!D$12,1,0))","v":""}]
[null,null,null,null,null,null,null,null,null,null,null,"",null,{"$f":"IF(L49800=\"\",\"\",IF(M49800<Results!D$12,1,0))","v":""}]
[null,null,null,null,null,null,null,null,null,null,null,"",null,{"$f":"IF(L49801=\"\",\"\",IF(M49801<Results!D$12,1,0))","v":""}]
[null,null,null,null,null,null,null,null,null,null,null,"",null,{"$f":"IF(L49802=\"\",\"\",IF(M49802<Results!D$12,1,0))","v":""}]
[null,null,null,null,null,null,null,null,null,null,null,"",null,{"$f":"IF(L49803=\"\",\"\",IF(M49803<Results!D$12,1,0))","v":""}]
[null,null,null,null,null,null,null,null,null,null,null,"",null,{"$f":"IF(L49804=\"\",\"\",IF(M49804<Results!D$12,1,0))","v":""}]
[null,null,null,null,null,null,null,null,null,null,null,"",null,{"$f":"IF(L49805=\"\",\"\",IF(M49805<Results!D$12,1,0))","v":""}]
[null,null,null,null,null,null,null,null,null,null,null,"",null,{"$f":"IF(L49806=\"\",\"\",IF(M49806<Results!D$12,1,0))","v":""}]
[null,null,null,null,null,null,null,null,null,null,null,"",null,{"$f":"IF(L49807=\"\",\"\",IF(M49807<Results!D$12,1,0))","v":""}]
[null,null,null,null,null,null,null,null,null,null,null,"",null,{"$f":"IF(L49808=\"\",\"\",IF(M49808<Results!D$12,1,0))","v":""}]
[null,null,null,null,null,null,null,null,null,null,null,"",null,{"$f":"IF(L49809=\"\",\"\",IF(M49809<Results!D$12,1,0))","v":""}]
[null,null,null,null,null,null,null,null,null,null,null,"",null,{"$f":"IF(L49810=\"\",\"\",IF(M49810<Results!D$12,1,0))","v":""}]
[null,null,null,null,null,null,null,null,null,null,null,"",null,{"$f":"IF(L49811=\"\",\"\",IF(M49811<Results!D$12,1,0))","v":""}]
[null,null,null,null,null,null,null,null,null,null,null,"",null,{"$f":"IF(L49812=\"\",\"\",IF(M49812<Results!D$12,1,0))","v":""}]
[null,null,null,null,null,null,null,null,null,null,null,"",null,{"$f":"IF(L49813=\"\",\"\",IF(M49813<Results!D$12,1,0))","v":""}]
[null,null,null,null,null,null,null,null,null,null,null,"",null,{"$f":"IF(L49814=\"\",\"\",IF(M49814<Results!D$12,1,0))","v":""}]
[null,null,null,null,null,null,null,null,null,null,null,"",null,{"$f":"IF(L49815=\"\",\"\",IF(M49815<Results!D$12,1,0))","v":""}]
[null,null,null,null,null,null,null,null,null,null,null,"",null,{"$f":"IF(L49816=\"\",\"\",IF(M49816<Results!D$12,1,0))","v":""}]
[null,null,null,null,null,null,null,null,null,null,null,"",null,{"$f":"IF(L49817=\"\",\"\",IF(M49817<Results!D$12,1,0))","v":""}]
[null,null,null,null,null,null,null,null,null,null,null,"",null,{"$f":"IF(L49818=\"\",\"\",IF(M49818<Results!D$12,1,0))","v":""}]
[null,null,null,null,null,null,null,null,null,null,null,"",null,{"$f":"IF(L49819=\"\",\"\",IF(M49819<Results!D$12,1,0))","v":""}]
[null,null,null,null,null,null,null,null,null,null,null,"",null,{"$f":"IF(L49820=\"\",\"\",IF(M49820<Results!D$12,1,0))","v":""}]
[null,null,null,null,null,null,null,null,null,null,null,"",null,{"$f":"IF(L49821=\"\",\"\",IF(M49821<Results!D$12,1,0))","v":""}]
[null,null,null,null,null,null,null,null,null,null,null,"",null,{"$f":"IF(L49822=\"\",\"\",IF(M49822<Results!D$12,1,0))","v":""}]
[null,null,null,null,null,null,null,null,null,null,null,"",null,{"$f":"IF(L49823=\"\",\"\",IF(M49823<Results!D$12,1,0))","v":""}]
[null,null,null,null,null,null,null,null,null,null,null,"",null,{"$f":"IF(L49824=\"\",\"\",IF(M49824<Results!D$12,1,0))","v":""}]
[null,null,null,null,null,null,null,null,null,null,null,"",null,{"$f":"IF(L49825=\"\",\"\",IF(M49825<Results!D$12,1,0))","v":""}]
[null,null,null,null,null,null,null,null,null,null,null,"",null,{"$f":"IF(L49826=\"\",\"\",IF(M49826<Results!D$12,1,0))","v":""}]
[null,null,null,null,null,null,null,null,null,null,null,"",null,{"$f":"IF(L49827=\"\",\"\",IF(M49827<Results!D$12,1,0))","v":""}]
[null,null,null,null,null,null,null,null,null,null,null,"",null,{"$f":"IF(L49828=\"\",\"\",IF(M49828<Results!D$12,1,0))","v":""}]
[null,null,null,null,null,null,null,null,null,null,null,"",null,{"$f":"IF(L49829=\"\",\"\",IF(M49829<Results!D$12,1,0))","v":""}]
[null,null,null,null,null,null,null,null,null,null,null,"",null,{"$f":"IF(L49830=\"\",\"\",IF(M49830<Results!D$12,1,0))","v":""}]
[null,null,null,null,null,null,null,null,null,null,null,"",null,{"$f":"IF(L49831=\"\",\"\",IF(M49831<Results!D$12,1,0))","v":""}]
[null,null,null,null,null,null,null,null,null,null,null,"",null,{"$f":"IF(L49832=\"\",\"\",IF(M49832<Results!D$12,1,0))","v":""}]
[null,null,null,null,null,null,null,null,null,null,null,"",null,{"$f":"IF(L49833=\"\",\"\",IF(M49833<Results!D$12,1,0))","v":""}]
[null,null,null,null,null,null,null,null,null,null,null,"",null,{"$f":"IF(L49834=\"\",\"\",IF(M49834<Results!D$12,1,0))","v":""}]
[null,null,null,null,null,null,null,null,null,null,null,"",null,{"$f":"IF(L49835=\"\",\"\",IF(M49835<Results!D$12,1,0))","v":""}]
[null,null,null,null,null,null,null,null,null,null,null,"",null,{"$f":"IF(L49836=\"\",\"\",IF(M49836<Results!D$12,1,0))","v":""}]
[null,null,null,null,null,null,null,null,null,null,null,"",null,{"$f":"IF(L49837=\"\",\"\",IF(M49837<Results!D$12,1,0))","v":""}]
[null,null,null,null,null,null,null,null,null,null,null,"",null,{"$f":"IF(L49838=\"\",\"\",IF(M49838<Results!D$12,1,0))","v":""}]
[null,null,null,null,null,null,null,null,null,null,null,"",null,{"$f":"IF(L49839=\"\",\"\",IF(M49839<Results!D$12,1,0))","v":""}]
[null,null,null,null,null,null,null,null,null,null,null,"",null,{"$f":"IF(L49840=\"\",\"\",IF(M49840<Results!D$12,1,0))","v":""}]
[null,null,null,null,null,null,null,null,null,null,null,"",null,{"$f":"IF(L49841=\"\",\"\",IF(M49841<Results!D$12,1,0))","v":""}]
[null,null,null,null,null,null,null,null,null,null,null,"",null,{"$f":"IF(L49842=\"\",\"\",IF(M49842<Results!D$12,1,0))","v":""}]
[null,null,null,null,null,null,null,null,null,null,null,"",null,{"$f":"IF(L49843=\"\",\"\",IF(M49843<Results!D$12,1,0))","v":""}]
[null,null,null,null,null,null,null,null,null,null,null,"",null,{"$f":"IF(L49844=\"\",\"\",IF(M49844<Results!D$12,1,0))","v":""}]
[null,null,null,null,null,null,null,null,null,null,null,"",null,{"$f":"IF(L49845=\"\",\"\",IF(M49845<Results!D$12,1,0))","v":""}]
[null,null,null,null,null,null,null,null,null,null,null,"",null,{"$f":"IF(L49846=\"\",\"\",IF(M49846<Results!D$12,1,0))","v":""}]
[null,null,null,null,null,null,null,null,null,null,null,"",null,{"$f":"IF(L49847=\"\",\"\",IF(M49847<Results!D$12,1,0))","v":""}]
[null,null,null,null,null,null,null,null,null,null,null,"",null,{"$f":"IF(L49848=\"\",\"\",IF(M49848<Results!D$12,1,0))","v":""}]
[null,null,null,null,null,null,null,null,null,null,null,"",null,{"$f":"IF(L49849=\"\",\"\",IF(M49849<Results!D$12,1,0))","v":""}]
[null,null,null,null,null,null,null,null,null,null,null,"",null,{"$f":"IF(L49850=\"\",\"\",IF(M49850<Results!D$12,1,0))","v":""}]
[null,null,null,null,null,null,null,null,null,null,null,"",null,{"$f":"IF(L49851=\"\",\"\",IF(M49851<Results!D$12,1,0))","v":""}]
[null,null,null,null,null,null,null,null,null,null,null,"",null,{"$f":"IF(L49852=\"\",\"\",IF(M49852<Results!D$12,1,0))","v":""}]
[null,null,null,null,null,null,null,null,null,null,null,"",null,{"$f":"IF(L49853=\"\",\"\",IF(M49853<Results!D$12,1,0))","v":""}]
[null,null,null,null,null,null,null,null,null,null,null,"",null,{"$f":"IF(L49854=\"\",\"\",IF(M49854<Results!D$12,1,0))","v":""}]
[null,null,null,null,null,null,null,null,null,null,null,"",null,{"$f":"IF(L49855=\"\",\"\",IF(M49855<Results!D$12,1,0))","v":""}]
[null,null,null,null,null,null,null,null,null,null,null,"",null,{"$f":"IF(L49856=\"\",\"\",IF(M49856<Results!D$12,1,0))","v":""}]
[null,null,null,null,null,null,null,null,null,null,null,"",null,{"$f":"IF(L49857=\"\",\"\",IF(M49857<Results!D$12,1,0))","v":""}]
[null,null,null,null,null,null,null,null,null,null,null,"",null,{"$f":"IF(L49858=\"\",\"\",IF(M49858<Results!D$12,1,0))","v":""}]
[null,null,null,null,null,null,null,null,null,null,null,{"$f":"IF(M49859=\"\",\"\",ROW(L49859)-1)","v":""},null,{"$f":"IF(L49859=\"\",\"\",IF(M49859<Results!D$12,1,0))","v":""}]
[null,null,null,null,null,null,null,null,null,null,null,"",null,{"$f":"IF(L49860=\"\",\"\",IF(M49860<Results!D$12,1,0))","v":""}]
[null,null,null,null,null,null,null,null,null,null,null,"",null,{"$f":"IF(L49861=\"\",\"\",IF(M49861<Results!D$12,1,0))","v":""}]
[null,null,null,null,null,null,null,null,null,null,null,"",null,{"$f":"IF(L49862=\"\",\"\",IF(M49862<Results!D$12,1,0))","v":""}]
[null,null,null,null,null,null,null,null,null,null,null,"",null,{"$f":"IF(L49863=\"\",\"\",IF(M49863<Results!D$12,1,0))","v":""}]
[null,null,null,null,null,null,null,null,null,null,null,"",null,{"$f":"IF(L49864=\"\",\"\",IF(M49864<Results!D$12,1,0))","v":""}]
[null,null,null,null,null,null,null,null,null,null,null,"",null,{"$f":"IF(L49865=\"\",\"\",IF(M49865<Results!D$12,1,0))","v":""}]
[null,null,null,null,null,null,null,null,null,null,null,"",null,{"$f":"IF(L49866=\"\",\"\",IF(M49866<Results!D$12,1,0))","v":""}]
[null,null,null,null,null,null,null,null,null,null,null,"",null,{"$f":"IF(L49867=\"\",\"\",IF(M49867<Results!D$12,1,0))","v":""}]
[null,null,null,null,null,null,null,null,null,null,null,"",null,{"$f":"IF(L49868=\"\",\"\",IF(M49868<Results!D$12,1,0))","v":""}]
[null,null,null,null,null,null,null,null,null,null,null,"",null,{"$f":"IF(L49869=\"\",\"\",IF(M49869<Results!D$12,1,0))","v":""}]
[null,null,null,null,null,null,null,null,null,null,null,"",null,{"$f":"IF(L49870=\"\",\"\",IF(M49870<Results!D$12,1,0))","v":""}]
[null,null,null,null,null,null,null,null,null,null,null,"",null,{"$f":"IF(L49871=\"\",\"\",IF(M49871<Results!D$12,1,0))","v":""}]
[null,null,null,null,null,null,null,null,null,null,null,"",null,{"$f":"IF(L49872=\"\",\"\",IF(M49872<Results!D$12,1,0))","v":""}]
[null,null,null,null,null,null,null,null,null,null,null,"",null,{"$f":"IF(L49873=\"\",\"\",IF(M49873<Results!D$12,1,0))","v":""}]
[null,null,null,null,null,null,null,null,null,null,null,"",null,{"$f":"IF(L49874=\"\",\"\",IF(M49874<Results!D$12,1,0))","v":""}]
[null,null,null,null,null,null,null,null,null,null,null,"",null,{"$f":"IF(L49875=\"\",\"\",IF(M49875<Results!D$12,1,0))","v":""}]
[null,null,null,null,null,null,null,null,null,null,null,"",null,{"$f":"IF(L49876=\"\",\"\",IF(M49876<Results!D$12,1,0))","v":""}]
[null,null,null,null,null,null,null,null,null,null,null,"",null,{"$f":"IF(L49877=\"\",\"\",IF(M49877<Results!D$12,1,0))","v":""}]
[null,null,null,null,null,null,null,null,null,null,null,"",null,{"$f":"IF(L49878=\"\",\"\",IF(M49878<Results!D$12,1,0))","v":""}]
[null,null,null,null,null,null,null,null,null,null,null,"",null,{"$f":"IF(L49879=\"\",\"\",IF(M49879<Results!D$12,1,0))","v":""}]
[null,null,null,null,null,null,null,null,null,null,null,"",null,{"$f":"IF(L49880=\"\",\"\",IF(M49880<Results!D$12,1,0))","v":""}]
[null,null,null,null,null,null,null,null,null,null,null,"",null,{"$f":"IF(L49881=\"\",\"\",IF(M49881<Results!D$12,1,0))","v":""}]
[null,null,null,null,null,null,null,null,null,null,null,"",null,{"$f":"IF(L49882=\"\",\"\",IF(M49882<Results!D$12,1,0))","v":""}]
[null,null,null,null,null,null,null,null,null,null,null,"",null,{"$f":"IF(L49883=\"\",\"\",IF(M49883<Results!D$12,1,0))","v":""}]
[null,null,null,null,null,null,null,null,null,null,null,"",null,{"$f":"IF(L49884=\"\",\"\",IF(M49884<Results!D$12,1,0))","v":""}]
[null,null,null,null,null,null,null,null,null,null,null,"",null,{"$f":"IF(L49885=\"\",\"\",IF(M49885<Results!D$12,1,0))","v":""}]
[null,null,null,null,null,null,null,null,null,null,null,"",null,{"$f":"IF(L49886=\"\",\"\",IF(M49886<Results!D$12,1,0))","v":""}]
[null,null,null,null,null,null,null,null,null,null,null,"",null,{"$f":"IF(L49887=\"\",\"\",IF(M49887<Results!D$12,1,0))","v":""}]
[null,null,null,null,null,null,null,null,null,null,null,"",null,{"$f":"IF(L49888=\"\",\"\",IF(M49888<Results!D$12,1,0))","v":""}]
[null,null,null,null,null,null,null,null,null,null,null,"",null,{"$f":"IF(L49889=\"\",\"\",IF(M49889<Results!D$12,1,0))","v":""}]
[null,null,null,null,null,null,null,null,null,null,null,"",null,{"$f":"IF(L49890=\"\",\"\",IF(M49890<Results!D$12,1,0))","v":""}]
[null,null,null,null,null,null,null,null,null,null,null,"",null,{"$f":"IF(L49891=\"\",\"\",IF(M49891<Results!D$12,1,0))","v":""}]
[null,null,null,null,null,null,null,null,null,null,null,"",null,{"$f":"IF(L49892=\"\",\"\",IF(M49892<Results!D$12,1,0))","v":""}]
[null,null,null,null,null,null,null,null,null,null,null,"",null,{"$f":"IF(L49893=\"\",\"\",IF(M49893<Results!D$12,1,0))","v":""}]
[null,null,null,null,null,null,null,null,null,null,null,"",null,{"$f":"IF(L49894=\"\",\"\",IF(M49894<Results!D$12,1,0))","v":""}]
[null,null,null,null,null,null,null,null,null,null,null,"",null,{"$f":"IF(L49895=\"\",\"\",IF(M49895<Results!D$12,1,0))","v":""}]
[null,null,null,null,null,null,null,null,null,null,null,"",null,{"$f":"IF(L49896=\"\",\"\",IF(M49896<Results!D$12,1,0))","v":""}]
[null,null,null,null,null,null,null,null,null,null,null,"",null,{"$f":"IF(L49897=\"\",\"\",IF(M49897<Results!D$12,1,0))","v":""}]
[null,null,null,null,null,null,null,null,null,null,null,"",null,{"$f":"IF(L49898=\"\",\"\",IF(M49898<Results!D$12,1,0))","v":""}]
[null,null,null,null,null,null,null,null,null,null,null,"",null,{"$f":"IF(L49899=\"\",\"\",IF(M49899<Results!D$12,1,0))","v":""}]
[null,null,null,null,null,null,null,null,null,null,null,"",null,{"$f":"IF(L49900=\"\",\"\",IF(M49900<Results!D$12,1,0))","v":""}]
[null,null,null,null,null,null,null,null,null,null,null,"",null,{"$f":"IF(L49901=\"\",\"\",IF(M49901<Results!D$12,1,0))","v":""}]
[null,null,null,null,null,null,null,null,null,null,null,"",null,{"$f":"IF(L49902=\"\",\"\",IF(M49902<Results!D$12,1,0))","v":""}]
[null,null,null,null,null,null,null,null,null,null,null,"",null,{"$f":"IF(L49903=\"\",\"\",IF(M49903<Results!D$12,1,0))","v":""}]
[null,null,null,null,null,null,null,null,null,null,null,"",null,{"$f":"IF(L49904=\"\",\"\",IF(M49904<Results!D$12,1,0))","v":""}]
[null,null,null,null,null,null,null,null,null,null,null,"",null,{"$f":"IF(L49905=\"\",\"\",IF(M49905<Results!D$12,1,0))","v":""}]
[null,null,null,null,null,null,null,null,null,null,null,"",null,{"$f":"IF(L49906=\"\",\"\",IF(M49906<Results!D$12,1,0))","v":""}]
[null,null,null,null,null,null,null,null,null,null,null,"",null,{"$f":"IF(L49907=\"\",\"\",IF(M49907<Results!D$12,1,0))","v":""}]
[null,null,null,null,null,null,null,null,null,null,null,"",null,{"$f":"IF(L49908=\"\",\"\",IF(M49908<Results!D$12,1,0))","v":""}]
[null,null,null,null,null,null,null,null,null,null,null,"",null,{"$f":"IF(L49909=\"\",\"\",IF(M49909<Results!D$12,1,0))","v":""}]
[null,null,null,null,null,null,null,null,null,null,null,"",null,{"$f":"IF(L49910=\"\",\"\",IF(M49910<Results!D$12,1,0))","v":""}]
[null,null,null,null,null,null,null,null,null,null,null,"",null,{"$f":"IF(L49911=\"\",\"\",IF(M49911<Results!D$12,1,0))","v":""}]
[null,null,null,null,null,null,null,null,null,null,null,"",null,{"$f":"IF(L49912=\"\",\"\",IF(M49912<Results!D$12,1,0))","v":""}]
[null,null,null,null,null,null,null,null,null,null,null,"",null,{"$f":"IF(L49913=\"\",\"\",IF(M49913<Results!D$12,1,0))","v":""}]
[null,null,null,null,null,null,null,null,null,null,null,"",null,{"$f":"IF(L49914=\"\",\"\",IF(M49914<Results!D$12,1,0))","v":""}]
[null,null,null,null,null,null,null,null,null,null,null,"",null,{"$f":"IF(L49915=\"\",\"\",IF(M49915<Results!D$12,1,0))","v":""}]
[null,null,null,null,null,null,null,null,null,null,null,"",null,{"$f":"IF(L49916=\"\",\"\",IF(M49916<Results!D$12,1,0))","v":""}]
[null,null,null,null,null,null,null,null,null,null,null,"",null,{"$f":"IF(L49917=\"\",\"\",IF(M49917<Results!D$12,1,0))","v":""}]
[null,null,null,null,null,null,null,null,null,null,null,"",null,{"$f":"IF(L49918=\"\",\"\",IF(M49918<Results!D$12,1,0))","v":""}]
[null,null,null,null,null,null,null,null,null,null,null,"",null,{"$f":"IF(L49919=\"\",\"\",IF(M49919<Results!D$12,1,0))","v":""}]
[null,null,null,null,null,null,null,null,null,null,null,"",null,{"$f":"IF(L49920=\"\",\"\",IF(M49920<Results!D$12,1,0))","v":""}]
[null,null,null,null,null,null,null,null,null,null,null,"",null,{"$f":"IF(L49921=\"\",\"\",IF(M49921<Results!D$12,1,0))","v":""}]
[null,null,null,null,null,null,null,null,null,null,null,"",null,{"$f":"IF(L49922=\"\",\"\",IF(M49922<Results!D$12,1,0))","v":""}]
[null,null,null,null,null,null,null,null,null,null,null,{"$f":"IF(M49923=\"\",\"\",ROW(L49923)-1)","v":""},null,{"$f":"IF(L49923=\"\",\"\",IF(M49923<Results!D$12,1,0))","v":""}]
[null,null,null,null,null,null,null,null,null,null,null,"",null,{"$f":"IF(L49924=\"\",\"\",IF(M49924<Results!D$12,1,0))","v":""}]
[null,null,null,null,null,null,null,null,null,null,null,"",null,{"$f":"IF(L49925=\"\",\"\",IF(M49925<Results!D$12,1,0))","v":""}]
[null,null,null,null,null,null,null,null,null,null,null,"",null,{"$f":"IF(L49926=\"\",\"\",IF(M49926<Results!D$12,1,0))","v":""}]
[null,null,null,null,null,null,null,null,null,null,null,"",null,{"$f":"IF(L49927=\"\",\"\",IF(M49927<Results!D$12,1,0))","v":""}]
[null,null,null,null,null,null,null,null,null,null,null,"",null,{"$f":"IF(L49928=\"\",\"\",IF(M49928<Results!D$12,1,0))","v":""}]
[null,null,null,null,null,null,null,null,null,null,null,"",null,{"$f":"IF(L49929=\"\",\"\",IF(M49929<Results!D$12,1,0))","v":""}]
[null,null,null,null,null,null,null,null,null,null,null,"",null,{"$f":"IF(L49930=\"\",\"\",IF(M49930<Results!D$12,1,0))","v":""}]
[null,null,null,null,null,null,null,null,null,null,null,"",null,{"$f":"IF(L49931=\"\",\"\",IF(M49931<Results!D$12,1,0))","v":""}]
[null,null,null,null,null,null,null,null,null,null,null,"",null,{"$f":"IF(L49932=\"\",\"\",IF(M49932<Results!D$12,1,0))","v":""}]
[null,null,null,null,null,null,null,null,null,null,null,"",null,{"$f":"IF(L49933=\"\",\"\",IF(M49933<Results!D$12,1,0))","v":""}]
[null,null,null,null,null,null,null,null,null,null,null,"",null,{"$f":"IF(L49934=\"\",\"\",IF(M49934<Results!D$12,1,0))","v":""}]
[null,null,null,null,null,null,null,null,null,null,null,"",null,{"$f":"IF(L49935=\"\",\"\",IF(M49935<Results!D$12,1,0))","v":""}]
[null,null,null,null,null,null,null,null,null,null,null,"",null,{"$f":"IF(L49936=\"\",\"\",IF(M49936<Results!D$12,1,0))","v":""}]
[null,null,null,null,null,null,null,null,null,null,null,"",null,{"$f":"IF(L49937=\"\",\"\",IF(M49937<Results!D$12,1,0))","v":""}]
[null,null,null,null,null,null,null,null,null,null,null,"",null,{"$f":"IF(L49938=\"\",\"\",IF(M49938<Results!D$12,1,0))","v":""}]
[null,null,null,null,null,null,null,null,null,null,null,"",null,{"$f":"IF(L49939=\"\",\"\",IF(M49939<Results!D$12,1,0))","v":""}]
[null,null,null,null,null,null,null,null,null,null,null,"",null,{"$f":"IF(L49940=\"\",\"\",IF(M49940<Results!D$12,1,0))","v":""}]
[null,null,null,null,null,null,null,null,null,null,null,"",null,{"$f":"IF(L49941=\"\",\"\",IF(M49941<Results!D$12,1,0))","v":""}]
[null,null,null,null,null,null,null,null,null,null,null,"",null,{"$f":"IF(L49942=\"\",\"\",IF(M49942<Results!D$12,1,0))","v":""}]
[null,null,null,null,null,null,null,null,null,null,null,"",null,{"$f":"IF(L49943=\"\",\"\",IF(M49943<Results!D$12,1,0))","v":""}]
[null,null,null,null,null,null,null,null,null,null,null,"",null,{"$f":"IF(L49944=\"\",\"\",IF(M49944<Results!D$12,1,0))","v":""}]
[null,null,null,null,null,null,null,null,null,null,null,"",null,{"$f":"IF(L49945=\"\",\"\",IF(M49945<Results!D$12,1,0))","v":""}]
[null,null,null,null,null,null,null,null,null,null,null,"",null,{"$f":"IF(L49946=\"\",\"\",IF(M49946<Results!D$12,1,0))","v":""}]
[null,null,null,null,null,null,null,null,null,null,null,"",null,{"$f":"IF(L49947=\"\",\"\",IF(M49947<Results!D$12,1,0))","v":""}]
[null,null,null,null,null,null,null,null,null,null,null,"",null,{"$f":"IF(L49948=\"\",\"\",IF(M49948<Results!D$12,1,0))","v":""}]
[null,null,null,null,null,null,null,null,null,null,null,"",null,{"$f":"IF(L49949=\"\",\"\",IF(M49949<Results!D$12,1,0))","v":""}]
[null,null,null,null,null,null,null,null,null,null,null,"",null,{"$f":"IF(L49950=\"\",\"\",IF(M49950<Results!D$12,1,0))","v":""}]
[null,null,null,null,null,null,null,null,null,null,null,"",null,{"$f":"IF(L49951=\"\",\"\",IF(M49951<Results!D$12,1,0))","v":""}]
[null,null,null,null,null,null,null,null,null,null,null,"",null,{"$f":"IF(L49952=\"\",\"\",IF(M49952<Results!D$12,1,0))","v":""}]
[null,null,null,null,null,null,null,null,null,null,null,"",null,{"$f":"IF(L49953=\"\",\"\",IF(M49953<Results!D$12,1,0))","v":""}]
[null,null,null,null,null,null,null,null,null,null,null,"",null,{"$f":"IF(L49954=\"\",\"\",IF(M49954<Results!D$12,1,0))","v":""}]
[null,null,null,null,null,null,null,null,null,null,null,"",null,{"$f":"IF(L49955=\"\",\"\",IF(M49955<Results!D$12,1,0))","v":""}]
[null,null,null,null,null,null,null,null,null,null,null,"",null,{"$f":"IF(L49956=\"\",\"\",IF(M49956<Results!D$12,1,0))","v":""}]
[null,null,null,null,null,null,null,null,null,null,null,"",null,{"$f":"IF(L49957=\"\",\"\",IF(M49957<Results!D$12,1,0))","v":""}]
[null,null,null,null,null,null,null,null,null,null,null,"",null,{"$f":"IF(L49958=\"\",\"\",IF(M49958<Results!D$12,1,0))","v":""}]
[null,null,null,null,null,null,null,null,null,null,null,"",null,{"$f":"IF(L49959=\"\",\"\",IF(M49959<Results!D$12,1,0))","v":""}]
[null,null,null,null,null,null,null,null,null,null,null,"",null,{"$f":"IF(L49960=\"\",\"\",IF(M49960<Results!D$12,1,0))","v":""}]
[null,null,null,null,null,null,null,null,null,null,null,"",null,{"$f":"IF(L49961=\"\",\"\",IF(M49961<Results!D$12,1,0))","v":""}]
[null,null,null,null,null,null,null,null,null,null,null,"",null,{"$f":"IF(L49962=\"\",\"\",IF(M49962<Results!D$12,1,0))","v":""}]
[null,null,null,null,null,null,null,null,null,null,null,"",null,{"$f":"IF(L49963=\"\",\"\",IF(M49963<Results!D$12,1,0))","v":""}]
[null,null,null,null,null,null,null,null,null,null,null,"",null,{"$f":"IF(L49964=\"\",\"\",IF(M49964<Results!D$12,1,0))","v":""}]
[null,null,null,null,null,null,null,null,null,null,null,"",null,{"$f":"IF(L49965=\"\",\"\",IF(M49965<Results!D$12,1,0))","v":""}]
[null,null,null,null,null,null,null,null,null,null,null,"",null,{"$f":"IF(L49966=\"\",\"\",IF(M49966<Results!D$12,1,0))","v":""}]
[null,null,null,null,null,null,null,null,null,null,null,"",null,{"$f":"IF(L49967=\"\",\"\",IF(M49967<Results!D$12,1,0))","v":""}]
[null,null,null,null,null,null,null,null,null,null,null,"",null,{"$f":"IF(L49968=\"\",\"\",IF(M49968<Results!D$12,1,0))","v":""}]
[null,null,null,null,null,null,null,null,null,null,null,"",null,{"$f":"IF(L49969=\"\",\"\",IF(M49969<Results!D$12,1,0))","v":""}]
[null,null,null,null,null,null,null,null,null,null,null,"",null,{"$f":"IF(L49970=\"\",\"\",IF(M49970<Results!D$12,1,0))","v":""}]
[null,null,null,null,null,null,null,null,null,null,null,"",null,{"$f":"IF(L49971=\"\",\"\",IF(M49971<Results!D$12,1,0))","v":""}]
[null,null,null,null,null,null,null,null,null,null,null,"",null,{"$f":"IF(L49972=\"\",\"\",IF(M49972<Results!D$12,1,0))","v":""}]
[null,null,null,null,null,null,null,null,null,null,null,"",null,{"$f":"IF(L49973=\"\",\"\",IF(M49973<Results!D$12,1,0))","v":""}]
[null,null,null,null,null,null,null,null,null,null,null,"",null,{"$f":"IF(L49974=\"\",\"\",IF(M49974<Results!D$12,1,0))","v":""}]
[null,null,null,null,null,null,null,null,null,null,null,"",null,{"$f":"IF(L49975=\"\",\"\",IF(M49975<Results!D$12,1,0))","v":""}]
[null,null,null,null,null,null,null,null,null,null,null,"",null,{"$f":"IF(L49976=\"\",\"\",IF(M49976<Results!D$12,1,0))","v":""}]
[null,null,null,null,null,null,null,null,null,null,null,"",null,{"$f":"IF(L49977=\"\",\"\",IF(M49977<Results!D$12,1,0))","v":""}]
[null,null,null,null,null,null,null,null,null,null,null,"",null,{"$f":"IF(L49978=\"\",\"\",IF(M49978<Results!D$12,1,0))","v":""}]
[null,null,null,null,null,null,null,null,null,null,null,"",null,{"$f":"IF(L49979=\"\",\"\",IF(M49979<Results!D$12,1,0))","v":""}]
[null,null,null,null,null,null,null,null,null,null,null,"",null,{"$f":"IF(L49980=\"\",\"\",IF(M49980<Results!D$12,1,0))","v":""}]
[null,null,null,null,null,null,null,null,null,null,null,"",null,{"$f":"IF(L49981=\"\",\"\",IF(M49981<Results!D$12,1,0))","v":""}]
[null,null,null,null,null,null,null,null,null,null,null,"",null,{"$f":"IF(L49982=\"\",\"\",IF(M49982<Results!D$12,1,0))","v":""}]
[null,null,null,null,null,null,null,null,null,null,null,"",null,{"$f":"IF(L49983=\"\",\"\",IF(M49983<Results!D$12,1,0))","v":""}]
[null,null,null,null,null,null,null,null,null,null,null,"",null,{"$f":"IF(L49984=\"\",\"\",IF(M49984<Results!D$12,1,0))","v":""}]
[null,null,null,null,null,null,null,null,null,null,null,"",null,{"$f":"IF(L49985=\"\",\"\",IF(M49985<Results!D$12,1,0))","v":""}]
[null,null,null,null,null,null,null,null,null,null,null,"",null,{"$f":"IF(L49986=\"\",\"\",IF(M49986<Results!D$12,1,0))","v":""}]
[null,null,null,null,null,null,null,null,null,null,null,{"$f":"IF(M49987=\"\",\"\",ROW(L49987)-1)","v":""},null,{"$f":"IF(L49987=\"\",\"\",IF(M49987<Results!D$12,1,0))","v":""}]
[null,null,null,null,null,null,null,null,null,null,null,"",null,{"$f":"IF(L49988=\"\",\"\",IF(M49988<Results!D$12,1,0))","v":""}]
[null,null,null,null,null,null,null,null,null,null,null,"",null,{"$f":"IF(L49989=\"\",\"\",IF(M49989<Results!D$12,1,0))","v":""}]
[null,null,null,null,null,null,null,null,null,null,null,"",null,{"$f":"IF(L49990=\"\",\"\",IF(M49990<Results!D$12,1,0))","v":""}]
[null,null,null,null,null,null,null,null,null,null,null,"",null,{"$f":"IF(L49991=\"\",\"\",IF(M49991<Results!D$12,1,0))","v":""}]
[null,null,null,null,null,null,null,null,null,null,null,"",null,{"$f":"IF(L49992=\"\",\"\",IF(M49992<Results!D$12,1,0))","v":""}]
[null,null,null,null,null,null,null,null,null,null,null,"",null,{"$f":"IF(L49993=\"\",\"\",IF(M49993<Results!D$12,1,0))","v":""}]
[null,null,null,null,null,null,null,null,null,null,null,"",null,{"$f":"IF(L49994=\"\",\"\",IF(M49994<Results!D$12,1,0))","v":""}]
[null,null,null,null,null,null,null,null,null,null,null,"",null,{"$f":"IF(L49995=\"\",\"\",IF(M49995<Results!D$12,1,0))","v":""}]
[null,null,null,null,null,null,null,null,null,null,null,"",null,{"$f":"IF(L49996=\"\",\"\",IF(M49996<Results!D$12,1,0))","v":""}]
[null,null,null,null,null,null,null,null,null,null,null,"",null,{"$f":"IF(L49997=\"\",\"\",IF(M49997<Results!D$12,1,0))","v":""}]
[null,null,null,null,null,null,null,null,null,null,null,"",null,{"$f":"IF(L49998=\"\",\"\",IF(M49998<Results!D$12,1,0))","v":""}]
[null,null,null,null,null,null,null,null,null,null,null,"",null,{"$f":"IF(L49999=\"\",\"\",IF(M49999<Results!D$12,1,0))","v":""}]
[null,null,null,null,null,null,null,null,null,null,null,"",null,{"$f":"IF(L50000=\"\",\"\",IF(M50000<Results!D$12,1,0))","v":""}]
[null,null,null,null,null,null,null,null,null,null,null,"",null,{"$f":"IF(L50001=\"\",\"\",IF(M50001<Results!D$12,1,0))","v":""}]